Workbook
Name cisloobjektu: 'Krycí list'!$A$5
Name cislostavby: 'Krycí list'!$A$7
Name Datum: 'Krycí list'!$B$28
Name Dil: Rekapitulace!$A$7
Name Dodavka: Rekapitulace!$G$23
Name Dodavka0: Položky!#REF!
Name HSV: Rekapitulace!$E$23
Name HSV0: Položky!#REF!
Name HZS: Rekapitulace!$I$23
Name HZS0: Položky!#REF!
Name JKSO: 'Krycí list'!$G$2
Name MJ: 'Krycí list'!$G$5
Name Mont: Rekapitulace!$H$23
Name Montaz0: Položky!#REF!
Name NazevDilu: Rekapitulace!$B$7
Name nazevobjektu: 'Krycí list'!$C$5
Name nazevstavby: 'Krycí list'!$C$7
Name Objednatel: 'Krycí list'!$C$11
Name PocetMJ: 'Krycí list'!$G$6
Name Poznamka: 'Krycí list'!$B$38
Name Projektant: 'Krycí list'!$C$9
Name PSV: Rekapitulace!$F$23
Name PSV0: Položky!#REF!
Name SazbaDPH1: 'Krycí list'!$C$31
Name SazbaDPH2: 'Krycí list'!$C$33
Name SloupecCC: Položky!$G$7
Name SloupecCisloPol: Položky!$B$7
Name SloupecJC: Položky!$F$7
Name SloupecMJ: Položky!$D$7
Name SloupecMnozstvi: Položky!$E$7
Name SloupecNazPol: Položky!$C$7
Name SloupecPC: Položky!$A$7
Name Typ: Položky!#REF!
Name VRN: Rekapitulace!$H$36
Name VRNKc: Rekapitulace!#REF!
Name VRNnazev: Rekapitulace!#REF!
Name VRNproc: Rekapitulace!#REF!
Name VRNzakl: Rekapitulace!#REF!
Name Zakazka: 'Krycí list'!$G$12
Name Zaklad22: 'Krycí list'!$F$33
Name Zaklad5: 'Krycí list'!$F$31
Name Zhotovitel: 'Krycí list'!$C$12:$E$12

Sheet Krycí list
A1: SLEPÝ ROZPOČET
A2: Rozpočet | C2: =Rekapitulace!H1 -> 0 | F2: JKSO
A4: Objekt | C4: Název objektu | F4: SKP
A5: 01 | C5: Akumulační nádrže | F5: Měrná jednotka
A6: Stavba | C6: Název stavby | F6: Počet jednotek | G6: 0
A7: 2019/20 | C7: Jímání dešťových vod objektu DCHB Praha - | F7: Náklady na m.j. | G7: =IF(PocetMJ=0,,ROUND((F31+F33)/PocetMJ,1)) -> 0
C8: Kunratice
A9: Projektant | F9: Typ rozpočtu
A10: Zpracovatel projektu | C10: =Projektant -> 0
A11: Objednatel
A12: Dodavatel | F12: Zakázkové číslo
A13: Rozpočtoval | F13: Počet listů
A14: ROZPOČTOVÉ NÁKLADY
A15: Základní rozpočtové náklady | D15: Ostatní rozpočtové náklady
B16: HSV celkem | C16: =HSV -> 0 | D16: =Rekapitulace!A28 -> Ztížené výrobní podmínky | G16: =Rekapitulace!I28 -> 0
A17: Z | B17: PSV celkem | C17: =PSV -> 0 | D17: =Rekapitulace!A29 -> Oborová přirážka | G17: =Rekapitulace!I29 -> 0
A18: R | B18: M práce celkem | C18: =Mont -> 0 | D18: =Rekapitulace!A30 -> Přesun stavebních kapacit | G18: =Rekapitulace!I30 -> 0
A19: N | B19: M dodávky celkem | C19: =Dodavka -> 0 | D19: =Rekapitulace!A31 -> Mimostaveništní doprava | G19: =Rekapitulace!I31 -> 0
A20: ZRN celkem | C20: =SUM(C16:C19) -> 0 | D20: =Rekapitulace!A32 -> Zařízení staveniště | G20: =Rekapitulace!I32 -> 0
D21: =Rekapitulace!A33 -> Provoz investora | G21: =Rekapitulace!I33 -> 0
A22: HZS | C22: =HZS -> 0 | D22: =Rekapitulace!A34 -> Kompletační činnost (IČD) | G22: =Rekapitulace!I34 -> 0
A23: ZRN+HZS | C23: =C20+C22 -> 0 | D23: Ostatní náklady neuvedené | G23: =G24-SUM(G16:G22) -> 0
A24: ZRN+ost.náklady+HZS | C24: =C23+G24 -> 0 | D24: Ostatní náklady celkem | G24: =VRN -> 0
A25: Vypracoval | D25: Za zhotovitele | F25: Za objednatele
A26: Jméno : | D26: Jméno : | F26: Jméno :
A27: Datum : | D27: Datum : | F27: Datum :
A29: Podpis : | D29: Podpis: | F29: Podpis:
A31: Základ pro DPH | C31: 21 | D31: % | F31: =C24-F33 -> 0
A32: DPH | C32: =SazbaDPH1 -> 21 | D32: % | F32: =ROUND(PRODUCT(F31,C32/100),0) -> 0
A33: Základ pro DPH | C33: 0 | D33: % | F33: 0
A34: DPH | C34: =SazbaDPH2 -> 0 | D34: % | F34: =ROUND(PRODUCT(F33,C34/100),0) -> 0
A35: CENA ZA OBJEKT CELKEM | F35: =ROUND(SUM(F31:F34),0) -> 0
A37: Poznámka :

Sheet Rekapitulace
A1: Stavba : | C1: 201/19 Jímání dešťových vod objektu | G1: Rozpočet :
C2: DCHB Praha - Kunratice
A3: Objekt : | C3: =CONCATENATE(cisloobjektu," ",nazevobjektu) -> 01 Akumulační nádrže
A5: REKAPITULACE STAVEBNÍCH DÍLŮ
B7: Stavební díl | E7: HSV | F7: PSV | G7: Dodávka | H7: Montáž | I7: HZS
A8: =Položky!B8 -> 1 | B8: =Položky!C8 -> Zemní práce | E8: =Položky!G107 -> 0 | F8: =Položky!R107 -> 0 | G8: =Položky!S107 -> 0 | H8: =Položky!T107 -> 0 | I8: =Položky!U107 -> 0
A9: =Položky!B108 -> 11 | B9: =Položky!C108 -> Přípravné a přidružené práce | E9: =Položky!Q113 -> 0 | F9: =Položky!R113 -> 0 | G9: =Položky!S113 -> 0 | H9: =Položky!T113 -> 0 | I9: =Položky!U113 -> 0
A10: =Položky!B114 -> 2 | B10: =Položky!C114 -> Základy a zvláštní zakládání | E10: =Položky!G133 -> 0 | F10: =Položky!R133 -> 0 | G10: =Položky!S133 -> 0 | H10: =Položky!T133 -> 0 | I10: =Položky!U133 -> 0
A11: =Položky!B134 -> 4 | B11: =Položky!C134 -> Vodorovné konstrukce | E11: =Položky!Q137 -> 0 | F11: =Položky!R137 -> 0 | G11: =Položky!S137 -> 0 | H11: =Položky!T137 -> 0 | I11: =Položky!U137 -> 0
A12: =Položky!B138 -> 61 | B12: =Položky!C138 -> Upravy povrchů vnitřní | E12: =Položky!Q141 -> 0 | F12: =Položky!R141 -> 0 | G12: =Položky!S141 -> 0 | H12: =Položky!T141 -> 0 | I12: =Položky!U141 -> 0
A13: 5 | B13: Komunikace | E13: =Položky!G161 -> 0 | F13: 0 | G13: 0 | H13: 0 | I13: 0
A14: =Položky!B162 -> 8 | B14: =Položky!C162 -> Trubní vedení | E14: =Položky!Q181 -> 0 | F14: =Položky!R181 -> 0 | G14: =Položky!S181 -> 0 | H14: =Položky!T181 -> 0 | I14: =Položky!U181 -> 0
A15: 9 | B15: Ostatní konstrukce a práce,bourání | E15: =Položky!G198 -> 0 | F15: 0 | G15: 0 | H15: 0 | I15: 0
A16: =Položky!B199 -> 97 | B16: =Položky!C199 -> Prorážení otvorů | E16: =Položky!Q207 -> 0 | F16: =Položky!R207 -> 0 | G16: =Položky!S207 -> 0 | H16: =Položky!T207 -> 0 | I16: =Položky!U207 -> 0
A17: =Položky!B208 -> 99 | B17: =Položky!C208 -> Staveništní přesun hmot | E17: =Položky!Q210 -> 0 | F17: =Položky!R210 -> 0 | G17: =Položky!S210 -> 0 | H17: =Položky!T210 -> 0 | I17: =Položky!U210 -> 0
A18: =Položky!B211 -> 721 | B18: =Položky!C211 -> Vnitřní kanalizace | E18: =Položky!Q217 -> 0 | F18: =Položky!R217 -> 0 | G18: =Položky!S217 -> 0 | H18: =Položky!T217 -> 0 | I18: =Položky!U217 -> 0
A19: =Položky!B218 -> 722 | B19: =Položky!C218 -> Vnitřní vodovod | E19: =Položky!Q223 -> 0 | F19: =Položky!R223 -> 0 | G19: =Položky!S223 -> 0 | H19: =Položky!T223 -> 0 | I19: =Položky!U223 -> 0
A20: =Položky!B224 -> 725 | B20: =Položky!C224 -> Zařizovací předměty | E20: =Položky!Q229 -> 0 | F20: =Položky!R229 -> 0 | G20: =Položky!S229 -> 0 | H20: =Položky!T229 -> 0 | I20: =Položky!U229 -> 0
A21: =Položky!B230 -> M21 | B21: =Položky!C230 -> Elektromontáže | E21: =Položky!Q233 -> 0 | F21: =Položky!R233 -> 0 | G21: =Položky!S233 -> 0 | H21: =Položky!T233 -> 0 | I21: =Položky!U233 -> 0
A22: =Položky!B234 -> D96 | B22: =Položky!C234 -> Přesuny suti a vybouraných hmot | E22: =Položky!G241 -> 0 | F22: =Položky!R241 -> 0 | G22: =Položky!S241 -> 0 | H22: =Položky!T241 -> 0 | I22: =Položky!U241 -> 0
B23: CELKEM OBJEKT | E23: =SUM(E8:E22) -> 0 | F23: =SUM(F8:F22) -> 0 | G23: =SUM(G8:G22) -> 0 | H23: =SUM(H8:H22) -> 0 | I23: =SUM(I8:I22) -> 0
A25: VEDLEJŠÍ ROZPOČTOVÉ NÁKLADY
A27: Název VRN | E27: Kč | F27: % | G27: Základna | I27: Kč
A28: Ztížené výrobní podmínky | E28: 0 | F28: 0 | G28: =HSV+PSV+Mont -> 0 | I28: =E28+F28*G28/100 -> 0 | BA28: 0
A29: Oborová přirážka | E29: 0 | F29: 0 | G29: =G28 -> 0 | I29: =E29+F29*G29/100 -> 0 | BA29: 0
A30: Přesun stavebních kapacit | E30: 0 | F30: 0 | G30: =G28 -> 0 | I30: =E30+F30*G30/100 -> 0 | BA30: 0
A31: Mimostaveništní doprava | E31: 0 | F31: 0 | G31: =G28 -> 0 | I31: =E31+F31*G31/100 -> 0 | BA31: 0
A32: Zařízení staveniště | E32: 0 | F32: 0 | G32: =CHOOSE(BA32+1,HSV+PSV,HSV+PSV+Mont,HSV+PSV+Dodavka+Mont,HSV,PSV,Mont,Dodavka,Mont+Dodavka,0) -> 0 | I32: =E32+F32*G32/100 -> 0 | BA32: 1
A33: Provoz investora | E33: 0 | F33: 0 | G33: =CHOOSE(BA33+1,HSV+PSV,HSV+PSV+Mont,HSV+PSV+Dodavka+Mont,HSV,PSV,Mont,Dodavka,Mont+Dodavka,0) -> 0 | I33: =E33+F33*G33/100 -> 0 | BA33: 1
A34: Kompletační činnost (IČD) | E34: 0 | F34: 0 | G34: =CHOOSE(BA34+1,HSV+PSV,HSV+PSV+Mont,HSV+PSV+Dodavka+Mont,HSV,PSV,Mont,Dodavka,Mont+Dodavka,0) -> 0 | I34: =E34+F34*G34/100 -> 0 | BA34: 2
A35: Rezerva rozpočtu | E35: 0 | F35: 0 | G35: =CHOOSE(BA35+1,HSV+PSV,HSV+PSV+Mont,HSV+PSV+Dodavka+Mont,HSV,PSV,Mont,Dodavka,Mont+Dodavka,0) -> 0 | I35: =E35+F35*G35/100 -> 0 | BA35: 2
B36: CELKEM VRN | H36: =SUM(I28:I35) -> 0

Sheet Položky
A1: Položkový rozpočet
A3: Stavba : | C3: 201/19 Jímání dešťových vod objektu
C4: DCHB Praha - Kunratice
A5: Objekt : | C5: =CONCATENATE(cisloobjektu," ",nazevobjektu) -> 01 Akumulační nádrže | E5: =Rekapitulace!G3 -> 0
A7: P.č. | B7: Číslo položky | C7: Název položky | D7: MJ | E7: množství | F7: cena / MJ | G7: celkem (Kč)
A8: Díl: | B8: 1 | C8: Zemní práce
A9: 1 | B9: 111104213R00 | C9: Pokosení trávníku parkov. | D9: m2 | E9: 200 | F9: 0 | G9: =E9*F9 -> 0 | P9: 1 | Q9: =IF(P9=1,G9,0) -> 0 | R9: =IF(P9=2,G9,0) -> 0 | S9: =IF(P9=3,G9,0) -> 0 | T9: =IF(P9=4,G9,0) -> 0 | U9: =IF(P9=5,G9,0) -> 0 | AQ9: 1 | AR9: 1 | BP9: 0
C10: první seč po založení trávníků: 200 | E10: 200
A11: 2 | B11: 121101101R00 | C11: Sejmutí ornice s přemístěním do 50 m | D11: m3 | E11: 26.11 | F11: 0 | G11: =E11*F11 -> 0 | P11: 1 | Q11: =IF(P11=1,G11,0) -> 0 | R11: =IF(P11=2,G11,0) -> 0 | S11: =IF(P11=3,G11,0) -> 0 | T11: =IF(P11=4,G11,0) -> 0 | U11: =IF(P11=5,G11,0) -> 0 | AQ11: 1 | AR11: 1 | BP11: 0
C12: plocha výkopu pro AN1 a AN2 včetně 1m na každou stranu: (6*6)*0,2*2 | E12: 14.4
C13: trasa nové kanalizace AN1 včetně zeminy 0,5 m na každou stranu: (1,5+1,5+2,5)*2*0,2 | E13: 2.2
C14: trasa vodovodního potrubí včetně zeminy na každou stranu 0,5 m AN2: (3,2+5)*1,5*0,2 | E14: 2.46
C15: trasa elektropřípojky k AN1 a AN2: (1,5+48+2+2+2+14+1)*0,5*0,2 | E15: 7.05
A16: 3 | B16: 122202509R00 | C16: Příplatek za lepivost pro hor. 3 | D16: m3 | E16: 132.175 | F16: 0 | G16: =E16*F16 -> 0 | P16: 1 | Q16: =IF(P16=1,G16,0) -> 0 | R16: =IF(P16=2,G16,0) -> 0 | S16: =IF(P16=3,G16,0) -> 0 | T16: =IF(P16=4,G16,0) -> 0 | U16: =IF(P16=5,G16,0) -> 0 | AQ16: 1 | AR16: 1 | BP16: 0
C17: elektropřípojka: (0,3*0,5)*70,5 | E17: 10.575
C18: nová kanalizace z AN1: (1*1)*(1,5+1,5+2,5) | E18: 5.5
C19: vodovodní potrubí z AN2: (1*0,5)*(3,2+5) | E19: 4.1
C20: AN1 + AN2: (4*4)*3,5*2 | E20: 112
A21: 4 | B21: 131201101R00 | C21: Hloubení nezapažených jam v hor.3 do 100 m3 | D21: m3 | E21: =E22 -> 153.6 | F21: 0 | G21: =E21*F21 -> 0 | P21: 1 | Q21: =IF(P21=1,G21,0) -> 0 | R21: =IF(P21=2,G21,0) -> 0 | S21: =IF(P21=3,G21,0) -> 0 | T21: =IF(P21=4,G21,0) -> 0 | U21: =IF(P21=5,G21,0) -> 0 | AQ21: 1 | AR21: 1 | BP21: 0
C22: AN1+AN2: (4*4)*4,8*2 | E22: 153.6
A23: 5 | B23: 132201201R00 | C23: Hloubení rýh šířky do 200 cm v hor.3 do 100 m3 | D23: m3 | E23: =E24+E25 -> 22.1 | F23: 0 | G23: =E23*F23 -> 0 | P23: 1 | Q23: =IF(P23=1,G23,0) -> 0 | R23: =IF(P23=2,G23,0) -> 0 | S23: =IF(P23=3,G23,0) -> 0 | T23: =IF(P23=4,G23,0) -> 0 | U23: =IF(P23=5,G23,0) -> 0 | AQ23: 1 | AR23: 1 | BP23: 0
C24: nová kanalizace z AN1: (1*1,7)*(1,5+1,5+2,5) | E24: 12.75
C25: vodovodní potrubí z AN2: (1*1,7)*(3,2+5) | E25: 9.35
A26: 6 | B26: 132211215U00 | C26: Rýhy ručně výkop š 20cm, hl 50cm, tř.2 | D26: m | E26: 70.5 | F26: 0 | G26: =E26*F26 -> 0 | P26: 1 | Q26: =IF(P26=1,G26,0) -> 0 | R26: =IF(P26=2,G26,0) -> 0 | S26: =IF(P26=3,G26,0) -> 0 | T26: =IF(P26=4,G26,0) -> 0 | U26: =IF(P26=5,G26,0) -> 0 | AQ26: 1 | AR26: 1 | BP26: 0
C27: elektropřípojka: 1,5+48+2+2+2+14+1 | E27: 70.5
A28: 7 | B28: 161101101R00 | C28: Svislé přemístění výkopku z hor.1-4 do 2,5 m | D28: m3 | E28: =E29+E30 -> 22.1 | F28: 0 | G28: =E28*F28 -> 0 | P28: 1 | Q28: =IF(P28=1,G28,0) -> 0 | R28: =IF(P28=2,G28,0) -> 0 | S28: =IF(P28=3,G28,0) -> 0 | T28: =IF(P28=4,G28,0) -> 0 | U28: =IF(P28=5,G28,0) -> 0 | AQ28: 1 | AR28: 1 | BP28: 0
C29: nová kanalizace z AN1: (1*1,7)*(1,5+1,5+2,5) | E29: 12.75
C30: vodovodní potrubí z AN2: (1*1,7)*(3,2+5) | E30: 9.35
A31: 8 | B31: 161101102R00 | C31: Svislé přemístění výkopku z hor.1-4 do 4,0 m | D31: m3 | E31: 134.4 | F31: 0 | G31: =E31*F31 -> 0 | P31: 1 | Q31: =IF(P31=1,G31,0) -> 0 | R31: =IF(P31=2,G31,0) -> 0 | S31: =IF(P31=3,G31,0) -> 0 | T31: =IF(P31=4,G31,0) -> 0 | U31: =IF(P31=5,G31,0) -> 0 | AQ31: 1 | AR31: 1 | BP31: 0
C32: AN1 + AN2: (4*4)*4,8*2 | E32: 134.4
A33: 9 | B33: 162201102R00 | C33: Vodorovné přemístění výkopku z hor.1-4 do 50 m | D33: m3 | E33: =E39+E41+E42+E43+E44 -> 133.175 | F33: 0 | G33: =E33*F33 -> 0 | P33: 1 | Q33: =IF(P33=1,G33,0) -> 0 | R33: =IF(P33=2,G33,0) -> 0 | S33: =IF(P33=3,G33,0) -> 0 | T33: =IF(P33=4,G33,0) -> 0 | U33: =IF(P33=5,G33,0) -> 0 | AQ33: 1 | AR33: 1 | BP33: 0
C34: nový zásypový materiál: | E34: 0
C35: Začátek provozního součtu | E35: 0
C36: AN1 + AN2: (4*4)*4,8*2 | E36: 134.4
C37: odpočet samotné nádrže: -(14,5*2) | E37: -29
C38: Konec provozního součtu | E38: 105.4
C39: 83 | E39: 105.4
C40: Přebytečná zemina: | E40: 0
C41: elektropřípojka: (0,1*0,5)*70,5 | E41: 3.525
C42: nová kanalizace z AN1: (1*0,3)*(1,5+1,5+2,5) | E42: 1.65
C43: vodovodní potrubí z AN2: (2*0,5)*(3,2+5) | E43: 8.2
C44: AN1 + AN2: (4*4)*0,45*2 | E44: 14.4
A45: 10 | B45: 162701105R00 | C45: Vodorovné přemístění výkopku z hor.1-4 do 10000 m | D45: m3 | E45: 133.18 | F45: 0 | G45: =E45*F45 -> 0 | P45: 1 | Q45: =IF(P45=1,G45,0) -> 0 | R45: =IF(P45=2,G45,0) -> 0 | S45: =IF(P45=3,G45,0) -> 0 | T45: =IF(P45=4,G45,0) -> 0 | U45: =IF(P45=5,G45,0) -> 0 | AQ45: 1 | AR45: 1 | BP45: 0
C46: nový zásypový materiál: | E46: 0
C47: Začátek provozního součtu | E47: 0
C48: AN1 + AN2: (4*4)*3,5*2 | E48: 134.4
C49: odpočet samotné nádrže: -(14,5*2) | E49: -29
C50: Konec provozního součtu | E50: 105.4
C51: 83 | E51: 105.4
C52: Přebytečná zemina: | E52: 0
C53: elektropřípojka: (0,1*0,5)*70,5 | E53: 3.525
C54: nová kanalizace z AN1: (1*0,3)*(1,5+1,5+2,5) | E54: 1.65
C55: vodovodní potrubí z AN2: (2*0,5)*(3,2+5) | E55: 8.2
C56: AN1 + AN2: (4*4)*0,45*2 | E56: 14.4
A57: 11 | B57: 171201211U00 | C57: Skládkovné zemina | D57: t | E57: 49.995 | F57: 0 | G57: =E57*F57 -> 0 | P57: 1 | Q57: =IF(P57=1,G57,0) -> 0 | R57: =IF(P57=2,G57,0) -> 0 | S57: =IF(P57=3,G57,0) -> 0 | T57: =IF(P57=4,G57,0) -> 0 | U57: =IF(P57=5,G57,0) -> 0 | AQ57: 1 | AR57: 1 | BP57: 0
C58: Přebytečná zemina:27,775*1,8 | E58: 49.995
A59: 12 | B59: 174101101R00 | C59: Zásyp jam, rýh, šachet se zhutněním | D59: m3 | E59: =E60+E61 -> 18.2 | F59: 0 | G59: =E59*F59 -> 0 | P59: 1 | Q59: =IF(P59=1,G59,0) -> 0 | R59: =IF(P59=2,G59,0) -> 0 | S59: =IF(P59=3,G59,0) -> 0 | T59: =IF(P59=4,G59,0) -> 0 | U59: =IF(P59=5,G59,0) -> 0 | AQ59: 1 | AR59: 1 | BP59: 0
C60: nová kanalizace z AN1: (1*1,4)*(1,5+1,5+2,5) | E60: 7.7
C61: vodovodní potrubí z AN2: (0,8*1,4)*(3,2+5) | E61: 10.5
A62: 13 | B62: 174211215U00 | C62: Zásyp rýh ručně š 20cm,hl 50cm,tř.2 | D62: m | E62: 70.5 | F62: 0 | G62: =E62*F62 -> 0 | P62: 1 | Q62: =IF(P62=1,G62,0) -> 0 | R62: =IF(P62=2,G62,0) -> 0 | S62: =IF(P62=3,G62,0) -> 0 | T62: =IF(P62=4,G62,0) -> 0 | U62: =IF(P62=5,G62,0) -> 0 | AQ62: 1 | AR62: 1 | BP62: 0
C63: elektropřípojka: 1,5+48+2+2+2+14+1 | E63: 70.5
A64: 14 | B64: 175101101RT2 | C64: Obsyp potrubí bez prohození sypaniny s dodáním štěrkopísku frakce 0 - 4 mm | D64: m3 | E64: 17.32 | F64: 0 | G64: =E64*F64 -> 0 | P64: 1 | Q64: =IF(P64=1,G64,0) -> 0 | R64: =IF(P64=2,G64,0) -> 0 | S64: =IF(P64=3,G64,0) -> 0 | T64: =IF(P64=4,G64,0) -> 0 | U64: =IF(P64=5,G64,0) -> 0 | AQ64: 1 | AR64: 1 | BP64: 1.7
C65: nová kanalizace z AN1: (1*3)*(1,5+1,5+2,5) | E65: 16.5
C66: vodovodní potrubí z AN2: (0,2*0,5)*(3,2+5) | E66: 0.82
A67: 15 | B67: 175103111R00 | C67: Obsyp objektu | D67: m3 | E67: =E68+E69 -> 105.4 | F67: 0 | G67: =E67*F67 -> 0 | P67: 1 | Q67: =IF(P67=1,G67,0) -> 0 | R67: =IF(P67=2,G67,0) -> 0 | S67: =IF(P67=3,G67,0) -> 0 | T67: =IF(P67=4,G67,0) -> 0 | U67: =IF(P67=5,G67,0) -> 0 | AQ67: 1 | AR67: 0 | BP67: 0
C68: AN1 + AN2: (4*4)*4,2*2 | E68: 134.4
C69: odpočet samotné nádrže: -(14,5*2) | E69: -29
A70: 16 | B70: 180402111R00 | C70: Založení trávníku parkového výsevem v rovině | D70: m2 | E70: 200 | F70: 0 | G70: =E70*F70 -> 0 | P70: 1 | Q70: =IF(P70=1,G70,0) -> 0 | R70: =IF(P70=2,G70,0) -> 0 | S70: =IF(P70=3,G70,0) -> 0 | T70: =IF(P70=4,G70,0) -> 0 | U70: =IF(P70=5,G70,0) -> 0 | AQ70: 1 | AR70: 1 | BP70: 0
C71: po skončení zemních prací: 200 | E71: 200
A72: 17 | B72: 181301103R00 | C72: Rozprostření ornice, rovina, tl. 15-20 cm,do 500m2 | D72: m2 | E72: 130.55 | F72: 0 | G72: =E72*F72 -> 0 | P72: 1 | Q72: =IF(P72=1,G72,0) -> 0 | R72: =IF(P72=2,G72,0) -> 0 | S72: =IF(P72=3,G72,0) -> 0 | T72: =IF(P72=4,G72,0) -> 0 | U72: =IF(P72=5,G72,0) -> 0 | AQ72: 1 | AR72: 1 | BP72: 0
C73: plocha výkopu pro AN1 a AN2 včetně 1m na každou stranu: (6*6)*2 | E73: 72
C74: trasa nové kanalizace AN1 včetně zeminy 0,5 m na každou stranu: (1,5+1,5+2,5)*2 | E74: 11
C75: trasa vodovodního potrubí včetně zeminy na každou stranu 0,5 m AN2: (3,2+5)*1,5 | E75: 12.3
C76: trasa elektropřípojky k AN1 a AN2: (1,5+48+2+2+2+14+1)*0,5 | E76: 35.25
A77: 18 | B77: 183406204R00 | C77: Vertikutace trávníku s přísevem, ploch do 1500 m2 | D77: m2 | E77: 200 | F77: 0 | G77: =E77*F77 -> 0 | P77: 1 | Q77: =IF(P77=1,G77,0) -> 0 | R77: =IF(P77=2,G77,0) -> 0 | S77: =IF(P77=3,G77,0) -> 0 | T77: =IF(P77=4,G77,0) -> 0 | U77: =IF(P77=5,G77,0) -> 0 | AQ77: 1 | AR77: 1 | BP77: 0
A78: 19 | B78: 185803411R00 | C78: Vyhrabání trávníku v rovině nebo svahu do 1 : 5 | D78: m2 | E78: 200 | F78: 0 | G78: =E78*F78 -> 0 | P78: 1 | Q78: =IF(P78=1,G78,0) -> 0 | R78: =IF(P78=2,G78,0) -> 0 | S78: =IF(P78=3,G78,0) -> 0 | T78: =IF(P78=4,G78,0) -> 0 | U78: =IF(P78=5,G78,0) -> 0 | AQ78: 1 | AR78: 1 | BP78: 0
A79: 20 | B79: 185804312R00 | C79: Zalití rostlin vodou plochy nad 20 m2 | D79: m3 | E79: 100 | F79: 0 | G79: =E79*F79 -> 0 | P79: 1 | Q79: =IF(P79=1,G79,0) -> 0 | R79: =IF(P79=2,G79,0) -> 0 | S79: =IF(P79=3,G79,0) -> 0 | T79: =IF(P79=4,G79,0) -> 0 | U79: =IF(P79=5,G79,0) -> 0 | AQ79: 1 | AR79: 1 | BP79: 0
C80: 200*0,5 | E80: 100
A81: 21 | B81: 00572400 | C81: Směs travní parková I. běžná zátěž PROFI | D81: kg | E81: 20 | F81: 0 | G81: =E81*F81 -> 0 | P81: 1 | Q81: =IF(P81=1,G81,0) -> 0 | R81: =IF(P81=2,G81,0) -> 0 | S81: =IF(P81=3,G81,0) -> 0 | T81: =IF(P81=4,G81,0) -> 0 | U81: =IF(P81=5,G81,0) -> 0 | AQ81: 3 | AR81: 1 | BP81: 0.001
C82: 200*0,1 | E82: 20
A83: 22 | B83: 58337304 | C83: Štěrkopísek frakce 4-8 | D83: t | E83: 149.4 | F83: 0 | G83: =E83*F83 -> 0 | P83: 1 | Q83: =IF(P83=1,G83,0) -> 0 | R83: =IF(P83=2,G83,0) -> 0 | S83: =IF(P83=3,G83,0) -> 0 | T83: =IF(P83=4,G83,0) -> 0 | U83: =IF(P83=5,G83,0) -> 0 | AQ83: 3 | AR83: 1 | BP83: 1
C84: Začátek provozního součtu | E84: 0
C85: AN1 + AN2: (4*4)*3,5*2 | E85: 112
C86: odpočet samotné nádrže: -(14,5*2) | E86: -29
C87: Konec provozního součtu | E87: 83
C88: 83*1,8 | E88: 149.4
A89: 23 | B89: 151102201 | C89: Zřízení příložného pažení stěn do 30 m2 výkopu hl do 4 m pro překopy inženýrských sítí | D89: m | E89: =E91 -> 160 | F89: 0 | G89: =E89*F89 -> 0
C90: Výkop pro AN a AN2 | E90: 0
C91: (4*5)*4*2 | E91: 160
A92: 24 | B92: 151102211 | C92: Odstranění příložného pažení stěn do 30 m2 hl do 4 m při překopech inženýrských sítí | D92: m | E92: =E94 -> 160 | F92: 0 | G92: =E92*F92 -> 0
C93: Výkop pro AN a AN2 | E93: 0
C94: (4*5)*4*2 | E94: 160
A95: 25 | B95: 151101101 | C95: Zřízení příložného pažení a rozepření stěn rýh hl do 2 m | D95: m | E95: =E96+E97 -> 44.2 | F95: 0 | G95: =E95*F95 -> 0
C96: nová kanalizace z AN1: (1,5+1,5+2,5)*1,7*2 | E96: 18.7
C97: vodovodní potrubí z AN2: (3,2+5)*1,7*2 | E97: 25.5
A98: 26 | B98: 151102211 | C98: Odstranění příložného pažení stěn do 30 m2 hl do 4 m při překopech inženýrských sítí | D98: m | E98: =E99+E100 -> 44.2 | F98: 0 | G98: =E98*F98 -> 0
C99: nová kanalizace z AN1: (1,5+1,5+2,5)*1,7*2 | E99: 18.7
C100: vodovodní potrubí z AN2: (3,2+5)*1,7*2 | E100: 25.5
A101: 27 | B101: 113107043 | C101: Odstranění podkladů nebo krytů při překopech inženýrských sítí s přemístěním hmot na skládku ve vzdálenosti do 3 m nebo s naložením na dopravní prostředek ručně živičných, o tl. vrstvy přes 100 do 150 mm | D101: m2 | E101: =E102+E103 -> 25 | F101: 0 | G101: =E101*F101 -> 0
C102: AN1: 5*2,5 | E102: 12.5
...

Sheet Příloha elektro
A2: Položkový rozpočet
A4: Stavba : | C4: 201/19 Jímání dešťových vod objektu | E4: Rozpočet: | F4: =[1]Rekapitulace!H2 -> 0
C5: DCHB Praha - Kunratice
A6: Objekt : | C6: Příloha elektro | E6: =[1]Rekapitulace!G3 -> 0
A8: P.č. | B8: Číslo položky | C8: Název položky | D8: MJ | E8: množství | F8: cena / MJ | G8: celkem (Kč)
A9: Díl: | B9: 11 | C9: Přípravné a přidružené práce
A10: 1 | B10: 111113.R. | C10: Zakrytí stávající podlahy | D10: m2 | E10: =E11 -> 20 | F10: 0 | G10: =E10*F10 -> 0
C11: zakrytí podlahy uvnitř objektu před zahájením montáže elektokabelu pod omítku: 20 | E11: 20
A12: 2 | B12: 111111.R. | C12: Vypracování dokumentace skutečného stavu | D12: kpl | E12: 1 | F12: 0 | G12: =E12*F12 -> 0
A13: 3 | B13: 111112.R. | C13: Vypracování výchozí revizní zprávy | D13: kpl | E13: 1 | F13: 0 | G13: =E13*F13 -> 0
B14: Celkem za | C14: =CONCATENATE(B9," ",C9) -> 11 Přípravné a přidružené práce | G14: =SUM(G9:G13) -> 0
A15: Díl: | B15: 4 | C15: Vodorovné konstrukce
A16: 4 | B16: 451571316U00 | C16: Lože písk 5cm desky 50x15cm š 50cm | D16: m | E16: 68 | F16: 0 | G16: =E16*F16 -> 0
A17: 5 | B17: 451572111R00 | C17: Lože pod kabel elektro písek | D17: m3 | E17: =E18 -> 10.2 | F17: 0 | G17: =E17*F17 -> 0
C18: Trasa kabelu v zemi:(0,5*0,3)*(48+6+14) | E18: 10.2
B19: Celkem za | C19: =CONCATENATE(B15," ",C15) -> 4 Vodorovné konstrukce | G19: =SUM(G15:G18) -> 0
A20: Díl: | B20: 61 | C20: Upravy povrchů vnitřní
A21: 6 | B21: 612403382RV1 | C21: Hrubá výplň rýh ve stěnách do 5x5 cm maltou ze SMS výplňovou nesmrštivou maltou | D21: m | E21: =E22 -> 10 | F21: 0 | G21: =E21*F21 -> 0
C22: část trasy vedená pod omítkou uvnitř objektu: 10 | E22: 10
A23: 7 | B23: 612471411R00 | C23: Úprava vnitřních stěn aktivovaným štukem | D23: m2 | E23: =E24 -> 20 | F23: 0 | G23: =E23*F23 -> 0
C24: úprava stěny po rozvodu kabelu elektro: 20 | E24: 20
A25: 8 | B25: 612481211RT2 | C25: Montáž výztužné sítě (perlinky) do stěrky-stěny včetně výztužné sítě a stěrkového tmelu | D25: m2 | E25: 10 | F25: 0 | G25: =E25*F25 -> 0
C26: přesíťování začištěné drážky pro trasu elektrokabelu: 20*0,5 | E26: 10
B27: Celkem za | C27: =CONCATENATE(B20," ",C20) -> 61 Upravy povrchů vnitřní | G27: =SUM(G20:G26) -> 0
A28: Díl: | B28: 94 | C28: Lešení a stavební výtahy
A29: 9 | B29: 941955002R00 | C29: Lešení lehké pomocné, výška podlahy do 1,9 m | D29: m2 | E29: 30 | F29: 0 | G29: =E29*F29 -> 0
C30: pro uložení kabelu do drážky pod omítku: 30 | E30: 30
B31: Celkem za | C31: =CONCATENATE(B28," ",C28) -> 94 Lešení a stavební výtahy | G31: =SUM(G28:G30) -> 0
A32: Díl: | B32: 95 | C32: Dokončovací konstrukce na pozemních stavbách
A33: 10 | B33: 952901111R00 | C33: Vyčištění budov o výšce podlaží do 4 m | D33: m2 | E33: 60 | F33: 0 | G33: =E33*F33 -> 0
C34: uklid dotčených místností po skončení rozvodů elektroinstalace a zednickém začištění: 60 | E34: 60
B35: Celkem za | C35: =CONCATENATE(B32," ",C32) -> 95 Dokončovací konstrukce na pozemních stavbách | G35: =SUM(G32:G34) -> 0
A36: Díl: | B36: 97 | C36: Prorážení otvorů
A37: 11 | B37: 970031030R00 | C37: Vrtání jádrové do zdiva cihelného d 30 mm | D37: m | E37: 0.9 | F37: 0 | G37: =E37*F37 -> 0
C38: prostupy pro trasu elektrokabelu: 0,45*2 | E38: 0.9
A39: 12 | B39: 974051315R00 | C39: Frézování drážky do 50x50 mm, zdivo,cihel.tvárnice | D39: m | E39: 20 | F39: 0 | G39: =E39*F39 -> 0
C40: trasa elektrokabelu ve zdivu: 20 | E40: 20
B41: Celkem za | C41: =CONCATENATE(B36," ",C36) -> 97 Prorážení otvorů | G41: =SUM(G36:G40) -> 0
A42: Díl: | B42: 99 | C42: Staveništní přesun hmot
A43: 13 | B43: 999281105R00 | C43: Přesun hmot pro opravy a údržbu do výšky 6 m | D43: t | E43: 7.48 | F43: 0 | G43: =E43*F43 -> 0
B44: Celkem za | C44: =CONCATENATE(B42," ",C42) -> 99 Staveništní přesun hmot | G44: =SUM(G42:G43) -> 0
A45: Díl: | B45: 784 | C45: Malby
A46: 14 | B46: 784191201R00 | C46: Penetrace podkladu hloubková Primalex 1x | D46: m2 | E46: =E47 -> 100 | F46: 0 | G46: =E46*F46 -> 0
C47: Stěny s novou trasou elektroinstalace vždy v celé ploše: 100 | E47: 100
A48: 15 | B48: 784195122R00 | C48: Malba Primalex Standard, barva, bez penetrace, 2 x | D48: m2 | E48: =E49 -> 100 | F48: 0 | G48: =E48*F48 -> 0
C49: Stěny s novou trasou elektroinstalace vždy v celé ploše: 100 | E49: 100
A50: 16 | B50: 784401801R00 | C50: Odstranění malby obroušením v místnosti H do 3,8 m | D50: m2 | E50: =E51 -> 100 | F50: 0 | G50: =E50*F50 -> 0
C51: Stěny s novou trasou elektroinstalace vždy v celé ploše: 100 | E51: 100
B52: Celkem za | C52: =CONCATENATE(B45," ",C45) -> 784 Malby | G52: =SUM(G45:G51) -> 0
A53: Díl: | B53: M21 | C53: Elektromontáže
A54: 17 | B54: 210120412U00 | C54: Jistič 1x16 A/B (doplnění stáv. rozvaděče) | D54: kus | E54: 1 | F54: 0 | G54: =E54*F54 -> 0
A55: 18 | B55: 210271027R00 | C55: Ukonční kabelu CYKY 3x14 mm2, SMOE 80 054 | D55: kus | E55: 1 | F55: 0 | G55: =E55*F55 -> 0
A56: 19 | B56: 388991111R00 | C56: Trubky tělesa kabelovodu z lPE 110 mm, výkop | D56: m | E56: 68 | F56: 0 | G56: =E56*F56 -> 0
A57: 20 | B57: 210190000.R | C57: Osazení rozvaděče komp. jJednotky srážkové vody | D57: kus | E57: 1 | F57: 0 | G57: =E57*F57 -> 0
A58: 21 | B58: 34109999 | C58: Kabel CYKY 3Jx2,5 | D58: m | E58: 76 | F58: 0 | G58: =E58*F58 -> 0
A59: 22 | B59: 357311099 | C59: Rozvaděč nástěnný | D59: kus | E59: 1 | F59: 0 | G59: =E59*F59 -> 0
B60: Celkem za | C60: =CONCATENATE(B53," ",C53) -> M21 Elektromontáže | G60: =SUM(G53:G59) -> 0
A61: Díl: | B61: D96 | C61: Přesuny suti a vybouraných hmot
A62: 23 | B62: 979082111R00 | C62: Vnitrostaveništní doprava suti do 10 m | D62: t | E62: 0.059743 | F62: 0 | G62: =E62*F62 -> 0
A63: 24 | B63: 979082121R00 | C63: Příplatek k vnitrost. dopravě suti za dalších 5 m | D63: t | E63: 0.298715 | F63: 0 | G63: =E63*F63 -> 0
A64: 25 | B64: 979086213R00 | C64: Nakládání vybouraných hmot na dopravní prostředek | D64: t | E64: 0.059743 | F64: 0 | G64: =E64*F64 -> 0
A65: 26 | B65: 979091295R00 | C65: Příplatek za vodo.přemístění suti při rekonstrukci | D65: t | E65: 0.059743 | F65: 0 | G65: =E65*F65 -> 0
A66: 27 | B66: 979981101R00 | C66: Kontejner, suť bez příměsí, odvoz a likvidace, 3 t | D66: t | E66: 0.059743 | F66: 0 | G66: =E66*F66 -> 0
B67: Celkem za | C67: =CONCATENATE(B61," ",C61) -> D96 Přesuny suti a vybouraných hmot | G67: =SUM(G61:G66) -> 0
B69: Celkem za | C69: Elektroinstalace | G69: =G67+G60+G52+G44+G41+G35+G31+G27+G19+G14 -> 0
