Workbook
Name cisloobjektu: 'Krycí list'!$A$5
Name cislostavby: 'Krycí list'!$A$7
Name Datum: 'Krycí list'!$B$28
Name Dil: Rekapitulace!$A$7
Name Dodavka: Rekapitulace!$G$23
Name Dodavka0: Položky!#REF!
Name HSV: Rekapitulace!$E$23
Name HSV0: Položky!#REF!
Name HZS: Rekapitulace!$I$23
Name HZS0: Položky!#REF!
Name JKSO: 'Krycí list'!$G$2
Name MJ: 'Krycí list'!$G$5
Name Mont: Rekapitulace!$H$23
Name Montaz0: Položky!#REF!
Name NazevDilu: Rekapitulace!$B$7
Name nazevobjektu: 'Krycí list'!$C$5
Name nazevstavby: 'Krycí list'!$C$7
Name Objednatel: 'Krycí list'!$C$11
Name PocetMJ: 'Krycí list'!$G$6
Name Poznamka: 'Krycí list'!$B$38
Name Projektant: 'Krycí list'!$C$9
Name PSV: Rekapitulace!$F$23
Name PSV0: Položky!#REF!
Name SazbaDPH1: 'Krycí list'!$C$31
Name SazbaDPH2: 'Krycí list'!$C$33
Name SloupecCC: Položky!$G$7
Name SloupecCisloPol: Položky!$B$7
Name SloupecJC: Položky!$F$7
Name SloupecMJ: Položky!$D$7
Name SloupecMnozstvi: Položky!$E$7
Name SloupecNazPol: Položky!$C$7
Name SloupecPC: Položky!$A$7
Name Typ: Položky!#REF!
Name VRN: Rekapitulace!$H$36
Name VRNKc: Rekapitulace!#REF!
Name VRNnazev: Rekapitulace!#REF!
Name VRNproc: Rekapitulace!#REF!
Name VRNzakl: Rekapitulace!#REF!
Name Zakazka: 'Krycí list'!$G$12
Name Zaklad22: 'Krycí list'!$F$33
Name Zaklad5: 'Krycí list'!$F$31
Name Zhotovitel: 'Krycí list'!$C$12:$E$12

Sheet Krycí list
A1: SLEPÝ ROZPOČET
A2: Rozpočet | C2: =Rekapitulace!H1 -> 0 | F2: JKSO
A4: Objekt | C4: Název objektu | F4: SKP
A5: 01 | C5: Akumulační nádrže | F5: Měrná jednotka
A6: Stavba | C6: Název stavby | F6: Počet jednotek | G6: 0
A7: 2019/20 | C7: Jímání dešťových vod objektu DCHB Praha - | F7: Náklady na m.j. | G7: =IF(PocetMJ=0,,ROUND((F31+F33)/PocetMJ,1)) -> 0
C8: Kunratice
A9: Projektant | F9: Typ rozpočtu
A10: Zpracovatel projektu | C10: =Projektant -> 0
A11: Objednatel
A12: Dodavatel | F12: Zakázkové číslo
A13: Rozpočtoval | F13: Počet listů
A14: ROZPOČTOVÉ NÁKLADY
A15: Základní rozpočtové náklady | D15: Ostatní rozpočtové náklady
B16: HSV celkem | C16: =HSV -> 0 | D16: =Rekapitulace!A28 -> Ztížené výrobní podmínky | G16: =Rekapitulace!I28 -> 0
A17: Z | B17: PSV celkem | C17: =PSV -> 0 | D17: =Rekapitulace!A29 -> Oborová přirážka | G17: =Rekapitulace!I29 -> 0
A18: R | B18: M práce celkem | C18: =Mont -> 0 | D18: =Rekapitulace!A30 -> Přesun stavebních kapacit | G18: =Rekapitulace!I30 -> 0
A19: N | B19: M dodávky celkem | C19: =Dodavka -> 0 | D19: =Rekapitulace!A31 -> Mimostaveništní doprava | G19: =Rekapitulace!I31 -> 0
A20: ZRN celkem | C20: =SUM(C16:C19) -> 0 | D20: =Rekapitulace!A32 -> Zařízení staveniště | G20: =Rekapitulace!I32 -> 0
D21: =Rekapitulace!A33 -> Provoz investora | G21: =Rekapitulace!I33 -> 0
A22: HZS | C22: =HZS -> 0 | D22: =Rekapitulace!A34 -> Kompletační činnost (IČD) | G22: =Rekapitulace!I34 -> 0
A23: ZRN+HZS | C23: =C20+C22 -> 0 | D23: Ostatní náklady neuvedené | G23: =G24-SUM(G16:G22) -> 0
A24: ZRN+ost.náklady+HZS | C24: =C23+G24 -> 0 | D24: Ostatní náklady celkem | G24: =VRN -> 0
A25: Vypracoval | D25: Za zhotovitele | F25: Za objednatele
A26: Jméno : | D26: Jméno : | F26: Jméno :
A27: Datum : | D27: Datum : | F27: Datum :
A29: Podpis : | D29: Podpis: | F29: Podpis:
A31: Základ pro DPH | C31: 21 | D31: % | F31: =C24-F33 -> 0
A32: DPH | C32: =SazbaDPH1 -> 21 | D32: % | F32: =ROUND(PRODUCT(F31,C32/100),0) -> 0
A33: Základ pro DPH | C33: 0 | D33: % | F33: 0
A34: DPH | C34: =SazbaDPH2 -> 0 | D34: % | F34: =ROUND(PRODUCT(F33,C34/100),0) -> 0
A35: CENA ZA OBJEKT CELKEM | F35: =ROUND(SUM(F31:F34),0) -> 0
A37: Poznámka :

Sheet Rekapitulace
A1: Stavba : | C1: 201/19 Jímání dešťových vod objektu | G1: Rozpočet :
C2: DCHB Praha - Kunratice
A3: Objekt : | C3: =CONCATENATE(cisloobjektu," ",nazevobjektu) -> 01 Akumulační nádrže
A5: REKAPITULACE STAVEBNÍCH DÍLŮ
B7: Stavební díl | E7: HSV | F7: PSV | G7: Dodávka | H7: Montáž | I7: HZS
A8: =Položky!B8 -> 1 | B8: =Položky!C8 -> Zemní práce | E8: =Položky!G107 -> 0 | F8: =Položky!R107 -> 0 | G8: =Položky!S107 -> 0 | H8: =Položky!T107 -> 0 | I8: =Položky!U107 -> 0
A9: =Položky!B108 -> 11 | B9: =Položky!C108 -> Přípravné a přidružené práce | E9: =Položky!Q113 -> 0 | F9: =Položky!R113 -> 0 | G9: =Položky!S113 -> 0 | H9: =Položky!T113 -> 0 | I9: =Položky!U113 -> 0
A10: =Položky!B114 -> 2 | B10: =Položky!C114 -> Základy a zvláštní zakládání | E10: =Položky!G133 -> 0 | F10: =Položky!R133 -> 0 | G10: =Položky!S133 -> 0 | H10: =Položky!T133 -> 0 | I10: =Položky!U133 -> 0
A11: =Položky!B134 -> 4 | B11: =Položky!C134 -> Vodorovné konstrukce | E11: =Položky!Q137 -> 0 | F11: =Položky!R137 -> 0 | G11: =Položky!S137 -> 0 | H11: =Položky!T137 -> 0 | I11: =Položky!U137 -> 0
A12: =Položky!B138 -> 61 | B12: =Položky!C138 -> Upravy povrchů vnitřní | E12: =Položky!Q141 -> 0 | F12: =Položky!R141 -> 0 | G12: =Položky!S141 -> 0 | H12: =Položky!T141 -> 0 | I12: =Položky!U141 -> 0
A13: 5 | B13: Komunikace | E13: =Položky!G161 -> 0 | F13: 0 | G13: 0 | H13: 0 | I13: 0
A14: =Položky!B162 -> 8 | B14: =Položky!C162 -> Trubní vedení | E14: =Položky!Q181 -> 0 | F14: =Položky!R181 -> 0 | G14: =Položky!S181 -> 0 | H14: =Položky!T181 -> 0 | I14: =Položky!U181 -> 0
A15: 9 | B15: Ostatní konstrukce a práce,bourání | E15: =Položky!G198 -> 0 | F15: 0 | G15: 0 | H15: 0 | I15: 0
A16: =Položky!B199 -> 97 | B16: =Položky!C199 -> Prorážení otvorů | E16: =Položky!Q207 -> 0 | F16: =Položky!R207 -> 0 | G16: =Položky!S207 -> 0 | H16: =Položky!T207 -> 0 | I16: =Položky!U207 -> 0
A17: =Položky!B208 -> 99 | B17: =Položky!C208 -> Staveništní přesun hmot | E17: =Položky!Q210 -> 0 | F17: =Položky!R210 -> 0 | G17: =Položky!S210 -> 0 | H17: =Položky!T210 -> 0 | I17: =Položky!U210 -> 0
A18: =Položky!B211 -> 721 | B18: =Položky!C211 -> Vnitřní kanalizace | E18: =Položky!Q217 -> 0 | F18: =Položky!R217 -> 0 | G18: =Položky!S217 -> 0 | H18: =Položky!T217 -> 0 | I18: =Položky!U217 -> 0
A19: =Položky!B218 -> 722 | B19: =Položky!C218 -> Vnitřní vodovod | E19: =Položky!Q223 -> 0 | F19: =Položky!R223 -> 0 | G19: =Položky!S223 -> 0 | H19: =Položky!T223 -> 0 | I19: =Položky!U223 -> 0
A20: =Položky!B224 -> 725 | B20: =Položky!C224 -> Zařizovací předměty | E20: =Položky!Q229 -> 0 | F20: =Položky!R229 -> 0 | G20: =Položky!S229 -> 0 | H20: =Položky!T229 -> 0 | I20: =Položky!U229 -> 0
A21: =Položky!B230 -> M21 | B21: =Položky!C230 -> Elektromontáže | E21: =Položky!Q233 -> 0 | F21: =Položky!R233 -> 0 | G21: =Položky!S233 -> 0 | H21: =Položky!T233 -> 0 | I21: =Položky!U233 -> 0
A22: =Položky!B234 -> D96 | B22: =Položky!C234 -> Přesuny suti a vybouraných hmot | E22: =Položky!G241 -> 0 | F22: =Položky!R241 -> 0 | G22: =Položky!S241 -> 0 | H22: =Položky!T241 -> 0 | I22: =Položky!U241 -> 0
B23: CELKEM OBJEKT | E23: =SUM(E8:E22) -> 0 | F23: =SUM(F8:F22) -> 0 | G23: =SUM(G8:G22) -> 0 | H23: =SUM(H8:H22) -> 0 | I23: =SUM(I8:I22) -> 0
A25: VEDLEJŠÍ ROZPOČTOVÉ NÁKLADY
A27: Název VRN | E27: Kč | F27: % | G27: Základna | I27: Kč
A28: Ztížené výrobní podmínky | E28: 0 | F28: 0 | G28: =HSV+PSV+Mont -> 0 | I28: =E28+F28*G28/100 -> 0 | BA28: 0
A29: Oborová přirážka | E29: 0 | F29: 0 | G29: =G28 -> 0 | I29: =E29+F29*G29/100 -> 0 | BA29: 0
A30: Přesun stavebních kapacit | E30: 0 | F30: 0 | G30: =G28 -> 0 | I30: =E30+F30*G30/100 -> 0 | BA30: 0
A31: Mimostaveništní doprava | E31: 0 | F31: 0 | G31: =G28 -> 0 | I31: =E31+F31*G31/100 -> 0 | BA31: 0
A32: Zařízení staveniště | E32: 0 | F32: 0 | G32: =CHOOSE(BA32+1,HSV+PSV,HSV+PSV+Mont,HSV+PSV+Dodavka+Mont,HSV,PSV,Mont,Dodavka,Mont+Dodavka,0) -> 0 | I32: =E32+F32*G32/100 -> 0 | BA32: 1
A33: Provoz investora | E33: 0 | F33: 0 | G33: =CHOOSE(BA33+1,HSV+PSV,HSV+PSV+Mont,HSV+PSV+Dodavka+Mont,HSV,PSV,Mont,Dodavka,Mont+Dodavka,0) -> 0 | I33: =E33+F33*G33/100 -> 0 | BA33: 1
A34: Kompletační činnost (IČD) | E34: 0 | F34: 0 | G34: =CHOOSE(BA34+1,HSV+PSV,HSV+PSV+Mont,HSV+PSV+Dodavka+Mont,HSV,PSV,Mont,Dodavka,Mont+Dodavka,0) -> 0 | I34: =E34+F34*G34/100 -> 0 | BA34: 2
A35: Rezerva rozpočtu | E35: 0 | F35: 0 | G35: =CHOOSE(BA35+1,HSV+PSV,HSV+PSV+Mont,HSV+PSV+Dodavka+Mont,HSV,PSV,Mont,Dodavka,Mont+Dodavka,0) -> 0 | I35: =E35+F35*G35/100 -> 0 | BA35: 2
B36: CELKEM VRN | H36: =SUM(I28:I35) -> 0

Sheet Položky
A1: Položkový rozpočet
A3: Stavba : | C3: 201/19 Jímání dešťových vod objektu
C4: DCHB Praha - Kunratice
A5: Objekt : | C5: =CONCATENATE(cisloobjektu," ",nazevobjektu) -> 01 Akumulační nádrže | E5: =Rekapitulace!G3 -> 0
A7: P.č. | B7: Číslo položky | C7: Název položky | D7: MJ | E7: množství | F7: cena / MJ | G7: celkem (Kč)
A8: Díl: | B8: 1 | C8: Zemní práce
A9: 1 | B9: 111104213R00 | C9: Pokosení trávníku parkov. | D9: m2 | E9: 200 | F9: 0 | G9: =E9*F9 -> 0 | P9: 1 | Q9: =IF(P9=1,G9,0) -> 0 | R9: =IF(P9=2,G9,0) -> 0 | S9: =IF(P9=3,G9,0) -> 0 | T9: =IF(P9=4,G9,0) -> 0 | U9: =IF(P9=5,G9,0) -> 0 | AQ9: 1 | AR9: 1 | BP9: 0
C10: první seč po založení trávníků: 200 | E10: 200
A11: 2 | B11: 121101101R00 | C11: Sejmutí ornice s přemístěním do 50 m | D11: m3 | E11: 26.11 | F11: 0 | G11: =E11*F11 -> 0 | P11: 1 | Q11: =IF(P11=1,G11,0) -> 0 | R11: =IF(P11=2,G11,0) -> 0 | S11: =IF(P11=3,G11,0) -> 0 | T11: =IF(P11=4,G11,0) -> 0 | U11: =IF(P11=5,G11,0) -> 0 | AQ11: 1 | AR11: 1 | BP11: 0
C12: plocha výkopu pro AN1 a AN2 včetně 1m na každou stranu: (6*6)*0,2*2 | E12: 14.4
C13: trasa nové kanalizace AN1 včetně zeminy 0,5 m na každou stranu: (1,5+1,5+2,5)*2*0,2 | E13: 2.2
C14: trasa vodovodního potrubí včetně zeminy na každou stranu 0,5 m AN2: (3,2+5)*1,5*0,2 | E14: 2.46
C15: trasa elektropřípojky k AN1 a AN2: (1,5+48+2+2+2+14+1)*0,5*0,2 | E15: 7.05
A16: 3 | B16: 122202509R00 | C16: Příplatek za lepivost pro hor. 3 | D16: m3 | E16: 132.175 | F16: 0 | G16: =E16*F16 -> 0 | P16: 1 | Q16: =IF(P16=1,G16,0) -> 0 | R16: =IF(P16=2,G16,0) -> 0 | S16: =IF(P16=3,G16,0) -> 0 | T16: =IF(P16=4,G16,0) -> 0 | U16: =IF(P16=5,G16,0) -> 0 | AQ16: 1 | AR16: 1 | BP16: 0
C17: elektropřípojka: (0,3*0,5)*70,5 | E17: 10.575
C18: nová kanalizace z AN1: (1*1)*(1,5+1,5+2,5) | E18: 5.5
C19: vodovodní potrubí z AN2: (1*0,5)*(3,2+5) | E19: 4.1
C20: AN1 + AN2: (4*4)*3,5*2 | E20: 112
A21: 4 | B21: 131201101R00 | C21: Hloubení nezapažených jam v hor.3 do 100 m3 | D21: m3 | E21: =E22 -> 153.6 | F21: 0 | G21: =E21*F21 -> 0 | P21: 1 | Q21: =IF(P21=1,G21,0) -> 0 | R21: =IF(P21=2,G21,0) -> 0 | S21: =IF(P21=3,G21,0) -> 0 | T21: =IF(P21=4,G21,0) -> 0 | U21: =IF(P21=5,G21,0) -> 0 | AQ21: 1 | AR21: 1 | BP21: 0
C22: AN1+AN2: (4*4)*4,8*2 | E22: 153.6
A23: 5 | B23: 132201201R00 | C23: Hloubení rýh šířky do 200 cm v hor.3 do 100 m3 | D23: m3 | E23: =E24+E25 -> 22.1 | F23: 0 | G23: =E23*F23 -> 0 | P23: 1 | Q23: =IF(P23=1,G23,0) -> 0 | R23: =IF(P23=2,G23,0) -> 0 | S23: =IF(P23=3,G23,0) -> 0 | T23: =IF(P23=4,G23,0) -> 0 | U23: =IF(P23=5,G23,0) -> 0 | AQ23: 1 | AR23: 1 | BP23: 0
C24: nová kanalizace z AN1: (1*1,7)*(1,5+1,5+2,5) | E24: 12.75
C25: vodovodní potrubí z AN2: (1*1,7)*(3,2+5) | E25: 9.35
A26: 6 | B26: 132211215U00 | C26: Rýhy ručně výkop š 20cm, hl 50cm, tř.2 | D26: m | E26: 70.5 | F26: 0 | G26: =E26*F26 -> 0 | P26: 1 | Q26: =IF(P26=1,G26,0) -> 0 | R26: =IF(P26=2,G26,0) -> 0 | S26: =IF(P26=3,G26,0) -> 0 | T26: =IF(P26=4,G26,0) -> 0 | U26: =IF(P26=5,G26,0) -> 0 | AQ26: 1 | AR26: 1 | BP26: 0
C27: elektropřípojka: 1,5+48+2+2+2+14+1 | E27: 70.5
A28: 7 | B28: 161101101R00 | C28: Svislé přemístění výkopku z hor.1-4 do 2,5 m | D28: m3 | E28: =E29+E30 -> 22.1 | F28: 0 | G28: =E28*F28 -> 0 | P28: 1 | Q28: =IF(P28=1,G28,0) -> 0 | R28: =IF(P28=2,G28,0) -> 0 | S28: =IF(P28=3,G28,0) -> 0 | T28: =IF(P28=4,G28,0) -> 0 | U28: =IF(P28=5,G28,0) -> 0 | AQ28: 1 | AR28: 1 | BP28: 0
C29: nová kanalizace z AN1: (1*1,7)*(1,5+1,5+2,5) | E29: 12.75
C30: vodovodní potrubí z AN2: (1*1,7)*(3,2+5) | E30: 9.35
A31: 8 | B31: 161101102R00 | C31: Svislé přemístění výkopku z hor.1-4 do 4,0 m | D31: m3 | E31: 134.4 | F31: 0 | G31: =E31*F31 -> 0 | P31: 1 | Q31: =IF(P31=1,G31,0) -> 0 | R31: =IF(P31=2,G31,0) -> 0 | S31: =IF(P31=3,G31,0) -> 0 | T31: =IF(P31=4,G31,0) -> 0 | U31: =IF(P31=5,G31,0) -> 0 | AQ31: 1 | AR31: 1 | BP31: 0
C32: AN1 + AN2: (4*4)*4,8*2 | E32: 134.4
A33: 9 | B33: 162201102R00 | C33: Vodorovné přemístění výkopku z hor.1-4 do 50 m | D33: m3 | E33: =E39+E41+E42+E43+E44 -> 133.175 | F33: 0 | G33: =E33*F33 -> 0 | P33: 1 | Q33: =IF(P33=1,G33,0) -> 0 | R33: =IF(P33=2,G33,0) -> 0 | S33: =IF(P33=3,G33,0) -> 0 | T33: =IF(P33=4,G33,0) -> 0 | U33: =IF(P33=5,G33,0) -> 0 | AQ33: 1 | AR33: 1 | BP33: 0
C34: nový zásypový materiál: | E34: 0
C35: Začátek provozního součtu | E35: 0
C36: AN1 + AN2: (4*4)*4,8*2 | E36: 134.4
C37: odpočet samotné nádrže: -(14,5*2) | E37: -29
C38: Konec provozního součtu | E38: 105.4
C39: 83 | E39: 105.4
C40: Přebytečná zemina: | E40: 0
C41: elektropřípojka: (0,1*0,5)*70,5 | E41: 3.525
C42: nová kanalizace z AN1: (1*0,3)*(1,5+1,5+2,5) | E42: 1.65
...

Sheet Příloha elektro
A2: Položkový rozpočet
A4: Stavba : | C4: 201/19 Jímání dešťových vod objektu | E4: Rozpočet: | F4: =[1]Rekapitulace!H2 -> 0
C5: DCHB Praha - Kunratice
A6: Objekt : | C6: Příloha elektro | E6: =[1]Rekapitulace!G3 -> 0
A8: P.č. | B8: Číslo položky | C8: Název položky | D8: MJ | E8: množství | F8: cena / MJ | G8: celkem (Kč)
A9: Díl: | B9: 11 | C9: Přípravné a přidružené práce
A10: 1 | B10: 111113.R. | C10: Zakrytí stávající podlahy | D10: m2 | E10: =E11 -> 20 | F10: 0 | G10: =E10*F10 -> 0
C11: zakrytí podlahy uvnitř objektu před zahájením montáže elektokabelu pod omítku: 20 | E11: 20
A12: 2 | B12: 111111.R. | C12: Vypracování dokumentace skutečného stavu | D12: kpl | E12: 1 | F12: 0 | G12: =E12*F12 -> 0
A13: 3 | B13: 111112.R. | C13: Vypracování výchozí revizní zprávy | D13: kpl | E13: 1 | F13: 0 | G13: =E13*F13 -> 0
B14: Celkem za | C14: =CONCATENATE(B9," ",C9) -> 11 Přípravné a přidružené práce | G14: =SUM(G9:G13) -> 0
A15: Díl: | B15: 4 | C15: Vodorovné konstrukce
A16: 4 | B16: 451571316U00 | C16: Lože písk 5cm desky 50x15cm š 50cm | D16: m | E16: 68 | F16: 0 | G16: =E16*F16 -> 0
A17: 5 | B17: 451572111R00 | C17: Lože pod kabel elektro písek | D17: m3 | E17: =E18 -> 10.2 | F17: 0 | G17: =E17*F17 -> 0
C18: Trasa kabelu v zemi:(0,5*0,3)*(48+6+14) | E18: 10.2
B19: Celkem za | C19: =CONCATENATE(B15," ",C15) -> 4 Vodorovné konstrukce | G19: =SUM(G15:G18) -> 0
A20: Díl: | B20: 61 | C20: Upravy povrchů vnitřní
A21: 6 | B21: 612403382RV1 | C21: Hrubá výplň rýh ve stěnách do 5x5 cm maltou ze SMS výplňovou nesmrštivou maltou | D21: m | E21: =E22 -> 10 | F21: 0 | G21: =E21*F21 -> 0
C22: část trasy vedená pod omítkou uvnitř objektu: 10 | E22: 10
A23: 7 | B23: 612471411R00 | C23: Úprava vnitřních stěn aktivovaným štukem | D23: m2 | E23: =E24 -> 20 | F23: 0 | G23: =E23*F23 -> 0
C24: úprava stěny po rozvodu kabelu elektro: 20 | E24: 20
A25: 8 | B25: 612481211RT2 | C25: Montáž výztužné sítě (perlinky) do stěrky-stěny včetně výztužné sítě a stěrkového tmelu | D25: m2 | E25: 10 | F25: 0 | G25: =E25*F25 -> 0
C26: přesíťování začištěné drážky pro trasu elektrokabelu: 20*0,5 | E26: 10
B27: Celkem za | C27: =CONCATENATE(B20," ",C20) -> 61 Upravy povrchů vnitřní | G27: =SUM(G20:G26) -> 0
A28: Díl: | B28: 94 | C28: Lešení a stavební výtahy
A29: 9 | B29: 941955002R00 | C29: Lešení lehké pomocné, výška podlahy do 1,9 m | D29: m2 | E29: 30 | F29: 0 | G29: =E29*F29 -> 0
C30: pro uložení kabelu do drážky pod omítku: 30 | E30: 30
B31: Celkem za | C31: =CONCATENATE(B28," ",C28) -> 94 Lešení a stavební výtahy | G31: =SUM(G28:G30) -> 0
A32: Díl: | B32: 95 | C32: Dokončovací konstrukce na pozemních stavbách
A33: 10 | B33: 952901111R00 | C33: Vyčištění budov o výšce podlaží do 4 m | D33: m2 | E33: 60 | F33: 0 | G33: =E33*F33 -> 0
C34: uklid dotčených místností po skončení rozvodů elektroinstalace a zednickém začištění: 60 | E34: 60
B35: Celkem za | C35: =CONCATENATE(B32," ",C32) -> 95 Dokončovací konstrukce na pozemních stavbách | G35: =SUM(G32:G34) -> 0
A36: Díl: | B36: 97 | C36: Prorážení otvorů
A37: 11 | B37: 970031030R00 | C37: Vrtání jádrové do zdiva cihelného d 30 mm | D37: m | E37: 0.9 | F37: 0 | G37: =E37*F37 -> 0
C38: prostupy pro trasu elektrokabelu: 0,45*2 | E38: 0.9
A39: 12 | B39: 974051315R00 | C39: Frézování drážky do 50x50 mm, zdivo,cihel.tvárnice | D39: m | E39: 20 | F39: 0 | G39: =E39*F39 -> 0
C40: trasa elektrokabelu ve zdivu: 20 | E40: 20
B41: Celkem za | C41: =CONCATENATE(B36," ",C36) -> 97 Prorážení otvorů | G41: =SUM(G36:G40) -> 0
A42: Díl: | B42: 99 | C42: Staveništní přesun hmot
A43: 13 | B43: 999281105R00 | C43: Přesun hmot pro opravy a údržbu do výšky 6 m | D43: t | E43: 7.48 | F43: 0 | G43: =E43*F43 -> 0
...
