Workbook

Sheet KRYCÍ LIST
A1: KRYCÍ LIST ROZPOČTU
A2: Kód objektu: | C2: Název objektu: | F2: JKSO: | H2: Cenová úroveň:
A3: SO-01 | C3: DOSTAVBA HASIČSKÉ ZBROJNICE | H3: 2017/I
A4: Kód stavby: | C4: Název stavby: | F4: SKP: | H4: Účelová M.J:
A6: Projektant: | E6: Počet účel. měrných jednotek:
A7: Objednatel: | E7: Náklady na měrnou jednotku: | H7: =IF(H6=0,"",C27/H6)
A8: Počet listů: | E8: Zakázkové číslo:
A9: Zpracovatel: | E9: Zhotovitel:
A11: ROZPOČTOVÉ NÁKLADY
A12: Základní rozpočtové náklady (ZRN) | D12: Vedlejší rozpočtové náklady (VRN)
B13: Dodávka celkem | D13: Ztížené výrobní podmínky | F13: 9 | G13: % | H13: =C23*F13/100 -> 132594.79
B14: Montáž celkem | D14: Oborová přirážka | G14: % | H14: =C23*F14/100 -> 0
A15: Z | B15: HSV celkem | C15: =REKAPITULACE!C21 -> 596970.35 | D15: Přesun stavebních kapacit | G15: % | H15: =C23*F15/100 -> 0
A16: R | B16: PSV celkem | C16: =REKAPITULACE!C38 -> 876305.07 | D16: Mimostaveništní doprava | G16: % | H16: =C23*F16/100 -> 0
A17: N | B17: Instalace | C17: =REKAPITULACE!C43 -> 0 | D17: Zařízení staveniště | F17: 2 | G17: % | H17: =C23*F17/100 -> 29465.508
A18: : | B18: Montáže | C18: =REKAPITULACE!C47 -> 0 | D18: Provoz investora | G18: % | H18: =C23*F18/100 -> 0
A19: ZRN celkem | C19: =SUM(C15:C18) -> 1473275.4 | D19: Kompletační činnost | G19: % | H19: =C23*F19/100 -> 0
A20: I: Projektové práce | C20: 0 | D20: Ostatní VRN | G20: % | H20: =C23*F20/100 -> 0
A21: II: Technologie | C21: 0 | D21: Rezerva | G21: % | H21: =C23*F21/100 -> 0
A22: VII: Mobiliář | C22: 0 | G22: % | H22: =C23*F22/100 -> 0
A23: ZRN+I+II+VII | C23: =SUM(C19:C22) -> 1473275.4 | D23: Ostatní rozpočtové náklady (ORN)
A24: VRN celkem | C24: =SUM(H13:H22) -> 162060.3 | G24: % | H24: =C23*F24/100 -> 0
A25: ORN celkem | C25: =SUM(H24:H25) -> 0 | G25: % | H25: =C23*F25/100 -> 0
A26: DRN celkem | C26: =SUM(H27:H27) -> 0 | D26: Doplňkové rozpočtové náklady (DRN)
A27: Náklady celkem | C27: =SUM(C23:C26) -> 1635335.7 | G27: % | H27: =C23*F27/100 -> 0
A28: Vypracoval | C28: Za zhotovitele | E28: Za objednatele
C29: Jméno: | E29: Jméno:
A30: Datum: | C30: Datum: | E30: Datum:
C31: Podpis: | E31: Podpis:
A34: Základ pro DPH | C34: 21 | D34: % činí : | E34: =ROUND(C27-E36,0) -> 1635336 | H34: Kč
A35: DPH | C35: 21 | D35: % činí : | E35: =ROUND(E34*C35/100,0) -> 343421 | H35: Kč
A36: Základ pro DPH | C36: 15 | D36: % činí : | E36: 0 | H36: Kč
A37: DPH | C37: 15 | D37: % činí : | E37: =ROUND(E36*C37/100,0) -> 0 | H37: Kč
A38: CENA ZA OBJEKT CELKEM VČETNĚ DPH: | E38: =CEILING(SUM(E34:E37),1) -> 1978757 | H38: Kč
A40: Poznámky:

Sheet REKAPITULACE
A1: Stavba : - | C1: Cenová úroveň : 2017/I
A2: Objekt : SO-01 - DOSTAVBA HASIČSKÉ ZBROJNICE | C2: Datum zpracování :
A4: REKAPITULACE ROZPOČTU
A6: Oddíl | B6: Název oddílu / řemeslného oboru | C6: CENA
C7: BEZ DPH
B8: HSV:
A9: 1 | B9: Zemní práce | C9: =ROZPOČET!G13 -> 6100.6415
A10: 2 | B10: Základy a zvláštní zakládání | C10: =ROZPOČET!G16 -> 972.2329
A11: 3 | B11: Svislé konstrukce | C11: =ROZPOČET!G28 -> 32685.875
A12: 4 | B12: Vodorovné konstrukce | C12: =ROZPOČET!G36 -> 6906.3285
A13: 5 | B13: Komunikace | C13: =ROZPOČET!G41 -> 178180.57
A14: 61 | B14: Úpravy povrchů vnitřní | C14: =ROZPOČET!G49 -> 31911.962
A15: 62 | B15: Úpravy povrchů vnější | C15: =ROZPOČET!G73 -> 34595.185
A16: 63 | B16: Podlahy | C16: =ROZPOČET!G77 -> 38548.815
A17: 9 | B17: Ostatní konstrukce a práce | C17: =ROZPOČET!G81 -> 5840
A18: 94 | B18: Lešení a stavební výtahy | C18: =ROZPOČET!G88 -> 23083.981
A19: 96 | B19: Bourání konstrukcí | C19: =ROZPOČET!G140 -> 191049.61
A20: 99 | B20: Přesun hmot | C20: =ROZPOČET!G144 -> 47095.156
B21: HSV CELKEM | C21: =SUM(C9:C20) -> 596970.35
B23: PSV:
A24: 711 | B24: Izolace proti vodě | C24: =ROZPOČET!G155 -> 5228.2919
A25: 712 | B25: Povlakové krytiny | C25: =ROZPOČET!G165 -> 12379.979
A26: 713 | B26: Izolace tepelné | C26: =ROZPOČET!G197 -> 118767.55
A27: 762 | B27: Konstrukce tesařské | C27: =ROZPOČET!G239 -> 131715.49
A28: 763 | B28: Dřevostavby a konstrukce sádrokartonové | C28: =ROZPOČET!G251 -> 93239.423
A29: 764 | B29: Konstrukce klempířské | C29: =ROZPOČET!G265 -> 102992
A30: 765 | B30: Tvrdé krytiny | C30: =ROZPOČET!G272 -> 19414.802
A31: 766 | B31: Konstrukce truhlářské | C31: =ROZPOČET!G294 -> 170787.82
A32: 767 | B32: Kovové doplňkové konstrukce | C32: =ROZPOČET!G300 -> 36740.785
A33: 771 | B33: Podlahy z dlaždic | C33: =ROZPOČET!G312 -> 15114.629
A34: 776 | B34: Podlahy povlakové | C34: =ROZPOČET!G322 -> 96206.775
A35: 781 | B35: Obklady | C35: =ROZPOČET!G336 -> 45622.938
A36: 783 | B36: Nátěry | C36: =ROZPOČET!G350 -> 12732.581
A37: 784 | B37: Malby | C37: =ROZPOČET!G366 -> 15361.999
B38: PSV CELKEM | C38: =SUM(C24:C37) -> 876305.07
B40: INSTALACE:
A41: 720 | B41: Zdravotně technické instalace | C41: =ROZPOČET!G375+ROZPOČET!G378 -> 0
A42: 730 | B42: Ústřední vytápění | C42: =ROZPOČET!G381 -> 0
B43: INSTALACE CELKEM | C43: =SUM(C41:C42) -> 0
B45: MONTÁŽNÍ PRÁCE:
A46: M21 | B46: Montáže silnoproud | C46: =ROZPOČET!G390 -> 0
B47: MONTÁŽNÍ PRÁCE CELKEM | C47: =SUM(C46:C46) -> 0
B49: Základní rozpočtové náklady stavebního objektu celkem | C49: =C21+C38+C43+C47 -> 1473275.4

Sheet ROZPOČET
A1: Stavba : - | H1: Cenová úroveň : 2017/I
A2: Objekt : SO-01 - DOSTAVBA HASIČSKÉ ZBROJNICE | H2: Datum zpracování :
A4: POLOŽKOVÝ ROZPOČET S VÝKAZEM VÝMĚR
A6: Poř. | B6: Kód položky | C6: Název položky | D6: M.J. | E6: Množství | F6: CENA | H6: HMOTNOST
A7: čís.
A8: pol. | F8: jednotková | G8: celková | H8: jednotková | I8: celková
A9: 1. | B9: 2. | C9: 3. | D9: 4. | E9: 5. | F9: 6. | G9: 7. | H9: 8. | I9: 9.
C10: HSV:
B11: oddíl 1 | C11: Zemní práce:
A12: 1 | B12: C-113107113-0 | C12: ODSTR PODKLADU 200M2 KAM TEZ TL 30CM | D12: M2 | E12: 122 | F12: 50.005258 | G12: =E12*F12 -> 6100.6415 | H12: 0.5 | I12: =E12*H12 -> 61
B13: 1 | C13: ZEMNÍ PRÁCE CELKEM | G13: =SUM(G12:G12) -> 6100.6415 | I13: =SUM(I12:I12) -> 61
B14: oddíl 2 | C14: Základy a zvláštní zakládání:
A15: =A12+1 -> 2 | B15: Y-210-0 | C15: ZHUTNENI PODLOZI | D15: M2 | E15: 122 | F15: 7.9691221 | G15: =E15*F15 -> 972.2329 | H15: 0 | I15: =E15*H15 -> 0
B16: 2 | C16: ZÁKLADY A ZVLÁŠTNÍ ZAKLÁDÁNÍ CELKEM | G16: =SUM(G15:G15) -> 972.2329 | I16: =SUM(I15:I15) -> 0
B17: oddíl 3 | C17: Svislé konstrukce:
A18: =A15+1 -> 3 | B18: C-342241151-0 | C18: PRICKY TVAR CDm 24 P15 MVC TL 11,5CM | D18: M2 | E18: 7.248 | F18: 569.71914 | G18: =E18*F18 -> 4129.3243 | H18: 0.16737318 | I18: =E18*H18 -> 1.2131208
C19: D.1.1.14 | E19: 7.24775
B20: množství = | C20: (1,735+0,1+0,9)*2,65
A21: =A18+1 -> 4 | B21: C-311237628-0 | C21: ZDI OBV PTH KLASIK PD 44 P15 MAL TI | D21: M2 | E21: 4.5 | F21: 1632.1306 | G21: =E21*F21 -> 7344.5878 | H21: 0.33699878 | I21: =E21*H21 -> 1.5164945
B22: množství = | C22: 0,25*9*2
A23: =A21+1 -> 5 | B23: C-311237638-0 | C23: ZDI OBV PTH KLASIK PD 38 P15 MAL TI | D23: M2 | E23: 9.9625 | F23: 1458.451 | G23: =E23*F23 -> 14529.818 | H23: 0.28920678 | I23: =E23*H23 -> 2.8812226
B24: množství = | C24: (1,25*1,25)*4+(0,735*1,25)*2+(0,75*1,25)*2
A25: =A23+1 -> 6 | B25: C-317324131-0 | C25: ZTUZ VENCE KLENEB BZ C20/25 | D25: M3 | E25: 1.08 | F25: 4503.4674 | G25: =E25*F25 -> 4863.7448 | H25: 2.4358167 | I25: =E25*H25 -> 2.630682
B26: množství = | C26: (0,2*0,3*9)*2
A27: =A25+1 -> 7 | B27: C-317361141-0 | C27: VYZTUZ VENCU KLENEB RIMS OCEL 10505 | D27: T | E27: 0.07 | F27: 25977.143 | G27: =E27*F27 -> 1818.4 | H27: 1.0360752 | I27: =E27*H27 -> 0.072525264
B28: 3 | C28: SVISLÉ KONSTRUKCE CELKEM | G28: =SUM(G18:G27) -> 32685.875 | I28: =SUM(I18:I27) -> 8.3140452
B29: oddíl 4 | C29: Vodorovné konstrukce:
A30: =A27+1 -> 8 | B30: C-417351115-0 | C30: BEDNENI ZTUZUJICICH VENCU ZRIZENI | D30: M2 | E30: 7.2 | F30: 388.98824 | G30: =E30*F30 -> 2800.7153 | H30: 0.003233478 | I30: =E30*H30 -> 0.023281042
B31: množství = | C31: (0,2+0,2)*9*2
A32: =A30+1 -> 9 | B32: C-417351116-0 | C32: BEDNENI ZTUZUJICICH VENCU ODSTRANENI | D32: M2 | E32: 7.2 | F32: 65.464512 | G32: =E32*F32 -> 471.34449 | H32: 0 | I32: =E32*H32 -> 0
A33: =A32+1 -> 10 | B33: C-413351107-0 | C33: BEDNENI NOSNIKU ZRIZENI | D33: M2 | E33: 6.3 | F33: 486.41084 | G33: =E33*F33 -> 3064.3883 | H33: 0.004122628 | I33: =E33*H33 -> 0.025972556
B34: množství = | C34: ((0,3*1,5)+(0,2*1,5)*2)*6
A35: =A33+1 -> 11 | B35: C-413351108-0 | C35: BEDNENI NOSNIKU ODSTRANENI | D35: M2 | E35: 6.3 | F35: 90.457199 | G35: =E35*F35 -> 569.88035 | H35: 0 | I35: =E35*H35 -> 0
B36: 4 | C36: VODOROVNÉ KONSTRUKCE CELKEM | G36: =SUM(G30:G35) -> 6906.3285 | I36: =SUM(I30:I35) -> 0.049253598
B37: oddíl 5 | C37: Komunikace:
A38: =A35+1 -> 12 | B38: C-564871111-0 | C38: PODKLAD ZE STERKODRTE TL PO ZHUT 25CM | D38: M2 | E38: 122 | F38: 238.39559 | G38: =E38*F38 -> 29084.262 | H38: 0.46166 | I38: =E38*H38 -> 56.32252
A39: =A38+1 -> 13 | B39: C-567122111-0 | C39: PODKLAD KAM ZPEV CEM KZC1 TL 12CM | D39: M2 | E39: 122 | F39: 286.50075 | G39: =E39*F39 -> 34953.092 | H39: 0.2928192 | I39: =E39*H39 -> 35.723942
A40: =A39+1 -> 14 | B40: C-581142115-0 | C40: KRYT CEMENTOB SKUP 1 A 2 TL 25CM | D40: M2 | E40: 122 | F40: 935.60011 | G40: =E40*F40 -> 114143.21 | H40: 0.599274 | I40: =E40*H40 -> 73.111428
B41: 5 | C41: KOMUNIKACE CELKEM | G41: =SUM(G38:G40) -> 178180.57 | I41: =SUM(I38:I40) -> 165.15789
B42: oddíl 61 | C42: Úpravy povrchů vnitřní:
A43: =A40+1 -> 15 | B43: D-61252-0 | C43: VNITRNI OMITKA STEN VAPENNA+PLETIVO | D43: M2 | E43: 41.4 | F43: 390.22969 | G43: =E43*F43 -> 16155.509 | H43: 0.052768 | I43: =E43*H43 -> 2.1845952
B44: množství = | C44: 2,3*9*2
A45: =A43+1 -> 16 | B45: C-612421821-0 | C45: OMIT VNI STEN CISTE VAPENNE STUKOVE (D.1.1.14) | D45: M2 | E45: 14.496 | F45: 385.88638 | G45: =E45*F45 -> 5593.809 | H45: 0.023 | I45: =E45*H45 -> 0.333408
B46: množství = | C46: 7,248*2
A47: =A45+1 -> 17 | B47: C-612421626-0 | C47: OMIT VNI STEN VAPCEM HLADKE | D47: M2 | E47: 55.593 | F47: 182.80437 | G47: =E47*F47 -> 10162.644 | H47: 0.04413348 | I47: =E47*H47 -> 2.4535126
B48: množství = | C48: 8,818+12,979+5,488+7,915+2,299+18,094
B49: 61 | C49: ÚPRAVY POVRCHŮ VNITŘNÍ CELKEM | G49: =SUM(G43:G48) -> 31911.962 | I49: =SUM(I43:I48) -> 4.9715158
B50: oddíl 62 | C50: Úpravy povrchů vnější:
A51: =A47+1 -> 18 | B51: C-620601216-0 | C51: MTZ ZATEPL VNE STEN ROV MINER -16CM | D51: M2 | E51: 13.549 | F51: 461.32119 | G51: =E51*F51 -> 6250.4408 | H51: 0.008329 | I51: =E51*H51 -> 0.11284962
B52: množství = | C52: (1,7*1,25)*4+(1,7*0,735)*2+(1,7*0,75)*2
A53: =A51+1 -> 19 | B53: H-63152370-1 | C53: DESKY MINER FASADNI URSA FDP 2/V 16CM | D53: M2 | E53: 13.821 | F53: 325.08 | G53: =E53*F53 -> 4492.9307 | H53: 0.0024 | I53: =E53*H53 -> 0.0331704
B54: množství = | C54: 13,55*1,02
A55: =A53+1 -> 20 | B55: C-620601255-0 | C55: MTZ ZATEPL VNE OSTENI MINER TL -8CM | D55: M2 | E55: 6.6 | F55: 571.07657 | G55: =E55*F55 -> 3769.1054 | H55: 0.0085834 | I55: =E55*H55 -> 0.05665044
B56: množství = | C56: ((1,5+1,25)*2*0,2)*6
A57: =A55+1 -> 21 | B57: H-63156232-1 | C57: DESKY MINER FAS OSTENI FKD RS TL 2CM | D57: M2 | E57: 6.732 | F57: 90.12 | G57: =E57*F57 -> 606.68784 | H57: 0.002 | I57: =E57*H57 -> 0.013464
B58: množství = | C58: 6,6*1,02
A59: =A57+1 -> 22 | B59: C-620472911-0 | C59: VYROV PODKL POD ZATEPL TENK OMIT+PERL | D59: M2 | E59: 30.6 | F59: 153.35045 | G59: =E59*F59 -> 4692.5239 | H59: 0.004132 | I59: =E59*H59 -> 0.1264392
B60: množství = | C60: (9*1,7)*2
A61: =A59+1 -> 23 | B61: C-620602533-0 | C61: ZATEPL FASAD OMITKA SILIKAT ZRN 2,0MM | D61: M2 | E61: 30.6 | F61: 294.53868 | G61: =E61*F61 -> 9012.8836 | H61: 0.0035 | I61: =E61*H61 -> 0.1071
B62: množství = | C62: (9*1,7)*2
A63: =A61+1 -> 24 | B63: C-622411121-0 | C63: BARVENI VNE OMITEK STEN SLOZ 1-3 | D63: M2 | E63: 30.6 | F63: 51.797527 | G63: =E63*F63 -> 1585.0043 | H63: 0.0046753 | I63: =E63*H63 -> 0.14306418
B64: množství = | C64: (9*1,7)*2
A65: =A63+1 -> 25 | B65: C-620601215-0 | C65: MTZ ZATEPL VNE STEN ROV MINER -8CM | D65: M2 | E65: 4.4375 | F65: 401.58571 | G65: =E65*F65 -> 1782.0366 | H65: 0.007729 | I65: =E65*H65 -> 0.034297437
B66: množství = | C66: ((1,25*3,55)/2)*2
A67: =A65+1 -> 26 | B67: H-63151612-1 | C67: DESKY MINER PLST FASSIL NT TL 5CM | D67: M2 | E67: 4.5288 | F67: 137.76 | G67: =E67*F67 -> 623.88749 | H67: 0.0025 | I67: =E67*H67 -> 0.011322
B68: množství = | C68: 4,44*1,02
A69: =A67+1 -> 27 | B69: C-620471911-0 | C69: VYROV PODKL POD ZATEPL TENK OMIT | D69: M2 | E69: 4.4375 | F69: 106.51686 | G69: =E69*F69 -> 472.66859 | H69: 0.004 | I69: =E69*H69 -> 0.01775
B70: množství = | C70: ((1,25*3,55)/2)*2
A71: =A69+1 -> 28 | B71: C-620602533-0 | C71: ZATEPL FASAD OMITKA SILIKAT ZRN 2,0MM | D71: M2 | E71: 4.4375 | F71: 294.53868 | G71: =E71*F71 -> 1307.0154 | H71: 0.0035 | I71: =E71*H71 -> 0.01553125
B72: množství = | C72: ((1,25*3,55)/2)*2
B73: 62 | C73: ÚPRAVY POVRCHŮ VNĚJŠÍ CELKEM | G73: =SUM(G51:G72) -> 34595.185 | I73: =SUM(I51:I72) -> 0.67163853
B74: oddíl 63 | C74: Podlahy:
A75: =A71+1 -> 29 | B75: C-632661126-0 | C75: POTER SAMONIV ANHYDRIT 25 MPa TL 55MM | D75: M2 | E75: 106.75 | F75: 361.11302 | G75: =E75*F75 -> 38548.815 | H75: 0.1202775 | I75: =E75*H75 -> 12.839623
B76: množství = | C76: 10*10,675
B77: 63 | C77: PODLAHY CELKEM | G77: =SUM(G75:G76) -> 38548.815 | I77: =SUM(I75:I76) -> 12.839623
B78: oddíl 9 | C78: Ostatní konstrukce a práce:
A79: =A75+1 -> 30 | B79: C-953961115-0 | C79: KOTVY CHEM TMEL M20 HL170 BET ZELBET VYVRT OTVORU | D79: KUS | E79: 40 | F79: 146 | G79: =E79*F79 -> 5840 | H79: 5e-05 | I79: =E79*H79 -> 0.002
B80: množství = | C80: (10*2)*2
B81: 9 | C81: OSTATNÍ KONSTRUKCE A PRÁCE CELKEM | G81: =SUM(G79:G80) -> 5840 | I81: =SUM(I79:I80) -> 0.002
B82: oddíl 94 | C82: Lešení a stavební výtahy:
A83: =A79+1 -> 31 | B83: C-941941041-0 | C83: MTZ LESENI LEH RAD PRIME S 1,2M H 10M | D83: M2 | E83: 126 | F83: 56.296451 | G83: =E83*F83 -> 7093.3528 | H83: 5.7e-07 | I83: =E83*H83 -> 7.182e-05
B84: množství = | C84: (7*9)*2
A85: =A83+1 -> 32 | B85: C-941941291-0 | C85: PRIPL ZK MESIC POUZ LESENI K POL 1041 | D85: M2 | E85: 252 | F85: 46.923907 | G85: =E85*F85 -> 11824.825 | H85: 0.001571335 | I85: =E85*H85 -> 0.39597642
B86: množství = | C86: 126*2
A87: =A85+1 -> 33 | B87: C-941941841-0 | C87: DMTZ LESENI L RAD PRIME S 1,2M H 10M | D87: M2 | E87: 126 | F87: 33.061933 | G87: =E87*F87 -> 4165.8036 | H87: 0 | I87: =E87*H87 -> 0
B88: 94 | C88: LEŠENÍ A STAVEBNÍ VÝTAHY CELKEM | G88: =SUM(G83:G87) -> 23083.981 | I88: =SUM(I83:I87) -> 0.39604824
B89: oddíl 96 | C89: Bourání konstrukcí:
A90: =A87+1 -> 34 | B90: C-962031133-0 | C90: BOURANI PRICKY Z CIHEL MVC TL DO 15CM | D90: M2 | E90: 12.594 | F90: 114.91396 | G90: =E90*F90 -> 1447.2264 | H90: 0.21068302 | I90: =E90*H90 -> 2.6533419
B91: množství = | C91: 5,439+7,155
C92: D.1.1.2 | E92: 7.155
B93: množství = | C93: 2,7*2,65
C94: D.1.1.3 | E94: 5.439
B95: množství = | C95: (1,11*2,4)+(0,65*1,5)+((2,4*1,5)/2)
A96: =A90+1 -> 35 | B96: C-972033271-0 | C96: OTVORY KLENBY CI 0,09M2 TL 45CM | D96: KS | E96: 1 | F96: 340.90527 | G96: =E96*F96 -> 340.90527 | H96: 0.073 | I96: =E96*H96 -> 0.073
A97: =A96+1 -> 36 | B97: O-97901-0 | C97: SVISLA DOPRAVA SUTI | D97: T | E97: 105.39937 | F97: 725.91823 | G97: =E97*F97 -> 76511.322 | H97: 0 | I97: =E97*H97 -> 0
B98: množství = | C98: ((61,000 + 37,911946) + (0,854 + 2,48802 + 2,9694 + 0,166 + 0,010))
A99: =A97+1 -> 37 | B99: O-97908-0 | C99: VODOROVNA DOPRAVA SUTI A VYBOUR HMOT | D99: T | E99: 105.39937 | F99: 364.96322 | G99: =E99*F99 -> 38466.892 | H99: 0 | I99: =E99*H99 -> 0
B100: množství = | C100: ((61,000 + 37,911946) + (0,854 + 2,48802 + 2,9694 + 0,166 + 0,010))
A101: =A99+1 -> 38 | B101: O-97921-0 | C101: VNITROSTAVENISTNI DOPRAVA SUTI | D101: T | E101: 105.39937 | F101: 241.76343 | G101: =E101*F101 -> 25481.712 | H101: 0 | I101: =E101*H101 -> 0
B102: množství = | C102: ((61,000 + 37,911946) + (0,854 + 2,48802 + 2,9694 + 0,166 + 0,010))
...
