Workbook

Sheet KRYCÍ LIST
A1: KRYCÍ LIST ROZPOČTU
A2: Kód objektu: | C2: Název objektu: | F2: JKSO: | H2: Cenová úroveň:
A3: SO-01 | C3: DOSTAVBA HASIČSKÉ ZBROJNICE | H3: 2017/I
A4: Kód stavby: | C4: Název stavby: | F4: SKP: | H4: Účelová M.J:
A6: Projektant: | E6: Počet účel. měrných jednotek:
A7: Objednatel: | E7: Náklady na měrnou jednotku: | H7: =IF(H6=0,"",C27/H6)
A8: Počet listů: | E8: Zakázkové číslo:
A9: Zpracovatel: | E9: Zhotovitel:
A11: ROZPOČTOVÉ NÁKLADY
A12: Základní rozpočtové náklady (ZRN) | D12: Vedlejší rozpočtové náklady (VRN)
B13: Dodávka celkem | D13: Ztížené výrobní podmínky | F13: 9 | G13: % | H13: =C23*F13/100 -> 132594.79
B14: Montáž celkem | D14: Oborová přirážka | G14: % | H14: =C23*F14/100 -> 0
A15: Z | B15: HSV celkem | C15: =REKAPITULACE!C21 -> 596970.35 | D15: Přesun stavebních kapacit | G15: % | H15: =C23*F15/100 -> 0
A16: R | B16: PSV celkem | C16: =REKAPITULACE!C38 -> 876305.07 | D16: Mimostaveništní doprava | G16: % | H16: =C23*F16/100 -> 0
A17: N | B17: Instalace | C17: =REKAPITULACE!C43 -> 0 | D17: Zařízení staveniště | F17: 2 | G17: % | H17: =C23*F17/100 -> 29465.508
A18: : | B18: Montáže | C18: =REKAPITULACE!C47 -> 0 | D18: Provoz investora | G18: % | H18: =C23*F18/100 -> 0
A19: ZRN celkem | C19: =SUM(C15:C18) -> 1473275.4 | D19: Kompletační činnost | G19: % | H19: =C23*F19/100 -> 0
A20: I: Projektové práce | C20: 0 | D20: Ostatní VRN | G20: % | H20: =C23*F20/100 -> 0
A21: II: Technologie | C21: 0 | D21: Rezerva | G21: % | H21: =C23*F21/100 -> 0
A22: VII: Mobiliář | C22: 0 | G22: % | H22: =C23*F22/100 -> 0
A23: ZRN+I+II+VII | C23: =SUM(C19:C22) -> 1473275.4 | D23: Ostatní rozpočtové náklady (ORN)
A24: VRN celkem | C24: =SUM(H13:H22) -> 162060.3 | G24: % | H24: =C23*F24/100 -> 0
A25: ORN celkem | C25: =SUM(H24:H25) -> 0 | G25: % | H25: =C23*F25/100 -> 0
A26: DRN celkem | C26: =SUM(H27:H27) -> 0 | D26: Doplňkové rozpočtové náklady (DRN)
A27: Náklady celkem | C27: =SUM(C23:C26) -> 1635335.7 | G27: % | H27: =C23*F27/100 -> 0
A28: Vypracoval | C28: Za zhotovitele | E28: Za objednatele
C29: Jméno: | E29: Jméno:
A30: Datum: | C30: Datum: | E30: Datum:
C31: Podpis: | E31: Podpis:
A34: Základ pro DPH | C34: 21 | D34: % činí : | E34: =ROUND(C27-E36,0) -> 1635336 | H34: Kč
A35: DPH | C35: 21 | D35: % činí : | E35: =ROUND(E34*C35/100,0) -> 343421 | H35: Kč
A36: Základ pro DPH | C36: 15 | D36: % činí : | E36: 0 | H36: Kč
A37: DPH | C37: 15 | D37: % činí : | E37: =ROUND(E36*C37/100,0) -> 0 | H37: Kč
A38: CENA ZA OBJEKT CELKEM VČETNĚ DPH: | E38: =CEILING(SUM(E34:E37),1) -> 1978757 | H38: Kč
A40: Poznámky:

Sheet REKAPITULACE
A1: Stavba : - | C1: Cenová úroveň : 2017/I
A2: Objekt : SO-01 - DOSTAVBA HASIČSKÉ ZBROJNICE | C2: Datum zpracování :
A4: REKAPITULACE ROZPOČTU
A6: Oddíl | B6: Název oddílu / řemeslného oboru | C6: CENA
C7: BEZ DPH
B8: HSV:
A9: 1 | B9: Zemní práce | C9: =ROZPOČET!G13 -> 6100.6415
A10: 2 | B10: Základy a zvláštní zakládání | C10: =ROZPOČET!G16 -> 972.2329
A11: 3 | B11: Svislé konstrukce | C11: =ROZPOČET!G28 -> 32685.875
A12: 4 | B12: Vodorovné konstrukce | C12: =ROZPOČET!G36 -> 6906.3285
A13: 5 | B13: Komunikace | C13: =ROZPOČET!G41 -> 178180.57
A14: 61 | B14: Úpravy povrchů vnitřní | C14: =ROZPOČET!G49 -> 31911.962
A15: 62 | B15: Úpravy povrchů vnější | C15: =ROZPOČET!G73 -> 34595.185
A16: 63 | B16: Podlahy | C16: =ROZPOČET!G77 -> 38548.815
A17: 9 | B17: Ostatní konstrukce a práce | C17: =ROZPOČET!G81 -> 5840
A18: 94 | B18: Lešení a stavební výtahy | C18: =ROZPOČET!G88 -> 23083.981
A19: 96 | B19: Bourání konstrukcí | C19: =ROZPOČET!G140 -> 191049.61
A20: 99 | B20: Přesun hmot | C20: =ROZPOČET!G144 -> 47095.156
B21: HSV CELKEM | C21: =SUM(C9:C20) -> 596970.35
B23: PSV:
A24: 711 | B24: Izolace proti vodě | C24: =ROZPOČET!G155 -> 5228.2919
A25: 712 | B25: Povlakové krytiny | C25: =ROZPOČET!G165 -> 12379.979
A26: 713 | B26: Izolace tepelné | C26: =ROZPOČET!G197 -> 118767.55
A27: 762 | B27: Konstrukce tesařské | C27: =ROZPOČET!G239 -> 131715.49
A28: 763 | B28: Dřevostavby a konstrukce sádrokartonové | C28: =ROZPOČET!G251 -> 93239.423
A29: 764 | B29: Konstrukce klempířské | C29: =ROZPOČET!G265 -> 102992
A30: 765 | B30: Tvrdé krytiny | C30: =ROZPOČET!G272 -> 19414.802
A31: 766 | B31: Konstrukce truhlářské | C31: =ROZPOČET!G294 -> 170787.82
A32: 767 | B32: Kovové doplňkové konstrukce | C32: =ROZPOČET!G300 -> 36740.785
A33: 771 | B33: Podlahy z dlaždic | C33: =ROZPOČET!G312 -> 15114.629
A34: 776 | B34: Podlahy povlakové | C34: =ROZPOČET!G322 -> 96206.775
A35: 781 | B35: Obklady | C35: =ROZPOČET!G336 -> 45622.938
A36: 783 | B36: Nátěry | C36: =ROZPOČET!G350 -> 12732.581
A37: 784 | B37: Malby | C37: =ROZPOČET!G366 -> 15361.999
B38: PSV CELKEM | C38: =SUM(C24:C37) -> 876305.07
B40: INSTALACE:
A41: 720 | B41: Zdravotně technické instalace | C41: =ROZPOČET!G375+ROZPOČET!G378 -> 0
A42: 730 | B42: Ústřední vytápění | C42: =ROZPOČET!G381 -> 0
B43: INSTALACE CELKEM | C43: =SUM(C41:C42) -> 0
B45: MONTÁŽNÍ PRÁCE:
...

Sheet ROZPOČET
A1: Stavba : - | H1: Cenová úroveň : 2017/I
A2: Objekt : SO-01 - DOSTAVBA HASIČSKÉ ZBROJNICE | H2: Datum zpracování :
A4: POLOŽKOVÝ ROZPOČET S VÝKAZEM VÝMĚR
A6: Poř. | B6: Kód položky | C6: Název položky | D6: M.J. | E6: Množství | F6: CENA | H6: HMOTNOST
A7: čís.
A8: pol. | F8: jednotková | G8: celková | H8: jednotková | I8: celková
A9: 1. | B9: 2. | C9: 3. | D9: 4. | E9: 5. | F9: 6. | G9: 7. | H9: 8. | I9: 9.
C10: HSV:
B11: oddíl 1 | C11: Zemní práce:
A12: 1 | B12: C-113107113-0 | C12: ODSTR PODKLADU 200M2 KAM TEZ TL 30CM | D12: M2 | E12: 122 | F12: 50.005258 | G12: =E12*F12 -> 6100.6415 | H12: 0.5 | I12: =E12*H12 -> 61
B13: 1 | C13: ZEMNÍ PRÁCE CELKEM | G13: =SUM(G12:G12) -> 6100.6415 | I13: =SUM(I12:I12) -> 61
B14: oddíl 2 | C14: Základy a zvláštní zakládání:
A15: =A12+1 -> 2 | B15: Y-210-0 | C15: ZHUTNENI PODLOZI | D15: M2 | E15: 122 | F15: 7.9691221 | G15: =E15*F15 -> 972.2329 | H15: 0 | I15: =E15*H15 -> 0
B16: 2 | C16: ZÁKLADY A ZVLÁŠTNÍ ZAKLÁDÁNÍ CELKEM | G16: =SUM(G15:G15) -> 972.2329 | I16: =SUM(I15:I15) -> 0
B17: oddíl 3 | C17: Svislé konstrukce:
A18: =A15+1 -> 3 | B18: C-342241151-0 | C18: PRICKY TVAR CDm 24 P15 MVC TL 11,5CM | D18: M2 | E18: 7.248 | F18: 569.71914 | G18: =E18*F18 -> 4129.3243 | H18: 0.16737318 | I18: =E18*H18 -> 1.2131208
C19: D.1.1.14 | E19: 7.24775
B20: množství = | C20: (1,735+0,1+0,9)*2,65
A21: =A18+1 -> 4 | B21: C-311237628-0 | C21: ZDI OBV PTH KLASIK PD 44 P15 MAL TI | D21: M2 | E21: 4.5 | F21: 1632.1306 | G21: =E21*F21 -> 7344.5878 | H21: 0.33699878 | I21: =E21*H21 -> 1.5164945
B22: množství = | C22: 0,25*9*2
A23: =A21+1 -> 5 | B23: C-311237638-0 | C23: ZDI OBV PTH KLASIK PD 38 P15 MAL TI | D23: M2 | E23: 9.9625 | F23: 1458.451 | G23: =E23*F23 -> 14529.818 | H23: 0.28920678 | I23: =E23*H23 -> 2.8812226
B24: množství = | C24: (1,25*1,25)*4+(0,735*1,25)*2+(0,75*1,25)*2
A25: =A23+1 -> 6 | B25: C-317324131-0 | C25: ZTUZ VENCE KLENEB BZ C20/25 | D25: M3 | E25: 1.08 | F25: 4503.4674 | G25: =E25*F25 -> 4863.7448 | H25: 2.4358167 | I25: =E25*H25 -> 2.630682
B26: množství = | C26: (0,2*0,3*9)*2
A27: =A25+1 -> 7 | B27: C-317361141-0 | C27: VYZTUZ VENCU KLENEB RIMS OCEL 10505 | D27: T | E27: 0.07 | F27: 25977.143 | G27: =E27*F27 -> 1818.4 | H27: 1.0360752 | I27: =E27*H27 -> 0.072525264
B28: 3 | C28: SVISLÉ KONSTRUKCE CELKEM | G28: =SUM(G18:G27) -> 32685.875 | I28: =SUM(I18:I27) -> 8.3140452
B29: oddíl 4 | C29: Vodorovné konstrukce:
A30: =A27+1 -> 8 | B30: C-417351115-0 | C30: BEDNENI ZTUZUJICICH VENCU ZRIZENI | D30: M2 | E30: 7.2 | F30: 388.98824 | G30: =E30*F30 -> 2800.7153 | H30: 0.003233478 | I30: =E30*H30 -> 0.023281042
B31: množství = | C31: (0,2+0,2)*9*2
A32: =A30+1 -> 9 | B32: C-417351116-0 | C32: BEDNENI ZTUZUJICICH VENCU ODSTRANENI | D32: M2 | E32: 7.2 | F32: 65.464512 | G32: =E32*F32 -> 471.34449 | H32: 0 | I32: =E32*H32 -> 0
A33: =A32+1 -> 10 | B33: C-413351107-0 | C33: BEDNENI NOSNIKU ZRIZENI | D33: M2 | E33: 6.3 | F33: 486.41084 | G33: =E33*F33 -> 3064.3883 | H33: 0.004122628 | I33: =E33*H33 -> 0.025972556
B34: množství = | C34: ((0,3*1,5)+(0,2*1,5)*2)*6
A35: =A33+1 -> 11 | B35: C-413351108-0 | C35: BEDNENI NOSNIKU ODSTRANENI | D35: M2 | E35: 6.3 | F35: 90.457199 | G35: =E35*F35 -> 569.88035 | H35: 0 | I35: =E35*H35 -> 0
B36: 4 | C36: VODOROVNÉ KONSTRUKCE CELKEM | G36: =SUM(G30:G35) -> 6906.3285 | I36: =SUM(I30:I35) -> 0.049253598
B37: oddíl 5 | C37: Komunikace:
A38: =A35+1 -> 12 | B38: C-564871111-0 | C38: PODKLAD ZE STERKODRTE TL PO ZHUT 25CM | D38: M2 | E38: 122 | F38: 238.39559 | G38: =E38*F38 -> 29084.262 | H38: 0.46166 | I38: =E38*H38 -> 56.32252
A39: =A38+1 -> 13 | B39: C-567122111-0 | C39: PODKLAD KAM ZPEV CEM KZC1 TL 12CM | D39: M2 | E39: 122 | F39: 286.50075 | G39: =E39*F39 -> 34953.092 | H39: 0.2928192 | I39: =E39*H39 -> 35.723942
A40: =A39+1 -> 14 | B40: C-581142115-0 | C40: KRYT CEMENTOB SKUP 1 A 2 TL 25CM | D40: M2 | E40: 122 | F40: 935.60011 | G40: =E40*F40 -> 114143.21 | H40: 0.599274 | I40: =E40*H40 -> 73.111428
B41: 5 | C41: KOMUNIKACE CELKEM | G41: =SUM(G38:G40) -> 178180.57 | I41: =SUM(I38:I40) -> 165.15789
B42: oddíl 61 | C42: Úpravy povrchů vnitřní:
...
