Workbook
Name cisloobjektu: '[1]Krycí list'!$A$4
Name fghjhg: '[2]Krycí list'!$A$4
Name kriterium1: #REF!
Name kriterium1: #REF!
Name nazevobjektu: '[1]Krycí list'!$C$4
Name whefuigf: '[2]Krycí list'!$C$4

Sheet Krycí list nabídky
A1: Plošné rekonstrukce komunikací v Praze-Kunraticích
A2: Tabulka číslo 1
A3: Krycí list nabídky
A4: Nabídku podává JEDEN dodavatel
A5: Název nebo obchodní firma
B6: Název nebo obchodní firma
A7: Sídlo
A9: Právní forma
A11: Identifikační číslo | G11: NUTS | K11: Daňové identifikační číslo
A13: Jméno a příjmení statutárního orgánu nebo jeho členů
A15: Jméno a příjmení jiné fyzické osoby oprávněné jednat jménem
A17: Kontaktní informace
A18: Telefon účastníka | F18: E-mailová adresa | K18: ID datové schránky
A20: Velikost podniku* - zaškrtněte
B21: mikro | D21: malý | F21: střední | H21: velký
B22: *mikro: < 10 zaměstnanců, roční obrat < 2 mil. EUR; malý: < 50 zaměstnanců, roční obrat < 10 mil. EUR; střední: < 250 zaměstnanců, roční obrat < 43 mil. EUR; velký: > 250 zaměstnanců, roční obrat > 43 mil. EUR
A23: Nabídku podává VÍCE dodavatelů
A24: Název společnosti dodavatelů, pokud je stanoven:
B25: Název společnosti více dodavatelů
A26: Doručovací adresa společnosti dodavatelů
A28: Kontaktní údaje účastníka zadávacího řízení / vedoucího společníka
A29: Telefon | I29: E-mailová společnosti dodavatelů
A31: Identifikační údaje jednotlivých dodavatelů:
B32: 1. dodavatel | D32: Obchodní firma, název
B33: vedoucí společník | D33: sídlo
D34: Jména a příjmení členů statutárního orgánu
D35: velikost podniku: (zaškrtněte) | F35: mikro | G35: malý | H35: střední | I35: velký | J35: kód NUTS | L35: ID datové schránky
B36: 2. dodavatel | D36: Obchodní firma, název
B37: Další společník | D37: sídlo
D38: Jména a příjmení členů statutárního orgánu
D39: velikost podniku: (zaškrtněte) | F39: mikro | G39: malý | H39: střední | I39: velký | J39: kód NUTS | L39: ID datové schránky
B40: *mikro: < 10 zaměstnanců, roční obrat < 2 mil. EUR; malý: < 50 zaměstnanců, roční obrat < 10 mil. EUR; střední: < 250 zaměstnanců, roční obrat < 43 mil. EUR; velký: > 250 zaměstnanců, roční obrat > 43 mil. EUR
A41: Údaje účastníka zadávacího řízení k Hodnotícímu kritériu
B42: popis | K42: nabídková cena v Kč
K43: bez DPH | L43: DPH | M43: včetně DPH
B44: Nabídková cena za část SO 101 - OBLAST NAD RYBNÍČKY (údaj převzatý z ROZPOČTU) | M44: =K44+L44 -> 0
B45: Nabídková cena za část SO 102a - OBLAST LESNÍ (údaj převzatý z ROZPOČTU) | M45: =K45+L45 -> 0
B46: Nabídková cena za část SO 102b - OBLAST DĚBOLÍNSKÁ (údaj převzatý z ROZPOČTU) | M46: =K46+L46 -> 0
B47: Nabídková cena za část SO 103 - OBLAST ÚHLAVSKÁ (údaj převzatý z ROZPOČTU) | M47: =K47+L47 -> 0
B48: Nabídková cena za část SO 104 - OBLAST HŘBITOV (údaj převzatý z ROZPOČTU) | M48: =K48+L48 -> 0
B49: Ostatní výše neuvedené (údaj převzatý z tabulky Položkový výkaz výměr ostatních nákladů stavby) | M49: =K49+L49 -> 0
B50: Nabídková cena účastníka zadávacího řízení za předmět veřejné zakázky celkem | K50: =SUM(K44:K49) -> 0 | L50: =SUM(L44:L49) -> 0 | M50: =SUM(M44:M49) -> 0
B53: Legenda
C54: takto označené buňky vyplní účastníků zadávacího řízení | H54: X | I54: takto označené buňky budou přeneseny do protokolu o otevírání obálek nabídek
A56: Dodavatel tímto prohlašuje, že veškeré jím výše uvedené údaje odpovídají skutečnosti ke dni podání jeho nabídky, jsou pravdivé a jsou pro dodavatele jako pro účastníka zadávacího řízení závazné pro realizaci předmětu této veřejné zakázky. Toto prohlášení je projevem vážné, pravé a svobodné vůle účastníka zadávacího řízení a nebylo učiněno v tísni či za nápadně nevýhodných podmínek. Na důkaz souhlasu připojuje osoba oprávněná jednat jménem či za účastníka zadávacího řízení svůj vlastnoruční podpis, jak následuje.
A61: V ……………………...………… dne ……………..………….. 2017 | K61: ……………………………................................................…….…………
K62: vlastnoruční podpis osoby oprávněné jednat jménem či za účastníka zadávacího řízení

Sheet Poddodavaté (v nabídce)
A1: ='Krycí list nabídky'!A1:M1 -> Plošné rekonstrukce komunikací v Praze-Kunraticích
A2: Tabulka číslo 2
A3: Poddodavatelé účastníka zadávacího řízení
A4: přehled poddodavatelů pro nabídku účastníka zadávacího řízení
A5: přehled poddodavatelů, kteří se budou podílet na plnění veřejné zakázky z více jak 20 % objemu zadávané veřejné zakázky
A6: Název nebo obchodní firma účastníka zadávacího řízení
B7: ='Krycí list nabídky'!B6:M6 -> Název nebo obchodní firma
A9: č. | B9: identifikační údaje poddodavatele | E9: poddodavatel prokazuje část kvalifikace účastníka zadávacího řízení | F9: objem poddodávky z celkového objemu zakázky | G9: specifikace prací realizovaných poddodavatelem /specifikace práv poskytovaných poddodavatelem k prokázání kvalifikace účastníka zadávacího řízení
B10: Obchodní firma, název | C10: Sídlo | D10: IČ | E10: ANO / NE | F10: %
A11: 1
A12: 2
A13: 3
A14: 4
A15: 5
A16: 6
A17: 7
A18: 8
A19: 9
A20: 10
C22: Legenda
E23: takto označené buňky vyplní účastní zadávacího řízení
A24: Dodavatel tímto prohlašuje, že veškeré jím výše uvedené údaje odpovídají skutečnosti ke dni podání jeho nabídky, jsou pravdivé a jsou pro dodavatele jako pro účastníka zadávacího řízení závazné pro realizaci předmětu této veřejné zakázky. Toto prohlášení je projevem vážné, pravé a svobodné vůle účastníka zadávacího řízení a nebylo učiněno v tísni či za nápadně nevýhodných podmínek. Na důkaz souhlasu připojuje osoba oprávněná jednat jménem či za účastníka zadávacího řízení svůj vlastnoruční podpis, jak následuje.
A27: ='Krycí list nabídky'!A61:G61 -> V ……………………...………… dne ……………..………….. 2017 | G27: ..........................................................................................
G28: =#REF! -> #REF!

Sheet ORN
A1: ='Krycí list nabídky'!A1:M1 -> Plošné rekonstrukce komunikací v Praze-Kunraticích
A2: Tabulka číslo 3
A3: Položkový výkaz výměr ostatních nákladů stavby
A4: Název nebo obchodní firma účastníka zadávacího řízení
B5: ='Krycí list nabídky'!B6:M6 -> Název nebo obchodní firma
A7: Stavba:
A8: OBJEKT:
A9: ROZPOČET: | B9: Ostatní rozpočtové náklady stavby
A11: pořadové číslo | B11: Číslo položky | C11: Název položky | D11: MJ | E11: množství MJ | F11: jednotková cena v Kč bez DPH/MJ | G11: cena v Kč bez DPH celkem
A12: 1 | B12: ORN1 | C12: Dokumentace skutečného provedení stavby Náklady na zpracování dokumentace skutečného provedení stavby v rozsahu stanoveném vyhláškou číslo 499/2006 Sb. ve 3 tištěných vyhotoveních a v 1 datovém vyhotovení ve formátu pdf v rozsahu a podle obchodních podmínek | D12: soubor | E12: 1 | G12: =E12*F12 -> 0
A13: =A12+1 -> 2 | B13: ORN2 | C13: BOZP Náklady na zpracování plánu bezpečnosti a ochrany zdraví při práci na staveništi dle požadavků stanovených v § 15 odst. 2 zákona č. 309/2006 Sb. | D13: soubor | E13: 1 | G13: =E13*F13 -> 0
A14: =A13+1 -> 3 | B14: ORN3 | C14: Dokumentace stavebně-technického stavu konstrukcí dotčených objektů Náklady na zdokumentování stavebně-technického stavu konstrukcí dotčených sousedních nadzemních a podzemních objektů před zahájením výstavby a po dokončení výstavby k prokázání nepoškození těchto konstrukcí vlivem výstavby | D14: soubor | E14: 1 | G14: =E14*F14 -> 0
A15: =A14+1 -> 4 | B15: ORN4 | C15: Fotodokumentace postupu provádění stavby Náklady spojené s pořizování průběžné fotodokumentace postupu provádění stavby, v jednom elektronickém vyhotovení ve formátu jpg. nebo pdf. na vhodném datovém nosiči | D15: soubor | E15: 1 | G15: =E15*F15 -> 0
A16: =A15+1 -> 5 | B16: ORN5 | C16: Výkon funkce odpovědného geodeta po celou dobu realizace stavby | D16: soubor | E16: 1 | G16: =E16*F16 -> 0
A17: =A16+1 -> 6 | B17: ORN6 | C17: Ověření a vytýčení Ověření a vytýčení polohy stávajících podzemních inženýrských sítí a provedení dopravně-inženýrských opatření vč. dopravního značení před zahájením prací | D17: soubor | E17: 1 | G17: =E17*F17 -> 0
A18: =A17+1 -> 7 | B18: ORN7 | C18: Zkoušky, atesty, certifikáty, prohlášení o shodě apod. Náklady spojené s prováděním veškerých předepsaných a sjednaných zkoušek vč. vystavení dokladů o jejich provedení, doložení atestů, certifikátů, prohlášení o shodě apod. Vše ve 3 tištěných vyhotoveních a v jednom elektronickém vyhotovení ve formátu pdf na vhodném datovém nosiči v rozsahu a podle obchodních podmínek | D18: soubor | E18: 1 | G18: =E18*F18 -> 0
A19: =A18+1 -> 8 | B19: ORN8 | C19: Celkový úklid stavby, staveniště a okolí staveniště před předáním a převzetím Náklady spojené s kompletním a úplným vyčistěním stavby, staveniště a okolí před předáním a převzetím a to v takovém rozsahu, který umožní okamžité užívání bez provádění jakéhokoliv dalšího úklidu ze strany objednatele. Součástí úklidu je i úklid okolních ploch a komunikací, uvedení okolí stavby do stavu podle projektu (pokud je okolí stavby projektem řešeno) nebo do stavu před zahájením realizace (u ploch a komunikací, které nejsou projektem řešeny). | D19: soubor | E19: 1 | G19: =E19*F19 -> 0
A20: =A19+1 -> 9 | B20: ORN9 | C20: Bankovní záruky a ostatní finanční náklady Náklady spojené s poskytnutím bankovní záruky na zajištění řádného a včasného provedení díla - splnění předmětu díla - a náklady spojené s poskytnutím bankovní záruky na zajištění odpovědnosti za řádné odstraňování vad díla po dobu trvání záruční dobu v rozsahu obchodních podmínek včetně ostatních finančních nákladů zhotovitele souvisejících s řádným a úplným provedením předmětu smlouvy | D20: soubor | E20: 1 | G20: =E20*F20 -> 0
A21: =A20+1 -> 10 | B21: ORN10 | C21: Pojištění dodavatele a pojištění díla Náklady spojené s povinným pojištěním dodavatele nebo stavebního díla či jeho části, v rozsahu obchodních podmínek | D21: soubor | E21: 1 | G21: =E21*F21 -> 0
A26: Ostatní rozpočtové náklady stavby bez DPH celkem | F26: =SUM(G12:G25) -> 0
A27: DPH se sazbou ..... %
A28: Ostatní rozpočtové náklady stavby včetně DPH celkem | F28: =SUM(F26:G27) -> 0
A30: Legenda
C31: takto označené buňky vyplní účastník zadávacího řízení
A33: Dodavatel tímto prohlašuje, že veškeré jím výše uvedené údaje odpovídají skutečnosti ke dni podání jeho nabídky / žádosti o účast, jsou pravdivé a jsou pro dodavatele jako pro účastníka zadávacího řízení závazné pro realizaci předmětu této veřejné zakázky. Toto prohlášení je projevem vážné, pravé a svobodné vůle účastníka zadávacího řízení a nebylo učiněno v tísni či za nápadně nevýhodných podmínek. Na důkaz souhlasu připojuje osoba oprávněná jednat jménem či za účastníka zadávacího řízení svůj vlastnoruční podpis, jak následuje.
C37: ='Krycí list nabídky'!A61 -> V ……………………...………… dne ……………..………….. 2017 | D37: ……………………………................................................…….…………
D38: vlastnoruční podpis osoby oprávněné jednat jménem či za účastníka zadávacího řízení

Sheet Přehled referencí - stavba
A1: ='Krycí list nabídky'!A1:M1 -> Plošné rekonstrukce komunikací v Praze-Kunraticích
A2: Tabulka číslo 4
A3: Přehled realizovaných zakázek
A4: Seznam stavebních prací poskytnutých za posledních 5 let před zahájením zadávacího řízení
A5: Název nebo obchodní firma účastníka zadávacího řízení
B6: ='Krycí list nabídky'!B6:M6 -> Název nebo obchodní firma
A8: Obdobnou stavební prací se rozumí řádně dokončená a předaná realizace pozemní komunikace, (oprava rekonstrukce či realizace), jejichž celkový finanční objem byl alespoň 18 mil. Kč bez DPH
A9: číslo | B9: Název obdobné stavební práce | C9: Místo provedení obdobné stavební práce | D9: Objednatel (subjekt, adresa) | E9: Kontaktní osoba objednatele (jméno, příjmení) | G9: Termín provedení obdobné stavební práce | I9: Finanční objem obdobné stavební práce v mil. Kč bez DPH | J9: Osvědčení objednatele
E10: telefon kontaktní osoby | F10: e-mail kontaktní osoby | G10: zahájení | H10: ukončení | J10: přiloženo / nepřiloženo
A11: 1
A13: 2
A15: 3
A17: 4
A19: 5
A21: 6
B24: Legenda
D25: takto označené buňky vyplní účastník zadávacího řízení, přičemž takto označený blok je požadovaným minimem k prokázání splnění technického kritéria kvalifikace
A27: Dodavatel tímto prohlašuje, že veškeré jím výše uvedené údaje odpovídají skutečnosti ke dni podání jeho nabídky / žádosti o účast, jsou pravdivé a jsou pro dodavatele jako pro účastníka zadávacího řízení závazné pro realizaci předmětu této veřejné zakázky. Toto prohlášení je projevem vážné, pravé a svobodné vůle účastníka zadávacího řízení a nebylo učiněno v tísni či za nápadně nevýhodných podmínek. Na důkaz souhlasu připojuje osoba oprávněná jednat jménem či za účastníka zadávacího řízení svůj vlastnoruční podpis, jak následuje.
A30: ='Krycí list nabídky'!A61:G61 -> V ……………………...………… dne ……………..………….. 2017 | F30: ........................................................................................................................
F31: vlastnoruční podpis osoby oprávněné jednat jménem či za účastníka zadávacího řízení

Sheet Realizační tým
A1: ='Krycí list nabídky'!A1:M1 -> Plošné rekonstrukce komunikací v Praze-Kunraticích
A2: tabulka číslo 5
A3: Realizační tým
A4: Seznam techniků, kteří se budou podílet na plnění veřejné zakázky
A5: Název nebo obchodní firma účastníka zadávacího řízení
B6: ='Krycí list nabídky'!B6:M6 -> Název nebo obchodní firma
A8: pol. | B8: pozice | C8: jméno | D8: autorizace | E8: vzdělání | F8: délka praxe | G8: zaměstnanec ZAM / subdodavatel SUB
A9: 1 | B9: hlavní stavbyvedoucí
A10: 2 | B10: stavbyvedoucí
A11: 3
A12: 4
A13: 5
A14: 6
A15: 7
A16: 8
D18: Legenda
E19: takto označené buňky vyplní účastník zadávacího řízení
A21: Dodavatel tímto prohlašuje, že veškeré jím výše uvedené údaje odpovídají skutečnosti ke dni podání jeho nabídky / žádosti o účast, jsou pravdivé a výše uvedené osoby se budou podíle na plnění veřejné zakázky. Výše uvedené skutečnosti jsou pro dodavatele jako pro účastníka zadávacího řízení závazné pro realizaci předmětu této veřejné zakázky. Toto prohlášení je projevem vážné, pravé a svobodné vůle účastníka zadávacího řízení a nebylo učiněno v tísni či za nápadně nevýhodných podmínek. Na důkaz souhlasu připojuje osoba oprávněná jednat jménem či za účastníka zadávacího řízení svůj vlastnoruční podpis, jak následuje.
A23: ='Krycí list nabídky'!A61 -> V ……………………...………… dne ……………..………….. 2017 | D23: ....................................................................................................
D24: vlastnoruční podpis osoby oprávněné jednat jménem či za účastníka zadávacího řízení

Sheet Počet zaměstnanců
A1: ='Krycí list nabídky'!A1:M1 -> Plošné rekonstrukce komunikací v Praze-Kunraticích
A2: Tabulka číslo 6
A3: Počet zaměstnanců
A4: Přehled průměrného ročního počtu zaměstnanců dodavatele za poslední 3 roky
B5: Název nebo obchodní firma účastníka zadávacího řízení
B6: ='Krycí list nabídky'!B6:M6 -> Název nebo obchodní firma
B8: období | C8: minimální požadovaná hodnota | D8: skutečná hodnota dodavatele
C9: zadavatelem poadovaný průměrný počet zaměstnanců dodavatele | D9: průměrný počet zaměstnanců dodavatele
B10: 2014 | C10: 20
B11: 2015 | C11: 20
B12: 2016 | C12: 20
B14: Legenda
C15: takto označené buňky vyplní účastník zadávacího řízení
A17: Dodavatel tímto prohlašuje, že veškeré jím výše uvedené údaje odpovídají skutečnosti ke dni podání jeho nabídky, jsou pravdivé a jsou pro dodavatele jako pro účastníka zadávacího řízení závazné pro realizaci předmětu této veřejné zakázky. Toto prohlášení je projevem vážné, pravé a svobodné vůle účastníka zadávacího řízení a nebylo učiněno v tísni či za nápadně nevýhodných podmínek. Na důkaz souhlasu připojuje osoba oprávněná jednat jménem či za účastníka zadávacího řízení svůj vlastnoruční podpis, jak následuje.
B19: ='Krycí list nabídky'!A61 -> V ……………………...………… dne ……………..………….. 2017 | D19: ……………………………........................................
D20: vlastnoruční podpis osoby oprávněné jednat jménem či za účastníka zadávacího řízení

Sheet Seznam TKP
A1: ='Krycí list nabídky'!A1:M1 -> Plošné rekonstrukce komunikací v Praze-Kunraticích
A2: Tabulka číslo 7
A3: SEZNAM DOKLADŮ K PROKÁZÁNÍ KVALIFIKACE
A4: Název nebo obchodní firma uchazeče
B5: ='Krycí list nabídky'!B6:M6 -> Název nebo obchodní firma | L5: takto označené buňky vyplní uchazeč
A6: Uchazeč jako součást nabídky doloží tuto vyplněnou tabulku (v tištěné podobě a současně v datové editovatelné podobě), v níž uvede soupis dokladů, kterými v nabídce prokazuje splnění technických kvalifikačních předpokladů. Položky, které je třeba v tabulce vyplnit, odpovídají požadavkům § 59 odst. 6 zákona. Tabulka bude přenesena do Protokolu o posouzení kvalifikace. Vyplněním tabulky přímo uchazečem bude zamezeno zkreslení údajů, které mají být uvedeny v Protokolu o posouzení kvalifikace. Zadavatel si však vyhrazuje právo opravit případné chyby či rozdíly, pokud údaje v tabulce nebudou odpovídat dokladům doloženým v nabídce.
A7: ZÁKLADNÍ ZPŮSOBILOST
A8: p. č. dokladu | B8: název dokladu | C8: název subjektu, pro něhož je doklad vyhotoven (název účastníka zadávacího řízení nebo subdodavatele účastníka zadávacího řízení) | D8: označení osoby, která doklad vyhotovila | G8: datum vyhotovení dokladu | H8: u referencí označnení dodávek, služeb či st.prací | I8: v případě prokazování kvalifikace postupem podle § 51/4 - prostřednictvím subdodavatele (tj. příslušný doklad je vyhotoven pro subdodavatele uchazeče)
I9: identifikační údaje subdodavatele, jehož prostřednictvím uchazeč prokazuje kvalifikaci | L9: název smlouvy | M9: datum uzavření smlouvy
D10: Název úřadu / správy / soudu | E10: sídlo | I10: obchodní firma nebo název | J10: sídlo | K10: IČ
A11: 1
A12: 2
A13: 3
A14: 4
A15: PROFESNÍ ZPŮSOBILOST
A16: p. č. dokladu | B16: název dokladu | C16: název subjektu, pro něhož je doklad vyhotoven (název účastníka zadávacího řízení nebo subdodavatele účastníka zadávacího řízení) | D16: označení osoby, která doklad vyhotovila | G16: datum vyhotovení dokladu | H16: u referencí označnení dodávek, služeb či st.prací | I16: v případě prokazování kvalifikace postupem podle § 51/4 - prostřednictvím subdodavatele (tj. příslušný doklad je vyhotoven pro subdodavatele uchazeče)
I17: identifikační údaje subdodavatele, jehož prostřednictvím uchazeč prokazuje kvalifikaci | L17: název smlouvy | M17: datum uzavření smlouvy
D18: Název úřadu / správy / soudu | E18: sídlo | I18: obchodní firma nebo název | J18: sídlo | K18: IČ
A19: 5
A20: 6
A21: 2
A22: 8
A23: 9
A24: EKONOMICKÁ ZPŮSOBILOST
A25: p. č. dokladu | B25: název dokladu | C25: název subjektu, pro něhož je doklad vyhotoven | D25: označení osoby, která doklad vyhotovila | G25: datum vyhotovení dokladu | H25: u referencí označnení dodávek, služeb či st.prací | I25: v případě prokazování kvalifikace postupem podle § 51/4 - prostřednictvím subdodavatele (tj. příslušný doklad je vyhotoven pro subdodavatele uchazeče)
C26: (název účastníka zadávacího řízení nebo subdodavatele účastníka zadávacího řízení) | I26: identifikační údaje subdodavatele, jehož prostřednictvím uchazeč prokazuje kvalifikaci | L26: název smlouvy | M26: datum uzavření smlouvy
D27: Název úřadu / správy / soudu | E27: sídlo | F27: IČ | I27: obchodní firma nebo název | J27: sídlo | K27: IČ
A28: 10
A29: 11
A30: 12
A31: 13
A32: 14
A33: TECHNICKÁ ZPŮSOBILOST
A34: p. č. dokladu | B34: název dokladu | C34: název subjektu, pro něhož je doklad vyhotoven | D34: označení osoby, která doklad vyhotovila | G34: datum vyhotovení dokladu | H34: u referencí označnení dodávek, služeb či st.prací | I34: v případě prokazování kvalifikace postupem podle § 51/4 - prostřednictvím subdodavatele (tj. příslušný doklad je vyhotoven pro subdodavatele uchazeče)
C35: (název účastníka zadávacího řízení nebo subdodavatele účastníka zadávacího řízení) | I35: identifikační údaje subdodavatele, jehož prostřednictvím uchazeč prokazuje kvalifikaci | L35: název smlouvy | M35: datum uzavření smlouvy
D36: Název úřadu / správy / soudu | E36: sídlo | F36: IČ | I36: obchodní firma nebo název | J36: sídlo | K36: IČ
A37: 15
A38: 16
A39: 17
A40: 18
A41: 19
A42: 20
A43: 21
A44: 22
A45: 23
A46: 24
A47: 25
A48: 26
... A59: 37
A60: Přehled dokladů, které byly k prokázání kvalifikace předloženy dodatečně
A61: 1
A62: 2
A63: 3
A64: 4
A65: 5
A68: Dodavatel tímto prohlašuje, že veškeré jím výše uvedené údaje odpovídají skutečnosti ke dni podání nabídky a jsou pravdivé.
A69: Toto prohlášení je projevem vážné, pravé a svobodné vůle uchazeče a nebylo učiněno v tísni či za nápadně nevýhodných podmínek. Na důkaz souhlasu připojuje osoba oprávněná jednat jménem či za uchazeče svůj vlastnoruční podpis, jak následuje.
A71: ='Krycí list nabídky'!A61:G61 -> V ……………………...………… dne ……………..………….. 2017 | J71: .....................................................................................................................................
J72: vlastnoruční podpis osoby oprávněné jednat jménem či za uchazeče
