Workbook

Sheet Návrh 2025 příjmy 
A2: NÁVRH ROZPOČTU 2025 a Plnění příjmů a čerpání výdajů rozpočtu 2024
A3: Příloha 1
A5: Položka | B5: Paragraf | C5: Rozpočtové příjmy | D5: RS 2024 | E5: RU 2024 | F5: Skutečnost Kč | G5: Rok 2025 | H5: Rok 2025
C6: Název | D6: tis. Kč | E6: tis. Kč | F6: 12/2024 | G6: tis. Kč | H6: tis. Kč
C7: Daňové příjmy:
A8: 1341 | C8: Příjem z poplatků ze psů | D8: 185 | E8: 185 | F8: 210468 | G8: 200
A9: 1342 | C9: Příjem z poplatků z pobytu | D9: 400 | E9: 400 | F9: 927750 | G9: 700
A10: 1343 | C10: Příjem z poplatku za užívání veřejného prostranství | D10: 450 | E10: 1550 | F10: 1702559 | G10: 600
A11: 1344 | C11: Příjem z poplatku ze vstupného | D11: 0 | E11: 0 | F11: 19785.2 | G11: 10
A12: 1361 | C12: Příjem ze správních poplatků | D12: 100 | E12: 100 | F12: 101710 | G12: 100
A13: 1511 | C13: Příjem z daně z nemovitých věcí | D13: 16000 | E13: =16000+7000 -> 23000 | F13: 30906066 | G13: 26000
C14: Daňové příjmy celkem | D14: =SUM(D8:D13) -> 17135 | E14: =SUM(E8:E13) -> 25235 | F14: =SUM(F8:F13) -> 33868338 | G14: =SUM(G8:G13) -> 27610 | H14: =G14 -> 27610
C16: Nedaňové příjmy:
A17: 2111 | B17: 3314 | C17: Příjmy z poskytování služeb a výrobků, prací, výkonů a práv - knihovna | D17: 14 | E17: 14 | F17: 19600 | G17: 19
A18: 2111 | B18: 3319 | C18: Příjmy z poskytování služeb a výrobků, prací, výkonů a práv - kultura | D18: 0 | E18: 42 | F18: 42000 | G18: 38
A19: 2111 | B19: 3632 | C19: Příjmy z poskytování služeb a výrobků, prací, výkonů a práv -pohřebnictví | D19: 16 | E19: 16 | F19: 34100 | G19: 25
A20: 2111 | B20: 6171 | C20: Příjmy z poskytování služeb a výrobků, prací, výkonů a práv - místní správa-úhrada za poskytování informací dle zákona 106/1999 Sb. | D20: 2 | E20: 2 | F20: 0 | G20: 2
A21: 2112 | B21: 3319 | C21: Příjmy z prodeje zboží-kultura-knihy o Kunraticích | D21: 1.8 | E21: 1.8 | F21: 299 | G21: 20
A22: 2139 | B22: 3632 | C22: Ostatní příjmy z pronájmu majetku-pronájem hrobů | D22: 490 | E22: 490 | F22: 582517 | G22: 500
A23: 2141 | B23: 6310 | C23: Příjmy z úroků | D23: 700 | E23: =700+6000 -> 6700 | F23: 7473318.7 | G23: 4500
A24: 2212 | B24: 6171 | C24: Příjem sankčních plateb přijatých od jiných osob - smluvní pokuty a pokuty z přestupků | D24: 50 | E24: 50 | F24: 24000 | G24: 30
A25: 2229 | C25: Ostatní přijaté vratky transferů-vratky dotací k finančnímu vypořádání:
A26: 2229 | B26: 3113 | C26: ZŠ vratka dotace Zkvalitnění výuky tělesné výchovy | D26: 0 | E26: 235 | F26: 235000 | G26: 0
A27: 2229 | B27: 3113 | C27: ZŠ vratka dotace OP PPR od Základní školy-podíl EU a HMP (2xDem. kultura á 116,80) | D27: 0 | E27: =116.8+116.8 -> 233.6 | F27: =116788.12+116788.12 -> 233576.24 | G27: 0
A28: 2229 | B28: 3319 | C28: vratka od Jihoměstská sociální, a.s.- za nevyčerpané příspěvky na plavání seniorů v r. 2023 | D28: 0 | E28: 7.3 | F28: 7350 | G28: 0
A29: 2321 | B29: 3745 | C29: Finanční příspěvek fy CEMEX.cz na účely rozvoje a úpravy zeleně v obci | D29: 0 | E29: 70 | F29: 70000 | G29: 0
A30: 2322 | B30: 6171 | C30: Příjem z pojistných plnění | D30: 0 | E30: 0 | F30: 16420 | G30: 0
A31: 2324 | B31: 6171 | C31: Přijaté neinvestiční příspěvky a náhrady- přeplatky záloh, vypořádání záloh (Česká pošta aj.), náklady v přestupkovém řízení | D31: 160 | E31: 160 | F31: 354143.99 | G31: 250
C32: Nedaňové příjmy celkem | D32: =SUM(D17:D31) -> 1433.8 | E32: =SUM(E17:E31) -> 8021.7 | F32: =SUM(F17:F31) -> 9092324.9 | G32: =SUM(G17:G31) -> 5384 | H32: =G32 -> 5384
A34: 3121 | B34: 2212 | C34: Přijaté dary na pořízení dlouhodobého majetku-finanční příspěvek v souladu s návrhem "Metodiky spolupodílů investorů do území" | D34: 0 | E34: 0 | F34: 0 | G34: 3339
A35: 3121 | B35: 3111 | C35: Přijaté dary na pořízení dlouhodobého majetku-finanční příspěvek na veřejně prospěšné účely, zejména na vzdělávání, na podporu a ochranu mládeže, sport | D35: 0 | E35: 0 | F35: 0 | G35: 4723.3
C36: Kapitálové příjmy celkem | D36: 0 | E36: 0 | F36: 0 | G36: =SUM(G34:G35) -> 8062.3 | H36: =G36 -> 8062.3
C38: Přijaté transfery:
A39: 4131 | B39: 6330 | C39: Převody z vlastních fondů podnikatelské činnosti-část nerozděleného zisku VHČ - posílení rozpočtu | D39: 45000 | E39: 45000 | F39: 0 | G39: 45000
A40: 4131 | B40: 6330 | C40: Převody z vlastních fondů podnikatelské činnosti-převod do fondu Domu s chráněnými byty | D40: 0 | E40: 2500 | F40: 2500000 | G40: 0
A41: 4133 | B41: 6330 | C41: Převody z vlastních rezervních fondů-z fondu Domu s chráněnými byty na provoz a akce DCHB | D41: 3704 | E41: 3704 | F41: 3361361.3 | G41: ='Návrh 2025 výdaje '!G258 -> 2916
A42: 4134 | B42: 6330 | C42: Převody vlastním fondům, převody z rozpočtových účtů:
C43: Posílení rozpočtu sociálního fondu-příjem sociálního fondu | D43: 435 | E43: 435 | F43: 469640 | G43: 490
C44: Převod do fondu Domu s chráněnými byty | D44: 0 | E44: 2500 | F44: 2500000 | G44: 0
A45: 4139 | B45: 6330 | C45: Ostatní převody z vlastních fondů-ze sociálního fondu | D45: 455 | E45: 455 | F45: 430400 | G45: =34+430+12 -> 476
...

Sheet Návrh 2025 výdaje 
A1: Městská část Praha KUNRATICE
A2: NÁVRH ROZPOČTU 2025 a Plnění příjmů a čerpání výdajů rozpočtu 2024
A3: Příloha 1
A5: Paragraf | B5: Položka | C5: Rozpočtové výdaje | D5: RS 2024 | E5: RU 2024 | F5: Skutečnost Kč | G5: Rok 2025 | H5: Rok 2025
C6: Název | D6: tis. Kč | E6: tis. Kč | F6: 12/2024 | G6: tis. Kč | H6: tis. Kč
A7: 2212 | C7: Silnice
A8: 2212 | B8: 5021 | C8: Ostatní osobní výdaje | D8: 230 | E8: 230 | F8: 242444 | G8: 230
A9: 2212 | B9: 5031 | C9: Povinné pojistné na sociální zabezpečení a politiku zaměstnanosti | D9: 48 | E9: 48 | F9: 47675 | G9: 48
A10: 2212 | B10: 5032 | C10: Povinné pojistné na zdravotní pojištění | D10: 18 | E10: 18 | F10: 17300 | G10: 18
A11: 2212 | B11: 5132 | C11: Ochranné pomůcky-respirátory | D11: 3 | E11: 3 | F11: 0 | G11: 3
A12: 2212 | B12: 5134 | C12: Prádlo, oděv a obuv s výjimkou ochranných pomůcek | D12: 5 | E12: 5 | F12: 5940 | G12: 5
A13: 2212 | B13: 5137 | C13: Drobný hmotný dlouhodobý majetek (..stojany na kola, nástroje, rok 2024 nádoby na posyp. materiál)) | D13: 30 | E13: =30-15 -> 15 | F13: 14871 | G13: 30
A14: 2212 | B14: 5139 | C14: Nákup materiálu-spotřební materiál, náhradní díly, kusový nákup součástí dopravního značení (zrcadla, kužely, sloupky…) | D14: 100 | E14: 100 | F14: 28658.42 | G14: 100
A15: 2212 | B15: 5154 | C15: Elektrická energie - Napájení veřejného osvětlení v majetku MČ dle smlouvy s THMP do doby převodu na HMP | D15: 15 | E15: =15+20 -> 35 | F15: 34169.44 | G15: 35
A16: 2212 | B16: 5156 | C16: Pohonné hmoty a maziva | D16: 12 | E16: 12 | F16: 11134.17 | G16: 15
A17: 2212 | B17: 5164 | C17: Nájemné (kupř. umístění výstražného zařízení na sloupech veř. osvětlení, nájem dopravního značení a j.) | D17: 5 | E17: =5-5 -> 0 | F17: 0 | G17: 5
A18: 2212 | B18: 5169 | C18: Nákup ostatních služeb: zimní údržba komunikací vč. úklidu po zimní údržbě, strojní čištění | D18: 1100 | E18: 1100 | F18: =533078.37+33596 -> 566674.37 | G18: 1100
A19: 2212 | B19: 5169 | C19: Nákup ostatních služeb: STK, projekty k opravám, výběrové řízení k opravám, autorský dozor k opravám a jiné dodávky prací (vyjádření k sítím, provizorní DZ k akcím,nové DZ, posudky a ostatní podklady ke stavu komunikací, projednávání..): | D19: 150 | E19: 150 | F19: =15000+17545+21050+5299.8 -> 58894.8 | G19: 150
A20: 2212 | B20: 5169 | C20: Nákup ostatních služeb: Pořízení služeb k úklidu a drobné údržbě komunikací a přilehlých veřejných prostranství, odstraňování grafitti a následků vandalismu na majetku MČ a mobiliáři, šintování komunikací, podpora projektu Ukliďme Česko (strojní čištění komunikací, šintování aj.-komunikace 17464 m, chodníky 16718 m, strojové mytí chodníků, kropení, ruční šintování plevele, ruční dometení vozovek a chodníků, odvoz odpadu po strojním čištění, úklid atobusových zastávek, parkovišť 341 487,92 Kč) | D20: 900 | E20: 900 | F20: =341487.92+20100.52+3630+9309 -> 374527.44 | G20: 900
A21: 2212 | B21: 5169 | C21: Nákup ostatních služeb: Doprovodné úpravy značení na místních komunikacích, pořízení součástí dopravního příslušenství 2025 doplnění informačního systému ulic-značení názvů ulic 200,0 tis. Kč | D21: 200 | E21: 200 | F21: =76683.75+26031.9 -> 102715.65 | G21: =200+200 -> 400
C22: 2024 Nákup ostatních služeb celkem rozpočet 2 350,0 tis. Kč, skutečnost 1 102 812,26 Kč
C23: 2025 Nákup ostatních služeb celkem rozpočet 2 550,0 tis. Kč
A24: 2212 | B24: 5171 | C24: Opravy a udržování: opravy výtluků | D24: 500 | E24: 500 | F24: =351293.25+15125 -> 366418.25 | G24: 500
C25: ostatní opravy komunikací | D25: 350 | E25: 350 | F25: =161788.37+22264+63434.25 -> 247486.62 | G25: 350
C26: ostatní opravy-techniky, výměna a opravy svislého dopravního značení a příslušenství, obnova vodorovného dopravního značení | D26: 200 | E26: 200 | F26: =19965+6267.8+1694+3327.5+81166.8+91335 -> 203756.1 | G26: 200
C27: údržba dlažby chodníků, obruby | D27: 50 | E27: 50 | F27: =1452+4864.2 -> 6316.2 | G27: 50
C28: 2024 Opravy a udržování celkem rozpočet 1 100,0 tis. Kč, skutečnost 823 977,17 Kč
C29: 2025 Opravy a udržování celkem rozpočet 1 100,0 tis. Kč
C30: Stavby
A31: 2212 | B31: 6121 | C31: Plošné rekonstrukce komunikací Kunratice
C32: III. etapa Rekonstrukce dalších ulic - vlastní zdroje "umělecké ulice" | D32: 0 | E32: 0 | F32: 0 | G32: 0
C33: III. etapa Rekonstrukce dalších ulic - vlastní zdroje | D33: 213 | E33: =213-63.4 -> 149.6 | F33: 0 | G33: 132
C34: III. etapa Rekonstrukce dalších ulic - ponechaná dotace HMP | D34: 0 | E34: 212.9 | F34: =133100+10000+18150 -> 161250 | G34: 0
C35: IV. etapa - cyklotrasa A 213 pořízení projektové dokumentace-vlastní zdroje (SOD 20 016 3 00) | D35: 1035 | E35: 1035 | F35: 322102 | G35: 475
A36: 2212 | B36: 6121 | C36: Ostatní investiční výdaje silnice
C37: akce Chodníkový program Kunratice 2019 -vlastní zdroje-Nový chodník v ul. U Rakovky a nový přechod v ul. Vídeňská | D37: 0 | E37: 63.4 | F37: =59290+4109.41 -> 63399.41 | G37: 0
C38: akce Chodníkový program Kunratice 2019 -zbývající část daru z roku 2023-Nový chodník v ul. U Rakovky a nový přechod v ul. Vídeňská | D38: 0 | E38: 55.2 | F38: 55180.59 | G38: 0
A39: 2212 | B39: 6121 | C39: Akce započaté v roce 2024:
C40: Rekonstrukce zpomalovacích pruhů ..K Verneráku (SOD 24 09..DAP 3 002,2tis) | E40: 3200 | F40: 2926467.2 | G40: 0
C41: Rekonstrukce Kostelního náměstí (SOD 24 10..DIPRO PRK III 1 936,0 tis., obj. 134/2024 urban. studie Kostel. nám. 205,7tis.) | E41: 2000 | F41: =114950+205700 -> 320650 | G41: 1822
...
