Workbook

Sheet Návrh 2025 příjmy 
A2: NÁVRH ROZPOČTU 2025 a Plnění příjmů a čerpání výdajů rozpočtu 2024
A3: Příloha 1
A5: Položka | B5: Paragraf | C5: Rozpočtové příjmy | D5: RS 2024 | E5: RU 2024 | F5: Skutečnost Kč | G5: Rok 2025 | H5: Rok 2025
C6: Název | D6: tis. Kč | E6: tis. Kč | F6: 12/2024 | G6: tis. Kč | H6: tis. Kč
C7: Daňové příjmy:
A8: 1341 | C8: Příjem z poplatků ze psů | D8: 185 | E8: 185 | F8: 210468 | G8: 200
A9: 1342 | C9: Příjem z poplatků z pobytu | D9: 400 | E9: 400 | F9: 927750 | G9: 700
A10: 1343 | C10: Příjem z poplatku za užívání veřejného prostranství | D10: 450 | E10: 1550 | F10: 1702559 | G10: 600
A11: 1344 | C11: Příjem z poplatku ze vstupného | D11: 0 | E11: 0 | F11: 19785.2 | G11: 10
A12: 1361 | C12: Příjem ze správních poplatků | D12: 100 | E12: 100 | F12: 101710 | G12: 100
A13: 1511 | C13: Příjem z daně z nemovitých věcí | D13: 16000 | E13: =16000+7000 -> 23000 | F13: 30906066 | G13: 26000
C14: Daňové příjmy celkem | D14: =SUM(D8:D13) -> 17135 | E14: =SUM(E8:E13) -> 25235 | F14: =SUM(F8:F13) -> 33868338 | G14: =SUM(G8:G13) -> 27610 | H14: =G14 -> 27610
C16: Nedaňové příjmy:
A17: 2111 | B17: 3314 | C17: Příjmy z poskytování služeb a výrobků, prací, výkonů a práv - knihovna | D17: 14 | E17: 14 | F17: 19600 | G17: 19
A18: 2111 | B18: 3319 | C18: Příjmy z poskytování služeb a výrobků, prací, výkonů a práv - kultura | D18: 0 | E18: 42 | F18: 42000 | G18: 38
A19: 2111 | B19: 3632 | C19: Příjmy z poskytování služeb a výrobků, prací, výkonů a práv -pohřebnictví | D19: 16 | E19: 16 | F19: 34100 | G19: 25
A20: 2111 | B20: 6171 | C20: Příjmy z poskytování služeb a výrobků, prací, výkonů a práv - místní správa-úhrada za poskytování informací dle zákona 106/1999 Sb. | D20: 2 | E20: 2 | F20: 0 | G20: 2
A21: 2112 | B21: 3319 | C21: Příjmy z prodeje zboží-kultura-knihy o Kunraticích | D21: 1.8 | E21: 1.8 | F21: 299 | G21: 20
A22: 2139 | B22: 3632 | C22: Ostatní příjmy z pronájmu majetku-pronájem hrobů | D22: 490 | E22: 490 | F22: 582517 | G22: 500
A23: 2141 | B23: 6310 | C23: Příjmy z úroků | D23: 700 | E23: =700+6000 -> 6700 | F23: 7473318.7 | G23: 4500
A24: 2212 | B24: 6171 | C24: Příjem sankčních plateb přijatých od jiných osob - smluvní pokuty a pokuty z přestupků | D24: 50 | E24: 50 | F24: 24000 | G24: 30
A25: 2229 | C25: Ostatní přijaté vratky transferů-vratky dotací k finančnímu vypořádání:
A26: 2229 | B26: 3113 | C26: ZŠ vratka dotace Zkvalitnění výuky tělesné výchovy | D26: 0 | E26: 235 | F26: 235000 | G26: 0
A27: 2229 | B27: 3113 | C27: ZŠ vratka dotace OP PPR od Základní školy-podíl EU a HMP (2xDem. kultura á 116,80) | D27: 0 | E27: =116.8+116.8 -> 233.6 | F27: =116788.12+116788.12 -> 233576.24 | G27: 0
A28: 2229 | B28: 3319 | C28: vratka od Jihoměstská sociální, a.s.- za nevyčerpané příspěvky na plavání seniorů v r. 2023 | D28: 0 | E28: 7.3 | F28: 7350 | G28: 0
A29: 2321 | B29: 3745 | C29: Finanční příspěvek fy CEMEX.cz na účely rozvoje a úpravy zeleně v obci | D29: 0 | E29: 70 | F29: 70000 | G29: 0
A30: 2322 | B30: 6171 | C30: Příjem z pojistných plnění | D30: 0 | E30: 0 | F30: 16420 | G30: 0
A31: 2324 | B31: 6171 | C31: Přijaté neinvestiční příspěvky a náhrady- přeplatky záloh, vypořádání záloh (Česká pošta aj.), náklady v přestupkovém řízení | D31: 160 | E31: 160 | F31: 354143.99 | G31: 250
C32: Nedaňové příjmy celkem | D32: =SUM(D17:D31) -> 1433.8 | E32: =SUM(E17:E31) -> 8021.7 | F32: =SUM(F17:F31) -> 9092324.9 | G32: =SUM(G17:G31) -> 5384 | H32: =G32 -> 5384
A34: 3121 | B34: 2212 | C34: Přijaté dary na pořízení dlouhodobého majetku-finanční příspěvek v souladu s návrhem "Metodiky spolupodílů investorů do území" | D34: 0 | E34: 0 | F34: 0 | G34: 3339
A35: 3121 | B35: 3111 | C35: Přijaté dary na pořízení dlouhodobého majetku-finanční příspěvek na veřejně prospěšné účely, zejména na vzdělávání, na podporu a ochranu mládeže, sport | D35: 0 | E35: 0 | F35: 0 | G35: 4723.3
C36: Kapitálové příjmy celkem | D36: 0 | E36: 0 | F36: 0 | G36: =SUM(G34:G35) -> 8062.3 | H36: =G36 -> 8062.3
C38: Přijaté transfery:
A39: 4131 | B39: 6330 | C39: Převody z vlastních fondů podnikatelské činnosti-část nerozděleného zisku VHČ - posílení rozpočtu | D39: 45000 | E39: 45000 | F39: 0 | G39: 45000
A40: 4131 | B40: 6330 | C40: Převody z vlastních fondů podnikatelské činnosti-převod do fondu Domu s chráněnými byty | D40: 0 | E40: 2500 | F40: 2500000 | G40: 0
A41: 4133 | B41: 6330 | C41: Převody z vlastních rezervních fondů-z fondu Domu s chráněnými byty na provoz a akce DCHB | D41: 3704 | E41: 3704 | F41: 3361361.3 | G41: ='Návrh 2025 výdaje '!G258 -> 2916
A42: 4134 | B42: 6330 | C42: Převody vlastním fondům, převody z rozpočtových účtů:
C43: Posílení rozpočtu sociálního fondu-příjem sociálního fondu | D43: 435 | E43: 435 | F43: 469640 | G43: 490
C44: Převod do fondu Domu s chráněnými byty | D44: 0 | E44: 2500 | F44: 2500000 | G44: 0
A45: 4139 | B45: 6330 | C45: Ostatní převody z vlastních fondů-ze sociálního fondu | D45: 455 | E45: 455 | F45: 430400 | G45: =34+430+12 -> 476
A46: 4137 | B46: 6330 | C46: Neinvestiční převody mezi statutátními městy a jejich městskými obvody nebo částmi - transfer ze státního rozpočtu -souhrnný dotační vztah | D46: 339.2 | E46: 339.2 | F46: 339200 | G46: =339.2-7.8 -> 331.4
A47: 4137 | B47: 6330 | C47: Neinvestiční převody mezi statutátními městy a jejich městskými obvody nebo částmi - transfer z HMP -souhrnný dotační vztah | D47: 61593 | E47: 61593 | F47: =15398000+15398000+15398000+15399000 -> 61593000 | G47: 65133.3
C48: Neinvestiční převody mezi statutátními městy a jejich MČ - neinvestiční dotace:
A49: 4137 | B49: 6330 | C49: Místní knihovna | D49: 0 | E49: 11.4 | F49: 11400 | G49: 0
A50: 4137 | B50: 6330 | C50: Dotace MF na úhradu výdajů na volby do EP | D50: 0 | E50: 308 | F50: 308000 | G50: 0
A51: 4137 | B51: 6330 | C51: Podíl na prostředcích obdržených jako výnos z daně z hazardních her a jako odvod z loterií | D51: 0 | E51: =1148+671 -> 1819 | F51: 1819000 | G51: 0
A52: 4137 | B52: 6330 | C52: Příjem 100% podílu MČ na celkové daňové povinnosti HMP na dani z příjmu práv. osob za rok 2022 | D52: 0 | E52: 5195.2 | F52: 5195200.3 | G52: 0
A53: 4137 | B53: 6330 | C53: Posílení mzdových prostředků zaměstnanců škol a školských zařízení vč. podpory pracovníků ve stravování ve školství | D53: 0 | E53: 2718 | F53: 2718000 | G53: 0
A54: 4137 | B54: 6330 | C54: Posílení mzdových prostředků zaměstnanců škol a školských zařízení | D54: 0 | E54: 2958.6 | F54: 2958600 | G54: 0
A55: 4137 | B55: 6330 | C55: Neinvestiční dotace HMP na projekt ZŠ Otevírání hřišť pro veřejnost | D55: 0 | E55: 98 | F55: 98000 | G55: 0
A56: 4137 | B56: 6330 | C56: Neinvestiční dotace HMP na projekt MŠ Prevence soc. vyloučení | D56: 0 | E56: 10.1 | F56: 10100 | G56: 0
A57: 4137 | B57: 6330 | C57: Dotace MF na úhradu výdajů na volby do EP | D57: 0 | E57: 212 | F57: 212000 | G57: 0
A58: 4137 | B58: 6330 | C58: Neinvestiční náhrada Ministerstva pro místní rozvoj za vynaložené náklady na pohřbení zemřelého, jehož pohřbení zajistila městská část | D58: 0 | E58: 24.4 | F58: 24439 | G58: 0
A59: 4137 | B59: 6330 | C59: Neinvestiční dotace Min. vnitra GŘ HZS na činnost jednotek Sboru dobr. hasičů | D59: 0 | E59: 26.6 | F59: 26633 | G59: 0
A60: 4137 | B60: 6330 | C60: Neinvestiční dotace HMP na činnost jednotek Sboru dobr. hasičů | D60: 0 | E60: 354.5 | F60: 354500 | G60: 0
C62: Investiční převody mezi statutátními městy a jejich městskými obvody nebo částmi - investiční dotace HMP:
A63: 4251 | B63: 6330 | C63: Rekonstrukce Mateřské školy Kunratice | D63: 0 | E63: 10000 | F63: 10000000 | G63: 0
A64: 4251 | B64: 6330 | C64: Regenerace dřevin na hřbitově v Praze Kunraticích | D64: 0 | E64: 550 | F64: 550000 | G64: 0
A65: 4251 | B65: 6330 | C65: Výstavba tělocvičny ZŠ Kunratice | D65: 0 | E65: 10000 | F65: 10000000 | G65: 0
C66: Přijaté transfery celkem | D66: =SUM(D39:D65) -> 111526.2 | E66: =SUM(E39:E65) -> 150812 | F66: =SUM(F39:F65) -> 1.0547947e+08 | G66: =SUM(G39:G65) -> 114346.7 | H66: =G66 -> 114346.7
C68: PŘÍJMY CELKEM vč. převodů z vlastních fondů a mezi HMP a MČ -dotační vztah | D68: =D14+D32+D66 -> 130095 | E68: =E14+E32+E66 -> 184068.7 | F68: =F14+F32+F66 -> 1.4844014e+08 | G68: =G14+G32+G66+G36 -> 155403 | H68: =SUM(H8:H66) -> 155403
C70: Konsolidace příjmů:
A71: 4133 | B71: 6330 | C71: Převody z vlastních rezervních fondů-z fondu Domu s chráněnými byty | D71: =D41 -> 3704 | E71: =E41 -> 3704 | F71: =F41 -> 3361361.3 | G71: =G41 -> 2916
A72: 4134 | B72: 6330 | C72: Převody z rozpočtových účtů:
C73: Posílení rozpočtu soc. fondu-příjem sociálního fondu | D73: =D43 -> 435 | E73: =E43 -> 435 | F73: =F43 -> 469640 | G73: =G43 -> 490
C74: Převod do fondu Domu s chráněnými byty | D74: =D44 -> 0 | E74: =E44 -> 2500 | F74: =F44 -> 2500000 | G74: =G44 -> 0
A75: 4139 | B75: 6330 | C75: Převody z vlastních fondů-ze sociálního fondu | D75: =D45 -> 455 | E75: =E45 -> 455 | F75: =F45 -> 430400 | G75: =G45 -> 476
A76: 4137 | B76: 6330 | C76: Neinvestiční převody mezi statutátními městy a jejich MČ-transfer ze SR a HMP souhrnný dotační vztah a přijaté neinvestiční dotace | D76: =SUM(D46:D60) -> 61932.2 | E76: =SUM(E46:E60) -> 75668 | F76: =SUM(F46:F60) -> 75668072 | G76: =SUM(G46:G60) -> 65464.7
A77: 4251 | B77: 6330 | C77: Investiční převody mezi statutátními městy a jejich MČ-investiční dotace | D77: 0 | E77: =SUM(E63:E65) -> 20550 | F77: =SUM(F63:F65) -> 20550000 | G77: =SUM(G63:G65) -> 0
C78: Převody z vlastních fondů a mezi HMP a MČ- konsolidace příjmů celkem | D78: =SUM(D71:D77) -> 66526.2 | E78: =SUM(E71:E77) -> 103312 | F78: =SUM(F71:F77) -> 1.0297947e+08 | G78: =SUM(G71:G77) -> 69346.7 | H78: =G78 -> 69346.7
C80: PŘÍJMY po konsolidaci-bez převodů z vlastních fondů a mezi HMP a MČ) | D80: =D68-D78 -> 63568.8 | E80: =E68-E78 -> 80756.7 | F80: =F68-F78 -> 45460663 | G80: =G68-G78 -> 86056.3 | H80: =H68-H78 -> 86056.3
C82: PŘÍJMY z dotačního vztahu (pol. 4137 a 4251 par. 6330) | D82: =D76+D77 -> 61932.2 | E82: =E76+E77 -> 96218 | F82: =F76+F77 -> 96218072 | G82: =G76+G77 -> 65464.7 | H82: =G82 -> 65464.7
C84: OBJEM PŘÍJMU - ZDROJE celkem | D84: =SUM(D80:D82) -> 125501 | E84: =SUM(E80:E82) -> 176974.7 | F84: =SUM(F80:F82) -> 1.4167874e+08 | G84: =SUM(G80:G82) -> 151521 | H84: =SUM(H80:H82) -> 151521
A85: Rozpočet MČ Praha Kunratice na rok 2025 zahrnuje vysoký podíl investičních výdajů zejména na výstavbu tělocvičny základní školy, sportovní areál, komunikace a další objekty. Rozdíl mezi příjmy a výdaji je vyrovnán úsporami prostředků z hospodaření minulých let 25 299,0 tis. Kč. Do rozpočtu je zapojeno 2 916,0 tis. Kč z fondu Domu s chráněnými byty, který je vytvářen z hospodářského výsledku hospodářské činnosti MČ pro potřebu úprav objektu a akcí pro nájemníky. MČ nemá uzavřenu žádnou úvěrovou smlouvu ani do budoucna o úvěru neuvažuje.
A92: Rozpočet městské části na rok 2025 byl schválen usnesením Zastupitelstva MČ Praha Kunratice č. 19.8 dne 24.2.2025
C93: Návrh vyvěšen na úřední desku dne 6.2.2025
C94: Návrh zveřejněn na elektronické úřední desce www. praha-kunratice.cz dne 6.2.2025
C95: Ing. Lenka Alinčová, starostka MČ Praha Kunratice

Sheet Návrh 2025 výdaje 
A1: Městská část Praha KUNRATICE
A2: NÁVRH ROZPOČTU 2025 a Plnění příjmů a čerpání výdajů rozpočtu 2024
A3: Příloha 1
A5: Paragraf | B5: Položka | C5: Rozpočtové výdaje | D5: RS 2024 | E5: RU 2024 | F5: Skutečnost Kč | G5: Rok 2025 | H5: Rok 2025
C6: Název | D6: tis. Kč | E6: tis. Kč | F6: 12/2024 | G6: tis. Kč | H6: tis. Kč
A7: 2212 | C7: Silnice
A8: 2212 | B8: 5021 | C8: Ostatní osobní výdaje | D8: 230 | E8: 230 | F8: 242444 | G8: 230
A9: 2212 | B9: 5031 | C9: Povinné pojistné na sociální zabezpečení a politiku zaměstnanosti | D9: 48 | E9: 48 | F9: 47675 | G9: 48
A10: 2212 | B10: 5032 | C10: Povinné pojistné na zdravotní pojištění | D10: 18 | E10: 18 | F10: 17300 | G10: 18
A11: 2212 | B11: 5132 | C11: Ochranné pomůcky-respirátory | D11: 3 | E11: 3 | F11: 0 | G11: 3
A12: 2212 | B12: 5134 | C12: Prádlo, oděv a obuv s výjimkou ochranných pomůcek | D12: 5 | E12: 5 | F12: 5940 | G12: 5
A13: 2212 | B13: 5137 | C13: Drobný hmotný dlouhodobý majetek (..stojany na kola, nástroje, rok 2024 nádoby na posyp. materiál)) | D13: 30 | E13: =30-15 -> 15 | F13: 14871 | G13: 30
A14: 2212 | B14: 5139 | C14: Nákup materiálu-spotřební materiál, náhradní díly, kusový nákup součástí dopravního značení (zrcadla, kužely, sloupky…) | D14: 100 | E14: 100 | F14: 28658.42 | G14: 100
A15: 2212 | B15: 5154 | C15: Elektrická energie - Napájení veřejného osvětlení v majetku MČ dle smlouvy s THMP do doby převodu na HMP | D15: 15 | E15: =15+20 -> 35 | F15: 34169.44 | G15: 35
A16: 2212 | B16: 5156 | C16: Pohonné hmoty a maziva | D16: 12 | E16: 12 | F16: 11134.17 | G16: 15
A17: 2212 | B17: 5164 | C17: Nájemné (kupř. umístění výstražného zařízení na sloupech veř. osvětlení, nájem dopravního značení a j.) | D17: 5 | E17: =5-5 -> 0 | F17: 0 | G17: 5
A18: 2212 | B18: 5169 | C18: Nákup ostatních služeb: zimní údržba komunikací vč. úklidu po zimní údržbě, strojní čištění | D18: 1100 | E18: 1100 | F18: =533078.37+33596 -> 566674.37 | G18: 1100
A19: 2212 | B19: 5169 | C19: Nákup ostatních služeb: STK, projekty k opravám, výběrové řízení k opravám, autorský dozor k opravám a jiné dodávky prací (vyjádření k sítím, provizorní DZ k akcím,nové DZ, posudky a ostatní podklady ke stavu komunikací, projednávání..): | D19: 150 | E19: 150 | F19: =15000+17545+21050+5299.8 -> 58894.8 | G19: 150
A20: 2212 | B20: 5169 | C20: Nákup ostatních služeb: Pořízení služeb k úklidu a drobné údržbě komunikací a přilehlých veřejných prostranství, odstraňování grafitti a následků vandalismu na majetku MČ a mobiliáři, šintování komunikací, podpora projektu Ukliďme Česko (strojní čištění komunikací, šintování aj.-komunikace 17464 m, chodníky 16718 m, strojové mytí chodníků, kropení, ruční šintování plevele, ruční dometení vozovek a chodníků, odvoz odpadu po strojním čištění, úklid atobusových zastávek, parkovišť 341 487,92 Kč) | D20: 900 | E20: 900 | F20: =341487.92+20100.52+3630+9309 -> 374527.44 | G20: 900
A21: 2212 | B21: 5169 | C21: Nákup ostatních služeb: Doprovodné úpravy značení na místních komunikacích, pořízení součástí dopravního příslušenství 2025 doplnění informačního systému ulic-značení názvů ulic 200,0 tis. Kč | D21: 200 | E21: 200 | F21: =76683.75+26031.9 -> 102715.65 | G21: =200+200 -> 400
C22: 2024 Nákup ostatních služeb celkem rozpočet 2 350,0 tis. Kč, skutečnost 1 102 812,26 Kč
C23: 2025 Nákup ostatních služeb celkem rozpočet 2 550,0 tis. Kč
A24: 2212 | B24: 5171 | C24: Opravy a udržování: opravy výtluků | D24: 500 | E24: 500 | F24: =351293.25+15125 -> 366418.25 | G24: 500
C25: ostatní opravy komunikací | D25: 350 | E25: 350 | F25: =161788.37+22264+63434.25 -> 247486.62 | G25: 350
C26: ostatní opravy-techniky, výměna a opravy svislého dopravního značení a příslušenství, obnova vodorovného dopravního značení | D26: 200 | E26: 200 | F26: =19965+6267.8+1694+3327.5+81166.8+91335 -> 203756.1 | G26: 200
C27: údržba dlažby chodníků, obruby | D27: 50 | E27: 50 | F27: =1452+4864.2 -> 6316.2 | G27: 50
C28: 2024 Opravy a udržování celkem rozpočet 1 100,0 tis. Kč, skutečnost 823 977,17 Kč
C29: 2025 Opravy a udržování celkem rozpočet 1 100,0 tis. Kč
C30: Stavby
A31: 2212 | B31: 6121 | C31: Plošné rekonstrukce komunikací Kunratice
C32: III. etapa Rekonstrukce dalších ulic - vlastní zdroje "umělecké ulice" | D32: 0 | E32: 0 | F32: 0 | G32: 0
C33: III. etapa Rekonstrukce dalších ulic - vlastní zdroje | D33: 213 | E33: =213-63.4 -> 149.6 | F33: 0 | G33: 132
C34: III. etapa Rekonstrukce dalších ulic - ponechaná dotace HMP | D34: 0 | E34: 212.9 | F34: =133100+10000+18150 -> 161250 | G34: 0
C35: IV. etapa - cyklotrasa A 213 pořízení projektové dokumentace-vlastní zdroje (SOD 20 016 3 00) | D35: 1035 | E35: 1035 | F35: 322102 | G35: 475
A36: 2212 | B36: 6121 | C36: Ostatní investiční výdaje silnice
C37: akce Chodníkový program Kunratice 2019 -vlastní zdroje-Nový chodník v ul. U Rakovky a nový přechod v ul. Vídeňská | D37: 0 | E37: 63.4 | F37: =59290+4109.41 -> 63399.41 | G37: 0
C38: akce Chodníkový program Kunratice 2019 -zbývající část daru z roku 2023-Nový chodník v ul. U Rakovky a nový přechod v ul. Vídeňská | D38: 0 | E38: 55.2 | F38: 55180.59 | G38: 0
A39: 2212 | B39: 6121 | C39: Akce započaté v roce 2024:
C40: Rekonstrukce zpomalovacích pruhů ..K Verneráku (SOD 24 09..DAP 3 002,2tis) | E40: 3200 | F40: 2926467.2 | G40: 0
C41: Rekonstrukce Kostelního náměstí (SOD 24 10..DIPRO PRK III 1 936,0 tis., obj. 134/2024 urban. studie Kostel. nám. 205,7tis.) | E41: 2000 | F41: =114950+205700 -> 320650 | G41: 1822
C42: Rekonstrukce Ratajova, Odboje, SOD 24 12..PRK III 7 882,08tis.) | E42: 9000 | F42: =42350+42350+3333835.56+3177153.12+63469.17+63469.17+427007.01+427007.01 -> 7576641 | G42: 0
C43: Rekonstrukce ul. K Betáni (obj. 77/2024 DVZ) | E43: =1100+12100 -> 13200 | F43: =156090+84700+3373480+3400100 -> 7014370 | G43: 3000
C44: PRK V. oblast U zámeckého parku (SOD 24 15..1 868,24 tis.) | E44: 2000 | F44: =186340+635250 -> 821590 | G44: 1200
A45: 2212 | B45: 6121 | C45: Nové akce v roce 2025:
C46: Rekonstrukce ulic Klínovecká, Kriváňská | G46: 12000
C47: PD rekonstrukce ulic oblast Mašatova | G47: 2500
C48: Rekonstrukce chodníku Hornomlýnská-Kunratický les | G48: 650
C49: PD rekonstrukce mostu v ulici Úhlavská | G49: 1160
C50: Rekonstrukce ulice V Jahodách | G50: 3000
C51: Rekonstrukce chodníků podél rybníku Ohrada | G51: 4000
A52: 2212 | B52: 6901 | C52: Investiční rezerva | G52: 2000
C53: 2024 Celkem investice Silnice rozpočet 30 916,1 tis., skutečnost 19 261 650,20 Kč
C54: 2025 Celkem investice Silnice rozpočet 31 939,0 tis. (použity budou i zdroje z příspěvku na investice do území)
A55: 2212 | C55: Silnice | D55: =SUM(D8:D54) -> 5164 | E55: =SUM(E8:E54) -> 34832.1 | F55: =SUM(F8:F54) -> 21590632 | G55: =SUM(G8:G54) -> 36078 | H55: =G55 -> 36078
A57: 2310 | B57: 5171 | C57: Opravy a udržování | D57: 50 | E57: 50 | F57: 0 | G57: 50
A58: 2310 | C58: Pitná voda | D58: =SUM(D57) -> 50 | E58: =SUM(E57) -> 50 | F58: =SUM(F57:F57) -> 0 | G58: =SUM(G57) -> 50 | H58: =G58 -> 50
A60: 2321 | B60: 5139 | C60: Nákup materiálu | D60: 2 | E60: 2 | F60: 0 | G60: 2
A61: 2321 | B61: 5169 | C61: Nákup ostatních služeb - čištění kanalizace | D61: 10 | E61: 10 | F61: 0 | G61: 10
A62: 2321 | B62: 5171 | C62: Opravy a udržování - opravy kanalizace | D62: 50 | E62: 50 | F62: 0 | G62: 50
A63: 2321 | B63: 6121 | C63: Stavby-nová dešťová kanalizace ul. Lisztova | D63: 470 | E63: 470 | F63: =153000+32130 -> 185130 | G63: =3600+300 -> 3900
A64: 2321 | C64: Odvádění a čištění odpadních vod | D64: =SUM(D60:D63) -> 532 | E64: =SUM(E60:E63) -> 532 | F64: =SUM(F60:F63) -> 185130 | G64: =SUM(G60:G63) -> 3962 | H64: =G64 -> 3962
A66: 2334 | B66: 5139 | C66: Nákup materiálu | D66: 5 | E66: 5 | F66: 0 | G66: 5
A67: 2334 | B67: 5169 | C67: Nákup ostatních služeb | D67: 25 | E67: 25 | F67: 0 | G67: 25
A68: 2334 | B68: 5171 | C68: Opravy a udržování-běžné | D68: 15 | E68: 15 | F68: 0 | G68: 15
C69: Údržba vodního díla -rybník Ohrada (Kontrola stavu objektu rybníka Ohrada a odtokové části, čištění, opravy poškození po přívalovém dešti) | D69: 100 | E69: 100 | F69: 66240.24 | G69: 100
A70: 2334 | C70: Revitalizace říčních systémů a vodních ploch - rybník Ohrada | D70: =SUM(D66:D69) -> 145 | E70: =SUM(E66:E69) -> 145 | F70: =SUM(F66:F69) -> 66240.24 | G70: =SUM(G66:G69) -> 145 | H70: =G70 -> 145
A72: 3111 | C72: Mateřská škola
A73: 3111 | B73: 5169 | C73: Nákup ostatních služeb | D73: 0 | E73: 0 | F73: 0 | G73: 40
A74: 3111 | B74: 5194 | C74: Výdaje na věcné dary (dárky ke Dni učitelů) | D74: 8 | E74: 8 | F74: 6000 | G74: 8
A75: 3111 | B75: 5331 | C75: Neinvestiční příspěvky zřízeným příspěvkovým organizacím, příspěvek MČ | D75: 1900 | E75: 1900 | F75: 1900000 | G75: 1768
A76: 3111 | B76: 5336 | C76: Pomoc pražským domácnostem ohroženým inflací -realizace opatření pro pražské domácnosti-schválené stravné, školné, fond solidarity - ponechaná dotace HMP | D76: 0 | E76: 140 | F76: 130567 | G76: 147
A77: 3111 | B77: 5336 | C77: Posílení mzdových prostředků zaměstnanců škol a školských zařízení vč. podpory pracovníků ve stravování -dotace HMP | D77: 0 | E77: =588.4+98.4 -> 686.8 | F77: =588400+98400 -> 686800 | G77: 0
A78: 3111 | B78: 5336 | C78: Neinvestiční dotace HMP na projekt MŠ Prevence soc. vyloučení | D78: 0 | E78: 10.1 | F78: 10100 | G78: 0
A79: 3111 | B79: 5901 | C79: Nespecifikované rezervy-Pomoc pražským domácnostem ohroženým inflací - vlastní zdroje | D79: 165 | E79: =165-140 -> 25 | F79: 0 | G79: 0
C80: Stavby:
A81: 3111 | B81: 6121 | C81: Rekonstrukce mateřské školy Kunratice-investiční dotace HMP roku 2024 | D81: 0 | E81: 10000 | F81: 0 | G81: 10000
A82: 3111 | B82: 6121 | C82: Rekonstrukce mateřské školy Kunratice-výměna oken, zateplení budovy (SOD 24 013 3 00) - ponechaná dotace HMP roku 2023, rok 2025 vlastní zdroje a žádost o ponechání | D82: 0 | E82: 6516.9 | F82: =868175+15125+84700+40535+40535+40535+22625+2339137.79+21296+27871+35126+40535+9196+34248.5 -> 3619640.3 | G82: 2900
A83: 3111 | B83: 6121 | C83: Rekonstrukce mateřské školy Kunratice- zateplení budovy, doplnění PD a realizace- vlastní zdroje (použity budou i zdroje z příspěvku na investice do školství) | D83: 6517 | E83: =6517-6517 -> 0 | F83: 0 | G83: 8000
A84: 3111 | C84: Mateřské školy | D84: =SUM(D73:D83) -> 8590 | E84: =SUM(E73:E83) -> 19286.8 | F84: =SUM(F73:F83) -> 6353107.3 | G84: =SUM(G73:G83) -> 22863 | H84: =G84 -> 22863
A86: 3113 | C86: Základní škola
A87: 3113 | B87: 5169 | C87: Nákup ostatních služeb | D87: 0 | E87: 36 | F87: 0 | G87: 100
A88: 3113 | B88: 5137 | C88: Drobný hmotný dlouhodobý majetek - vybavení nábytkem kabinetů a učeben | G88: 4000
A89: 3113 | B89: 5171 | C89: Opravy audržování - oprava venkovních dlažeb a vstupů | G89: 350
A90: 3113 | B90: 5194 | C90: Výdaje na věcné dary - knihy pro prvňáčky, dárky ke Dni učitelů | D90: 60 | E90: 60 | F90: 56420 | G90: 60
A91: 3113 | B91: 5331 | C91: Neinvestiční příspěvky zřízeným příspěvkovým organizacím: pravidelný roční příspěvek MČ | D91: 6260 | E91: 6260 | F91: 6260000 | G91: 6550
A92: 3113 | B92: 5336 | C92: Pomoc pražským domácnostem ohroženým inflací -realizace opatření pro pražské domácnosti-schválené stravné, školné, fond solidarity -ponechaná dotace HMP | D92: 0 | E92: 366 | F92: =82396+48708 -> 131104 | G92: 98
A93: 3113 | B93: 5336 | C93: Posílení mzdových prostředků zaměstnanců škol a školských zařízení vč. podpory pracovníků ve stravování -dotace HMP | D93: 0 | E93: =2129.6+2860.2 -> 4989.8 | F93: =2129600+2860200 -> 4989800 | G93: 0
A94: 3113 | B94: 5336 | C94: Neinvestiční dotace HMP na projekt Otevírání hřišť pro veřejnost | D94: 0 | E94: 98 | F94: 98000 | G94: 0
A95: 3113 | B95: 5336 | C95: Ponechaná dotace roku 2023 Unicef (vyčerpána ZŠ) | D95: 0 | E95: 215 | F95: 0 | G95: 0
A96: 3113 | B96: 5901 | C96: Nespecifikované rezervy-Pomoc pražským domácnostem ohroženým inflací - vlastní zdroje | D96: 550.6 | E96: =550.6-366 -> 184.6 | F96: 0 | G96: 0
A98: 3113 | B98: 6122 | C98: Stroje, přístroje, zařízení-pořízení plynové pánve do školní jídelny základní školy | D98: 0 | E98: 1200 | F98: 1180853.3 | G98: 0
A99: 3113 | B99: 6122 | C99: Stroje, přístroje, zařízení-pořízení interaktivních tabulí | G99: 600
A100: 3113 | B100: 6121 | C100: Budovy, stavby- altán-venkovní učebna | G100: 200
A102: 3113 | B102: 6121 | C102: Stavby
A103: 3113 | B103: 6121 | C103: Výstavba tělocvičny ZŠ Kunratice:
C104: Vlastní zdroje - do doby schválení převodu dotace HMP z předešlých let | D104: =24831.8-320 -> 24511.8 | E104: =24831.8-320-24511.8 -> 0 | F104: 0 | G104: 31800
C105: Ponechané prostředky dotace HMP z roku 2021 a 2022 | D105: 0 | E105: 24512.4 | F105: =58080+84700+2530110+40000 -> 2712890 | G105: 0
C106: Investiční dotace HMP 2024 | D106: 0 | E106: 10000 | F106: 0 | G106: 0
A107: 3113 | C107: Základní školy celkem vč. investic | D107: =SUM(D87:D106) -> 31382.4 | E107: =SUM(E87:E106) -> 47921.8 | F107: =SUM(F87:F106) -> 15429067 | G107: =SUM(G87:G106) -> 43758 | H107: =G107 -> 43758
A109: 3314 | B109: 5011 | C109: Platy zaměstnanců | D109: 510 | E109: 510 | F109: 516577 | G109: 550
...
