Workbook

Sheet rozp 2022 příjmy pozměňovací n.
A1: Příloha č. 1 k bodu 9 23. zasedání Zastupitelstva MČ Praha Kunratice dne 20.12.2021
A2: Městská část Praha KUNRATICE
A3: NÁVRH ROZPOČTU 2022 a PLNĚNÍ PŘÍJMU A ČERPÁNÍ VYDAJU ROZPOČTU 2021
A6: Položka | B6: Paragraf | C6: Rozpočtové příjmy | D6: RS 2021 | E6: RU 2021 | F6: Skutečnost Kč | G6: Návrh 2022 | H6: Návrh 2022
C7: Název | D7: tis. Kč | E7: tis. Kč | F7: 11/2021 | G7: tis. Kč | H7: tis. Kč
C8: Daňové příjmy:
A9: 1341 | C9: Poplatek ze psů | D9: 180 | E9: 180 | F9: 196839.5 | G9: 185
A10: 1342 | C10: Poplatek z pobytu | D10: 70 | E10: 70 | F10: 167385 | G10: 180
A11: 1343 | C11: Poplatek za užívání veřejného prostranství (2021 výměna silového vedení PRE) | D11: 250 | E11: 2650 | F11: 4110250 | G11: 250
A12: 1344 | C12: Poplatek ze vstupného | D12: 10 | E12: 10 | F12: 21869 | G12: 20
A13: 1349 | C13: Zrušené místní poplatky-doplatek z let 2018 a 2019 | D13: 0 | E13: 0 | F13: 11977.5 | G13: 0
A14: 1361 | C14: Správní poplatky-trvalý pobyt..., Czech point.. | D14: 100 | E14: 100 | F14: 76420 | G14: 100
A15: 1511 | C15: Daň z nemovitých věcí | D15: 16000 | E15: 16000 | F15: 13554079 | G15: 16000
C16: Daňové příjmy celkem | D16: =SUM(D9:D15) -> 16610 | E16: =SUM(E9:E15) -> 19010 | F16: =SUM(F9:F15) -> 18138820 | G16: =SUM(G9:G15) -> 16735 | H16: =G16 -> 16735
C18: Nedaňové příjmy:
A19: 2111 | B19: 3314 | C19: Příjmy z poskytování služeb a výrobků - knihovna | D19: 10 | E19: 10 | F19: 11900 | G19: 10
A20: 2111 | B20: 3632 | C20: Příjmy z poskytování služeb a výrobků - pohřebnictví | D20: 10 | E20: 10 | F20: 28800 | G20: 18
A21: 2111 | B21: 6171 | C21: Příjmy z poskytování služeb a výrobků - místní správa-úhrada za poskytování informací dle 106/1999 Sb. | D21: 2 | E21: 2 | F21: 0 | G21: 2
A22: 2112 | B22: 3319 | C22: Příjmy z prodeje zboží-kultura-kniha Kunratice v běhu času | D22: 2 | E22: 2 | F22: 1929.91 | G22: 2.3
A23: 2139 | B23: 3632 | C23: Ostatní příjmy z pronájmu majetku-pronájem hrobů | D23: 450 | E23: 450 | F23: 463741 | G23: 450
A24: 2141 | B24: 6310 | C24: Příjmy z úroků | D24: 25 | E24: 25 | F24: 71371.4 | G24: =(37*6)+(17*6) -> 324
A25: 2212 | B25: 6171 | C25: Sankční platby přijaté od jiných subjektů-smluvní pokuty a pokuty z přestupků | D25: 80 | E25: 80 | F25: 35500 | G25: 50
A26: 2229 | B26: 3111 | C26: Ostatní přijaté vratky transferů-vratka od MŠ OPP PR Podpora integrace žáků s OMJ, podíl HMP | D26: 0 | E26: 19.5 | F26: 19480 | G26: 0
A27: 2229 | B27: 3111 | C27: Ostatní přijaté vratky transferů-vratka od MŠ OPP PR Podpora integrace žáků s OMJ, podíl EU | D27: 0 | E27: 19.5 | F27: 19480 | G27: 0
A28: 2229 | B28: 3111 | C28: Ostatní přijaté vratky transferů-vratka od MŠ OPP PR Rozvoj polytechn. výchovy a EVVO spoluúčast MČ | D28: 0 | E28: 0 | F28: 7921.38 | G28: 0
A29: 2229 | B29: 3111 | C29: Ostatní přijaté vratky transferů-vratka od MŠ školka v přírodě | D29: 0 | E29: 0 | F29: 147900 | G29: 0
A30: 2229 | B30: 3113 | C30: Ostatní přijaté vratky transferů-vratka od ZŠ škola v přírodě | D30: 0 | E30: 0 | F30: 64600 | G30: 0
A31: 2229 | B31: 3113 | C31: Ostatní přijaté vratky transferů-vratka od ZŠ EU Šablony II | D31: 0 | E31: 46.5 | F31: 46481 | G31: 0
A32: 2229 | B32: 3113 | C32: Ostatní přijaté vratky transferů-vratka od ZŠ EU OP PPR OMJ | D32: 0 | E32: 0 | F32: 229468 | G32: 0
A33: 2229 | B33: 3319 | C33: Ostatní přijaté vratky transferů-vratka Jihoměstská sociální- za nevyčerpané příspěvky na plavání seniorů v r. 2020 | D33: 0 | E33: 11.3 | F33: 11325 | G33: 0
A34: 2321 | B34: 2212 | C34: Přijaté neinvestiční dary (oprava komunikace U Rakovky) | D34: 0 | E34: 280 | F34: 279667 | G34: 0
A35: 2322 | B35: 6171 | C35: Přijaté pojistné náhrady (vč. oprava okna po vloupání) | D35: 0 | E35: 40.8 | F35: 86795 | G35: 0
A36: 2324 | B36: 6171 | C36: Přijaté nekapitálové příspěvky a náhrady- přeplatky záloh, vypořádání záloh (Česká pošta aj.), náklady v přestupkovém řízení | D36: 130 | E36: 130 | F36: 193328.98 | G36: 160
C37: Nedaňové příjmy celkem | D37: =SUM(D19:D36) -> 709 | E37: =SUM(E19:E36) -> 1126.6 | F37: =SUM(F19:F36) -> 1719688.7 | G37: =SUM(G19:G36) -> 1016.3 | H37: =G37 -> 1016.3
A39: 3121 | B39: 6171 | C39: Přijaté dary, činnost místní správy | D39: 0 | E39: 999 | F39: 999000 | G39: 0
C40: Přijaté dary na pořízení dlouhodobého majetku | D40: 0 | E40: 999 | F40: 999000 | G40: =SUM(G39) -> 0 | H40: =G40 -> 0
C42: Přijaté transfery:
A43: 4131 | B43: 6330 | C43: Převody z vlastních fondů hospodářské činnosti-převod části HV VHČ let 2019 a 2020 do fondu DCHB (převod na ZBÚ pro fond DCHB) | D43: 0 | E43: 2600 | F43: 2600000 | G43: 0
A44: 4133 | B44: 6330 | C44: Převody z vlastních rezervních fondů-z fondu Domu s chráněnými byty na provoz a akce DCHB | D44: 919 | E44: 919 | F44: 211461.11 | G44: 2472
A45: 4133 | B45: 6330 | C45: Převody z vlastních rezervních fondů-z fondu Domu s chráněnými byty na výměnu a modernizaci elektroinstalace výtahů a na rekonstrukci plynové kotelny | D45: 0 | E45: 4300 | F45: 1873810 | G45: 0
A46: 4134 | B46: 6330 | C46: Převody z rozpočtových účtů:
C47: Posílení rozpočtu soc. fondu-příjem sociálního fondu | D47: 312 | E47: 312 | F47: 232307 | G47: 324
C48: Převod do fondu Domu s chráněnými byty | D48: 0 | E48: 2600 | F48: 2600000 | G48: 0
A49: 4139 | B49: 6330 | C49: Převody z vlastních fondů-ze sociálního fondu | D49: 382 | E49: 382 | F49: 254179 | G49: 381
A50: 4137 | B50: 6330 | C50: Převody mezi statutátními městy a jejich MČ-transfer ze státního rozpočtu -souhrnný dotační vztah | D50: 319.5 | E50: 319.5 | F50: =270000+27000 -> 297000 | G50: 314.7
A51: 4137 | B51: 6330 | C51: Převody mezi statutátními městy a jejich MČ-transfer z HMP -souhrnný dotační vztah | D51: 45955 | E51: 45955 | F51: 45955000 | G51: 48337
C52: Převody mezi statutátními městy a jejich MČ-transfer z HMP- neinvestiční dotace HMP:
A53: 4137 | B53: 6330 | C53: Místní knihovna | D53: 0 | E53: 8.2 | F53: 8200 | G53: 0
A54: 4137 | B54: 6330 | C54: JSDH provoz | D54: 0 | E54: 115 | F54: 115000 | G54: 0
A55: 4137 | B55: 6330 | C55: Místní správa-Zkoušky odborné způsobilosti | D55: 0 | E55: 17.4 | F55: 17400 | G55: 0
A56: 4137 | B56: 6330 | C56: ZŠ OPP PR Podpora integrace žáků s odlišným mateřským jazykem (OMJ) II, podíl HMP | D56: 0 | E56: 454.9 | F56: 454909.8 | G56: 0
A57: 4137 | B57: 6330 | C57: ZŠ OPP PR Podpora integrace žáků s OMJ II, podíl EU | D57: 0 | E57: 454.9 | F57: 454909.8 | G57: 0
A58: 4137 | B58: 6330 | C58: ZŠ OPP PR Podpora integrace žáků s OMJ III, podíl HMP | D58: 0 | E58: 982.4 | F58: 982405 | G58: 0
A59: 4137 | B59: 6330 | C59: ZŠ OPP PR Podpora integrace žáků s OMJ III, podíl EU | D59: 0 | E59: 982.4 | F59: 982405 | G59: 0
A60: 4137 | B60: 6330 | C60: ZŠ OP PPR Rozvoj demokratické kultury na ZŠ Kunratice, podíl HMP | D60: 0 | E60: 1145.9 | F60: 763956.87 | G60: 0
A61: 4137 | B61: 6330 | C61: ZŠ OP PPR Rozvoj demokratické kultury na ZŠ Kunratice, podíl EU | D61: 0 | E61: 1145.9 | F61: 763956.88 | G61: 0
A62: 4137 | B62: 6330 | C62: ZŠ OP PPR Rozvoj demokratické kultury na ZŠ Kunratice, podíl HMP | D62: 0 | E62: 1123.5 | F62: 0 | G62: 0
A63: 4137 | B63: 6330 | C63: ZŠ OP PPR Rozvoj demokratické kultury na ZŠ Kunratice, podíl EU | D63: 0 | E63: 1123.5 | F63: 0 | G63: 0
A64: 4137 | B64: 6330 | C64: ZŠ OP PPR Rozvoj demokrat. kultury na ZŠ Kunratice II, podíl HMP | D64: 0 | E64: 1423 | F64: 0 | G64: 0
... A77: 4137 | B77: 6330 | C77: Volby do Poslanecké sněmovny PČR | D77: 0 | E77: 206 | F77: 206000 | G77: 0
C79: Převody mezi statutátními městy a jejich MČ-transfer z HMP- investiční dotace HMP:
A80: 4251 | B80: 6330 | C80: Plošné rekonstrukce komunikací Kunratice III. etapa | D80: 0 | E80: 5000 | F80: 5000000 | G80: 0
A81: 4251 | B81: 6330 | C81: HZ SDH Kunratice-rekonstrukce | D81: 0 | E81: 50 | F81: 50000 | G81: 0
A82: 4251 | B82: 6330 | C82: Dovybavení JSDH Kunratice | D82: 0 | E82: 45 | F82: 45000 | G82: 0
A83: 4251 | B83: 6330 | C83: Rekonstrukce služebny MP Kunratice | D83: 0 | E83: 539.3 | F83: 539300 | G83: 0
A84: 4251 | B84: 6330 | C84: Výstavba tělocvičny ZŠ Kunratice | D84: 0 | E84: 15000 | F84: 15000000 | G84: 0
C86: Přijaté transfery celkem | D86: =SUM(D43:D84) -> 47887.5 | E86: =SUM(E43:E84) -> 95319.8 | F86: =SUM(F43:F84) -> 86099456 | G86: =SUM(G43:G84) -> 51828.7 | H86: =G86 -> 51828.7
C88: PŘÍJMY CELKEM vč. převodů z vlastních fondů a mezi HMP a MČ -dotační vztah | D88: =D16+D37+D40+D86 -> 65206.5 | E88: =E16+E37+E40+E86 -> 116455.4 | F88: =F16+F37+F40+F86 -> 1.0695696e+08 | G88: =G16+G37+G40+G86 -> 69580 | H88: =SUM(H9:H86) -> 69580
C91: Konsolidace příjmů:
A92: 4133 | B92: 6330 | C92: Převody z vlastních rezervních fondů-z fondu Domu s chráněnými byty | D92: 919 | E92: 919 | F92: 211461.11 | G92: =G44 -> 2472
A93: 4133 | B93: 6330 | C93: Převody z vlastních rezervních fondů-z fondu Domu s chráněnými byty - kompletní opravy výtahů a výměna sestavy kotlů | D93: 0 | E93: 4300 | F93: 1873810 | G93: =G45 -> 0
A94: 4134 | B94: 6330 | C94: Převody z rozpočtových účtů:
C95: Posílení rozpočtu soc. fondu-příjem sociálního fondu | D95: 312 | E95: 312 | F95: 232307 | G95: =G47 -> 324
C96: Převod do fondu Domu s chráněnými byty | D96: 0 | E96: 2600 | F96: 2600000 | G96: =G48 -> 0
A97: 4139 | B97: 6330 | C97: Převody z vlastních fondů-ze sociálního fondu | D97: 382 | E97: 382 | F97: 254179 | G97: =G49 -> 381
A98: 4137 | B98: 6330 | C98: Převody mezi statutátními městy a jejich MČ-transfer ze SR a HMP souhrnný dotační vztah a přijaté neinvestiční dotace | D98: =SUM(D50:D77) -> 46274.5 | E98: =SUM(E50:E77) -> 63572.5 | F98: =SUM(F50:F77) -> 57693399 | G98: =SUM(G50:G77) -> 48651.7
A99: 4251 | B99: 6330 | C99: Investiční převody mezi statutátními městy a jejich MČ-investiční dotace | D99: =SUM(D80:D84) -> 0 | E99: =SUM(E80:E84) -> 20634.3 | F99: =SUM(F80:F84) -> 20634300 | G99: =G52 -> 0
C100: Převody z vlastních fondů a mezi HMP a MČ- konsolidace příjmů celkem | D100: =SUM(D92:D99) -> 47887.5 | E100: =SUM(E92:E99) -> 92719.8 | F100: =SUM(F92:F99) -> 83499456 | G100: =SUM(G92:G99) -> 51828.7 | H100: =G100 -> 51828.7
C102: PŘÍJMY po konsolidaci-bez převodů z vlastních fondů a mezi HMP a MČ) | D102: =D88-D100 -> 17319 | E102: =E88-E100 -> 23735.6 | F102: =F88-F100 -> 23457509 | G102: =G88-G100 -> 17751.3 | H102: =H88-H100 -> 17751.3
C104: PŘÍJMY z dotačního vztahu (pol. 4137 a 4251 par. 6330) | D104: =D98+D99 -> 46274.5 | E104: =E98+E99 -> 84206.8 | F104: =F98+F99 -> 78327699 | G104: =G98+G99 -> 48651.7 | H104: =G104 -> 48651.7
C106: OBJEM PŘÍJMU - ZDROJE celkem | D106: =SUM(D102:D104) -> 63593.5 | E106: =SUM(E102:E104) -> 107942.4 | F106: =SUM(F102:F104) -> 1.0178521e+08 | G106: =SUM(G102:G104) -> 66403 | H106: =SUM(H102:H104) -> 66403
A107: Rozpočet MČ Praha Kunratice na rok 2022 zahrnuje vysoký podíl investičních výdajů zejména na komunikace, výstavbu tělocvičny základní školy, sportovní areál a další projekty. Rozdíl mezi příjmy a výdaji je vyrovnán úsporami prostředků z hospodaření minulých let 42 465,0 tis. Kč, do rozpočtu je zapojeno 2 472,0 tis. Kč z fondu Domu s chráněnými byty, který je vytvářen z hospodářského výsledku hospodářské činnosti MČ pro potřebu úprav objektu a akcí pro nájemníky. Je zažádáno o několik dotací. MČ nemá uzavřenu žádnou úvěrovou smlouvu ani do budoucna o úvěru neuvažuje.
A117: Rozpočet byl schválen usnesením Zastupitelstva MČ Praha Kunratice č. 23.9 ze dne 20.12.2021
C119: Návrh byl vyvěšen na úřední desku dne 3.12.2021
C120: Návrh byl zveřejněn na elektronické úřední desce www. praha-kunratice.cz dne 3.12.2021
C122: Ing. Lenka Alinčová, starostka MČ Praha Kunratice

Sheet rozp 2022 výdaje pozměňovací n.
A1: Příloha č. 1 k bodu 9 23. zasedání Zastupitelstva MČ Praha Kunratice dne 20.12.2021
A2: Městská část Praha KUNRATICE
B3: NÁVRH ROZPOČTU 2022 a PLNĚNÍ PŘÍJMU A ČERPÁNÍ VYDAJU ROZPOĆTU 2021
A6: Paragraf | B6: Položka | C6: Rozpočtové výdaje | D6: RS 2021 | E6: RU 2021 | F6: Skutečnost Kč | G6: Návrh 2022 | H6: Návrh 2022
C7: Název | D7: tis. Kč | E7: tis. Kč | F7: 11/2021 | G7: tis. Kč | H7: tis. Kč
A8: 2212 | B8: 5021 | C8: Ostatní osobní výdaje | D8: 213 | E8: 213 | F8: 98170 | G8: 213
A9: 2212 | B9: 5031 | C9: Povinné pojistné na sociální zabezpečení a politiku zaměstnanosti | D9: 40 | E9: 40 | F9: 21039 | G9: 40
A10: 2212 | B10: 5032 | C10: Povinné pojistné na zdravotní pojištění | D10: 15 | E10: 15 | F10: 7630 | G10: 15
A11: 2212 | B11: 5132 | C11: Ochranné pomůcky-respirátory | D11: 3 | E11: 3 | F11: 0 | G11: 3
A12: 2212 | B12: 5137 | C12: Drobný hmotný dlouhodobý majetek (..stojany na kola, drobné ruční stroje) | D12: 30 | E12: 30 | F12: 23991.69 | G12: 30
A13: 2212 | B13: 5139 | C13: Nákup materiálu-spotřební materiál, náhradní díly, kusový nákup součástí dopravního značení (zrcadla, kužely, sloupky…) | D13: 100 | E13: 100 | F13: 17212 | G13: 100
A14: 2212 | B14: 5154 | C14: Napájení veřejného osvětlení v majetku MČ dle smlouvy s THMP do doby převodu na HMP | D14: 35 | E14: 35 | F14: 6138.83 | G14: 20
A15: 2212 | B15: 5156 | C15: Pohonné hmoty a maziva | D15: 8 | E15: 8 | F15: 6038.6 | G15: 10
A16: 2212 | B16: 5164 | C16: Nájemné (umístění výstražného zařízení na sloupech veř. osvětlení) | D16: 11 | E16: 11 | F16: 502.15 | G16: 11
A17: 2212 | B17: 5169 | C17: Nákup ostatních služeb: zimní údržba komunikací vč. úklidu po zimní údržbě, strojní čištění | D17: 1500 | E17: 1100 | F17: 831833.28 | G17: 1500
A18: 2212 | B18: 5169 | C18: Nákup ostatních služeb: STK, projekty k opravám, výběrové řízení k opravám, autorský dozor k opravám a jiné dodávky prací (vyjádření k sítím, provizorní DZ k akcím,nové DZ, posudky a ostatní podklady ke stavu komunikací, projednávání..): | D18: 150 | E18: 150 | F18: 159702.35 | G18: 150
A19: 2212 | B19: 5169 | C19: Nákup ostatních služeb: Pořízení služeb k úklidu a drobné údržbě komunikací a přilehlých veřejných prostranství, odstraňování grafitti a následků vandalismu na majetku MČ a mobiliáři, šintování komunikací, podpora projektu Ukliďme Česko | D19: 500 | E19: 500 | F19: 436162.65 | G19: 500
... A21: 2212 | B21: 5169 | C21: Vytvoření zóny 30 a doprovodné úpravy značení na místních komunikacích - (2021 etapa I. Jih) | D21: 100 | E21: 100 | F21: 277580.05 | G21: 100
C22: 2021 Nákup ostatních služeb celkem: rozpočet 2 350,0 tis. Kč, rozpočet upravený 1 950,0 skutečnost 1 705 278,33 Kč
C23: 2022 Nákup ostatních služeb celkem: rozpočet 2 350,0 tis. Kč
A24: 2212 | B24: 5171 | C24: Opravy a udržování: opravy výtluků | D24: 500 | E24: 700 | F24: 590553.16 | G24: 550
C25: ostatní opravy komunikací | D25: 250 | E25: 170 | F25: 23474 | G25: 250
C26: 2021 oprava komunikace U Rakovky | D26: 0 | E26: 280 | F26: 279667.29 | G26: 0
C27: ostatní opravy-techniky (vč. výměny kamer), výměna a opravy svislého dopravního značení a příslušenství, obnova vodorovného dopravního značení | D27: 150 | E27: 150 | F27: 129927.95 | G27: 150
C28: údržba dlažby chodníků (přeskládání zámkové dlažby) | D28: 50 | E28: 50 | F28: 16698 | G28: 50
C29: 2021 oprava zábradlí v ul. K Verneráku na hrázi Hornomlýnského rybníka | D29: 200 | E29: 200 | F29: 254886.5 | G29: 0
C30: 2021 Opravy a udržování celkem: rozpočet 1 150,0, rozpočet upravený 1 550,0 tis. Kč, skutečnost 1 295 206,90 Kč
C31: 2022 Opravy a udržování celkem: rozpočet 1 000,0 tis. Kč
A32: 2212 | B32: 5365 | C32: Platby daní a poplatků krajům, obcím a st. fondům-správní poplatky | D32: 6 | E32: 6 | F32: 0 | G32: 6
C33: Budovy, haly, stavby
A34: 2212 | B34: 6121 | C34: Plošné rekonstrukce komunikací Kunratice
C35: III. etapa Rekonstrukce dalších ulic - dokumentace, poplatky, realizace vlastní zdroje (2021 doplatek AD II etapy) | D35: 10000 | E35: 10000 | F35: =11228.8+102850+1000+2478170.59 -> 2593249.4 | G35: 13500
C36: III. etapa Rekonstrukce dalších ulic - dotace HMP | D36: 0 | E36: 5000 | F36: =150744.51+2541156.4 -> 2691900.9 | G36: 0
C37: IV. etapa - cyklotrasa A 213 pořízení projektové dokumentace-vlastní zdroje | D37: 1650 | E37: 1650 | F37: 0 | G37: 1040
C38: IV. etapa - cyklotrasa A 213 Cyklotrasa Šeberov-Kunratický les-rekonstrukce, projektová dokumentace-ponechaná dotace HMP | D38: 0 | E38: 1650 | F38: 0 | G38: 0
C39: cyklotrasa A 213 Cyklotrasa Šeberov-Kunratický les-rekonstrukce komunikací, 2020 výkup pozemku při komunikaci Do Dubin, 2021 výkup pozemku …. | D39: 50 | E39: 50 | F39: 66800 | G39: 0
A40: 2212 | B40: 6121 | C40: Ostatní investiční výdaje silnice
C41: akce "Chodníkový program Kunratice 2019" dokumentace, poplatky, realizace | D41: 5000 | E41: 5000 | F41: 14470 | G41: 8000
A42: 2212 | C42: Silnice | D42: =SUM(D8:D41) -> 20661 | E42: =SUM(E8:E41) -> 27311 | F42: =SUM(F8:F41) -> 8547627.8 | G42: =SUM(G8:G41) -> 26338 | H42: =G42 -> 26338
A44: 2310 | B44: 5171 | C44: Opravy a udržování | D44: 50 | E44: 50 | F44: 0 | G44: 50
A45: 2310 | C45: Pitná voda | D45: =SUM(D44:D44) -> 50 | E45: =SUM(E44:E44) -> 50 | F45: =SUM(F44:F44) -> 0 | G45: =SUM(G44:G44) -> 50 | H45: =G45 -> 50
A47: 2321 | B47: 5139 | C47: Nákup materiálu | D47: 10 | E47: 10 | F47: 0 | G47: 10
A48: 2321 | B48: 5169 | C48: Nákup ostatních služeb - čištění kanalizace | D48: 25 | E48: 25 | F48: 25465 | G48: 25
A49: 2321 | B49: 5171 | C49: Opravy a udržování - opravy kanalizace | D49: 25 | E49: 25 | F49: 0 | G49: 25
A50: 2321 | C50: Odvádění a čištění odpadních vod | D50: =SUM(D47:D49) -> 60 | E50: =SUM(E47:E49) -> 60 | F50: =SUM(F47:F49) -> 25465 | G50: =SUM(G47:G49) -> 60 | H50: =G50 -> 60
A52: 2334 | B52: 5139 | C52: Nákup materiálu | D52: 5 | E52: 5 | F52: 515 | G52: 5
A53: 2334 | B53: 5154 | C53: Elektrická energie-napájení čerpadla ze studny k přívodu vody do rybníka Ohrada | D53: 5 | E53: 5 | F53: 0 | G53: 5
A54: 2334 | B54: 5169 | C54: Nákup ostatních služeb (2021 odstranění vodních makrofyt z vodní nádrže Ohrada) | D54: 5 | E54: 5 | F54: 22022 | G54: 25
A55: 2334 | B55: 5171 | C55: Opravy a udržování-běžné | D55: 15 | E55: 15 | F55: 0 | G55: 15
C56: Údržba vodního díla -rybník Ohrada (Kontrola stavu objektu rybníka Ohrada a odtokové části, čištění, opravy poškození po přívalovém dešti) | D56: 100 | E56: 100 | F56: 0 | G56: 100
A57: 2334 | B57: 6121 | C57: Budovy, haly, stavby-Revitalizace rybníka Ohrada - autorský dozor | D57: 0 | E57: 30.3 | F57: 30250 | G57: 0
A58: 2334 | B58: 6121 | C58: Budovy, haly, stavby-vybudování studny při rybníku Ohrada k posílení přívodu vody do rybníka | D58: 200 | E58: 200 | F58: 0 | G58: 200
A59: 2334 | C59: Revitalizace říčních systémů a vodních ploch | D59: =SUM(D52:D58) -> 330 | E59: =SUM(E52:E58) -> 360.3 | F59: =SUM(F52:F58) -> 52787 | G59: =SUM(G52:G58) -> 350 | H59: =G59 -> 350
A61: 3111 | B61: 5169 | C61: Nákup ostatních služeb-přezkoumání hospodaření | D61: 38 | E61: 38 | F61: 38115 | G61: 20
A62: 3111 | B62: 5194 | C62: Věcné dary | D62: 8 | E62: 8 | F62: 3968 | G62: 8
A63: 3111 | B63: 5331 | C63: Neinvestiční příspěvky zřízeným příspěvkovým organizacím: příspěvek MČ | D63: 1513 | E63: 1513 | F63: 1386913 | G63: =1513+60 -> 1573
A64: 3111 | B64: 5336 | C64: MŠ OPP PR Podpora integrace žáků s odlišným mateřským jazykem (OMJ) II, podíl HMP | D64: 0 | E64: 96.9 | F64: 96933 | G64: 0
A65: 3111 | B65: 5336 | C65: MŠ OPP PR Podpora integrace žáků s OMJ II, podíl EU | D65: 0 | E65: 96.9 | F65: 96933 | G65: 0
A66: 3111 | B66: 5336 | C66: MŠ OPP PR Podpora integrace žáků s OMJ III, podíl HMP | D66: 0 | E66: 201.7 | F66: 201748.5 | G66: 0
A67: 3111 | B67: 5336 | C67: MŠ OPP PR Podpora integrace žáků s OMJ III, podíl EU | D67: 0 | E67: 201.7 | F67: 201748.5 | G67: 0
A68: 3111 | B68: 5336 | C68: Posílení mzdových prostředků zaměstnanců škol | D68: 0 | E68: 380.5 | F68: 380500 | G68: 0
A69: 3111 | B69: 6121 | C69: 2021 Budovy, haly, stavby - Tepelná ochrana oken -venkovní žaluzie | D69: 800 | E69: 0 | F69: 0 | G69: 0
A70: 3111 | B70: 6121 | C70: 2021 Budovy, haly, stavby - Tepelná ochrana oken -venkovní žaluzie-dar na pořízení dlohodobého majetku | D70: 0 | E70: 622.5 | F70: 622495 | G70: 0
C71: 2022 Budovy, haly, stavby - Sanace suterénu budovy MŠ | G71: 700
A72: 3111 | C72: Mateřské školy | D72: =SUM(D61:D70) -> 2359 | E72: =SUM(E61:E70) -> 3159.2 | F72: =SUM(F61:F70) -> 3029354 | G72: =SUM(G61:G71) -> 2301 | H72: =G72 -> 2301
A74: 3113 | C74: Základní škola:
A75: 3113 | B75: 5169 | C75: Nákup ostatních služeb-přezkoumání hospodaření a ost. služby | D75: 50 | E75: 50 | F75: 49610 | G75: 20
A76: 3113 | B76: 5171 | C76: Opravy a udržování-(2020 oprava skla protipožárních dveří) | D76: 10 | E76: 10 | F76: 0 | G76: 10
A77: 3113 | B77: 5194 | C77: Věcné dary - knihy pro prvňáčky (knihy pořízené v roce 2017, 300 ks, jsou spotřebovány,dárky ke Dni učitelů) | D77: 50 | E77: 50 | F77: 31997 | G77: 35
A78: 3113 | B78: 5331 | C78: Neinvestiční příspěvky zřízeným příspěvkovým organizacím: pravidelný roční příspěvek MČ | D78: 4980 | E78: 4980 | F78: 4565000 | G78: 4980
A79: 3113 | B79: 5331 | C79: Neinvestiční příspěvky zřízeným příspěvkovým organizacím: příspěvek MČ jednorázový-párová výuka | D79: 20 | E79: 20 | F79: 0 | G79: 0
A80: 3113 | B80: 5336 | C80: ZŠ OPP PR Podpora integrace žáků s odlišným mateřským jazykem (OMJ) II, podíl HMP | D80: 0 | E80: 454.9 | F80: 454909.8 | G80: 0
C81: ZŠ OPP PR Podpora integrace žáků s OMJ II, podíl EU | D81: 0 | E81: 454.9 | F81: 454909.8 | G81: 0
C82: ZŠ OPP PR Podpora integrace žáků s OMJ III, podíl HMP | D82: 0 | E82: 982.4 | F82: 982405 | G82: 0
A83: 3113 | B83: 5336 | C83: ZŠ OPP PR Podpora integrace žáků s OMJ III, podíl EU | D83: 0 | E83: 982.4 | F83: 982405 | G83: 0
A84: 3113 | B84: 5336 | C84: ZŠ OP PPR Rozvoj demokraticlé kultury na ZŠ Kunratice, podíl HMP | D84: 0 | E84: 1145.9 | F84: 763956.88 | G84: 0
A85: 3113 | B85: 5336 | C85: ZŠ OP PPR Rozvoj demokraticlé kultury na ZŠ Kunratice, podíl EU | D85: 0 | E85: 1145.9 | F85: 763956.87 | G85: 0
A86: 3113 | B86: 5336 | C86: ZŠ OP PPR Rozvoj demokratické kultury na ZŠ Kunratice, podíl HMP | D86: 0 | E86: 1123.5 | F86: 0 | G86: 0
A87: 3113 | B87: 5336 | C87: ZŠ OP PPR Rozvoj demokratické kultury na ZŠ Kunratice, podíl EU | D87: 0 | E87: 1123.5 | F87: 0 | G87: 0
A88: 3113 | B88: 5336 | C88: ZŠ OP PPR Rozvoj demokrat. kultury na ZŠ Kunratice II, podíl HMP | D88: 0 | E88: 1423 | F88: 0 | G88: 0
C89: ZŠ OP PPR Rozvoj demokrat. kultury na ZŠ Kunratice II, podíl EU | D89: 0 | E89: 1423 | F89: 0 | G89: 0
A90: 3113 | B90: 5336 | C90: ZŠ Program prevence sociálního vyloučení a otvírání hřišť -dotace HMP | D90: 0 | E90: 73.2 | F90: 73200 | G90: 0
A91: 3113 | B91: 5336 | C91: Posílení mzdových prostředků zaměstnanců škol | D91: 0 | E91: 1334.1 | F91: 1334100 | G91: 0
A93: 3113 | B93: 6121 | C93: Budovy, haly, stavby - Základní škola:
A94: 3113 | B94: 6121 | C94: Výstavba tělocvičny ZŠ Kunratice:
C95: Vlastní zdroje (2022 do doby schválení převodu dotace HMP) | D95: 2100 | E95: 89 | F95: 0 | G95: 15000
C96: Ponechané prostředky dotace HMP | D96: 0 | E96: 1992.5 | F96: 1992510 | G96: 0
A97: 3113 | B97: 6121 | C97: Výstavba tělocvičny ZŠ Kunratice-dotace HMP 2021 | D97: 0 | E97: 15000 | F97: 168187 | G97: 0
A98: 3113 | B98: 6121 | C98: Výstavba denní místnosti zaměstnanců úklidu-dostavba šatny-vl. zdroje | D98: 350 | E98: 11 | F98: 10540.72 | G98: 0
C99: Výstavba denní místnosti zaměstnanců úklidu-dostavba šatny-dar na pořízení dlouhodobého majetku | D99: 0 | E99: 376.5 | F99: 376505 | G99: 0
A100: 3113 | C100: Základní školy celkem vč. investic | D100: =SUM(D75:D99) -> 7560 | E100: =SUM(E75:E99) -> 34245.7 | F100: =SUM(F75:F99) -> 13004193 | G100: =SUM(G75:G99) -> 20045 | H100: =G100 -> 20045
A102: 3314 | B102: 5011 | C102: Platy zaměstnanců | D102: 475 | E102: 475 | F102: 377078 | G102: 475
A103: 3314 | B103: 5021 | C103: Ostatní osobní výdaje | D103: 30 | E103: 30 | F103: 7300 | G103: 30
A104: 3314 | B104: 5031 | C104: Povinné pojistné na sociální zabezpečení a politiku zaměstnanosti | D104: 119 | E104: 119 | F104: 93520 | G104: 119
A105: 3314 | B105: 5032 | C105: Povinné pojistné na zdravotní pojištění | D105: 44 | E105: 44 | F105: 33938 | G105: 44
A106: 3314 | B106: 5136 | C106: Knihy, učební pomůcky, tisk - vlastní zdroje | D106: 55 | E106: 55 | F106: =39689.32+12000 -> 51689.32 | G106: 56
C107: - dotace HMP | D107: 0 | E107: 8.2 | F107: 8200 | G107: 0
A108: 3314 | B108: 5137 | C108: Drobný hmotný dlouhodobý majetek | D108: 7 | E108: 7 | F108: 0 | G108: 7
A109: 3314 | B109: 5139 | C109: Nákup materiálu a doplňky k vybavení knihovny | D109: 9 | E109: 9 | F109: 3487.39 | G109: 8
A110: 3314 | B110: 5151 | C110: Voda | D110: 20 | E110: 20 | F110: 5851 | G110: 16
...
