Workbook

Sheet rozp 2022 příjmy pozměňovací n.
A1: Příloha č. 1 k bodu 9 23. zasedání Zastupitelstva MČ Praha Kunratice dne 20.12.2021
A2: Městská část Praha KUNRATICE
A3: NÁVRH ROZPOČTU 2022 a PLNĚNÍ PŘÍJMU A ČERPÁNÍ VYDAJU ROZPOČTU 2021
A6: Položka | B6: Paragraf | C6: Rozpočtové příjmy | D6: RS 2021 | E6: RU 2021 | F6: Skutečnost Kč | G6: Návrh 2022 | H6: Návrh 2022
C7: Název | D7: tis. Kč | E7: tis. Kč | F7: 11/2021 | G7: tis. Kč | H7: tis. Kč
C8: Daňové příjmy:
A9: 1341 | C9: Poplatek ze psů | D9: 180 | E9: 180 | F9: 196839.5 | G9: 185
A10: 1342 | C10: Poplatek z pobytu | D10: 70 | E10: 70 | F10: 167385 | G10: 180
A11: 1343 | C11: Poplatek za užívání veřejného prostranství (2021 výměna silového vedení PRE) | D11: 250 | E11: 2650 | F11: 4110250 | G11: 250
A12: 1344 | C12: Poplatek ze vstupného | D12: 10 | E12: 10 | F12: 21869 | G12: 20
A13: 1349 | C13: Zrušené místní poplatky-doplatek z let 2018 a 2019 | D13: 0 | E13: 0 | F13: 11977.5 | G13: 0
A14: 1361 | C14: Správní poplatky-trvalý pobyt..., Czech point.. | D14: 100 | E14: 100 | F14: 76420 | G14: 100
A15: 1511 | C15: Daň z nemovitých věcí | D15: 16000 | E15: 16000 | F15: 13554079 | G15: 16000
C16: Daňové příjmy celkem | D16: =SUM(D9:D15) -> 16610 | E16: =SUM(E9:E15) -> 19010 | F16: =SUM(F9:F15) -> 18138820 | G16: =SUM(G9:G15) -> 16735 | H16: =G16 -> 16735
C18: Nedaňové příjmy:
A19: 2111 | B19: 3314 | C19: Příjmy z poskytování služeb a výrobků - knihovna | D19: 10 | E19: 10 | F19: 11900 | G19: 10
A20: 2111 | B20: 3632 | C20: Příjmy z poskytování služeb a výrobků - pohřebnictví | D20: 10 | E20: 10 | F20: 28800 | G20: 18
A21: 2111 | B21: 6171 | C21: Příjmy z poskytování služeb a výrobků - místní správa-úhrada za poskytování informací dle 106/1999 Sb. | D21: 2 | E21: 2 | F21: 0 | G21: 2
A22: 2112 | B22: 3319 | C22: Příjmy z prodeje zboží-kultura-kniha Kunratice v běhu času | D22: 2 | E22: 2 | F22: 1929.91 | G22: 2.3
A23: 2139 | B23: 3632 | C23: Ostatní příjmy z pronájmu majetku-pronájem hrobů | D23: 450 | E23: 450 | F23: 463741 | G23: 450
A24: 2141 | B24: 6310 | C24: Příjmy z úroků | D24: 25 | E24: 25 | F24: 71371.4 | G24: =(37*6)+(17*6) -> 324
A25: 2212 | B25: 6171 | C25: Sankční platby přijaté od jiných subjektů-smluvní pokuty a pokuty z přestupků | D25: 80 | E25: 80 | F25: 35500 | G25: 50
A26: 2229 | B26: 3111 | C26: Ostatní přijaté vratky transferů-vratka od MŠ OPP PR Podpora integrace žáků s OMJ, podíl HMP | D26: 0 | E26: 19.5 | F26: 19480 | G26: 0
A27: 2229 | B27: 3111 | C27: Ostatní přijaté vratky transferů-vratka od MŠ OPP PR Podpora integrace žáků s OMJ, podíl EU | D27: 0 | E27: 19.5 | F27: 19480 | G27: 0
A28: 2229 | B28: 3111 | C28: Ostatní přijaté vratky transferů-vratka od MŠ OPP PR Rozvoj polytechn. výchovy a EVVO spoluúčast MČ | D28: 0 | E28: 0 | F28: 7921.38 | G28: 0
A29: 2229 | B29: 3111 | C29: Ostatní přijaté vratky transferů-vratka od MŠ školka v přírodě | D29: 0 | E29: 0 | F29: 147900 | G29: 0
A30: 2229 | B30: 3113 | C30: Ostatní přijaté vratky transferů-vratka od ZŠ škola v přírodě | D30: 0 | E30: 0 | F30: 64600 | G30: 0
A31: 2229 | B31: 3113 | C31: Ostatní přijaté vratky transferů-vratka od ZŠ EU Šablony II | D31: 0 | E31: 46.5 | F31: 46481 | G31: 0
A32: 2229 | B32: 3113 | C32: Ostatní přijaté vratky transferů-vratka od ZŠ EU OP PPR OMJ | D32: 0 | E32: 0 | F32: 229468 | G32: 0
A33: 2229 | B33: 3319 | C33: Ostatní přijaté vratky transferů-vratka Jihoměstská sociální- za nevyčerpané příspěvky na plavání seniorů v r. 2020 | D33: 0 | E33: 11.3 | F33: 11325 | G33: 0
A34: 2321 | B34: 2212 | C34: Přijaté neinvestiční dary (oprava komunikace U Rakovky) | D34: 0 | E34: 280 | F34: 279667 | G34: 0
A35: 2322 | B35: 6171 | C35: Přijaté pojistné náhrady (vč. oprava okna po vloupání) | D35: 0 | E35: 40.8 | F35: 86795 | G35: 0
A36: 2324 | B36: 6171 | C36: Přijaté nekapitálové příspěvky a náhrady- přeplatky záloh, vypořádání záloh (Česká pošta aj.), náklady v přestupkovém řízení | D36: 130 | E36: 130 | F36: 193328.98 | G36: 160
C37: Nedaňové příjmy celkem | D37: =SUM(D19:D36) -> 709 | E37: =SUM(E19:E36) -> 1126.6 | F37: =SUM(F19:F36) -> 1719688.7 | G37: =SUM(G19:G36) -> 1016.3 | H37: =G37 -> 1016.3
A39: 3121 | B39: 6171 | C39: Přijaté dary, činnost místní správy | D39: 0 | E39: 999 | F39: 999000 | G39: 0
C40: Přijaté dary na pořízení dlouhodobého majetku | D40: 0 | E40: 999 | F40: 999000 | G40: =SUM(G39) -> 0 | H40: =G40 -> 0
C42: Přijaté transfery:
A43: 4131 | B43: 6330 | C43: Převody z vlastních fondů hospodářské činnosti-převod části HV VHČ let 2019 a 2020 do fondu DCHB (převod na ZBÚ pro fond DCHB) | D43: 0 | E43: 2600 | F43: 2600000 | G43: 0
A44: 4133 | B44: 6330 | C44: Převody z vlastních rezervních fondů-z fondu Domu s chráněnými byty na provoz a akce DCHB | D44: 919 | E44: 919 | F44: 211461.11 | G44: 2472
A45: 4133 | B45: 6330 | C45: Převody z vlastních rezervních fondů-z fondu Domu s chráněnými byty na výměnu a modernizaci elektroinstalace výtahů a na rekonstrukci plynové kotelny | D45: 0 | E45: 4300 | F45: 1873810 | G45: 0
...

Sheet rozp 2022 výdaje pozměňovací n.
A1: Příloha č. 1 k bodu 9 23. zasedání Zastupitelstva MČ Praha Kunratice dne 20.12.2021
A2: Městská část Praha KUNRATICE
B3: NÁVRH ROZPOČTU 2022 a PLNĚNÍ PŘÍJMU A ČERPÁNÍ VYDAJU ROZPOĆTU 2021
A6: Paragraf | B6: Položka | C6: Rozpočtové výdaje | D6: RS 2021 | E6: RU 2021 | F6: Skutečnost Kč | G6: Návrh 2022 | H6: Návrh 2022
C7: Název | D7: tis. Kč | E7: tis. Kč | F7: 11/2021 | G7: tis. Kč | H7: tis. Kč
A8: 2212 | B8: 5021 | C8: Ostatní osobní výdaje | D8: 213 | E8: 213 | F8: 98170 | G8: 213
A9: 2212 | B9: 5031 | C9: Povinné pojistné na sociální zabezpečení a politiku zaměstnanosti | D9: 40 | E9: 40 | F9: 21039 | G9: 40
A10: 2212 | B10: 5032 | C10: Povinné pojistné na zdravotní pojištění | D10: 15 | E10: 15 | F10: 7630 | G10: 15
A11: 2212 | B11: 5132 | C11: Ochranné pomůcky-respirátory | D11: 3 | E11: 3 | F11: 0 | G11: 3
A12: 2212 | B12: 5137 | C12: Drobný hmotný dlouhodobý majetek (..stojany na kola, drobné ruční stroje) | D12: 30 | E12: 30 | F12: 23991.69 | G12: 30
A13: 2212 | B13: 5139 | C13: Nákup materiálu-spotřební materiál, náhradní díly, kusový nákup součástí dopravního značení (zrcadla, kužely, sloupky…) | D13: 100 | E13: 100 | F13: 17212 | G13: 100
A14: 2212 | B14: 5154 | C14: Napájení veřejného osvětlení v majetku MČ dle smlouvy s THMP do doby převodu na HMP | D14: 35 | E14: 35 | F14: 6138.83 | G14: 20
A15: 2212 | B15: 5156 | C15: Pohonné hmoty a maziva | D15: 8 | E15: 8 | F15: 6038.6 | G15: 10
A16: 2212 | B16: 5164 | C16: Nájemné (umístění výstražného zařízení na sloupech veř. osvětlení) | D16: 11 | E16: 11 | F16: 502.15 | G16: 11
A17: 2212 | B17: 5169 | C17: Nákup ostatních služeb: zimní údržba komunikací vč. úklidu po zimní údržbě, strojní čištění | D17: 1500 | E17: 1100 | F17: 831833.28 | G17: 1500
A18: 2212 | B18: 5169 | C18: Nákup ostatních služeb: STK, projekty k opravám, výběrové řízení k opravám, autorský dozor k opravám a jiné dodávky prací (vyjádření k sítím, provizorní DZ k akcím,nové DZ, posudky a ostatní podklady ke stavu komunikací, projednávání..): | D18: 150 | E18: 150 | F18: 159702.35 | G18: 150
A19: 2212 | B19: 5169 | C19: Nákup ostatních služeb: Pořízení služeb k úklidu a drobné údržbě komunikací a přilehlých veřejných prostranství, odstraňování grafitti a následků vandalismu na majetku MČ a mobiliáři, šintování komunikací, podpora projektu Ukliďme Česko | D19: 500 | E19: 500 | F19: 436162.65 | G19: 500
... A21: 2212 | B21: 5169 | C21: Vytvoření zóny 30 a doprovodné úpravy značení na místních komunikacích - (2021 etapa I. Jih) | D21: 100 | E21: 100 | F21: 277580.05 | G21: 100
C22: 2021 Nákup ostatních služeb celkem: rozpočet 2 350,0 tis. Kč, rozpočet upravený 1 950,0 skutečnost 1 705 278,33 Kč
C23: 2022 Nákup ostatních služeb celkem: rozpočet 2 350,0 tis. Kč
A24: 2212 | B24: 5171 | C24: Opravy a udržování: opravy výtluků | D24: 500 | E24: 700 | F24: 590553.16 | G24: 550
C25: ostatní opravy komunikací | D25: 250 | E25: 170 | F25: 23474 | G25: 250
C26: 2021 oprava komunikace U Rakovky | D26: 0 | E26: 280 | F26: 279667.29 | G26: 0
C27: ostatní opravy-techniky (vč. výměny kamer), výměna a opravy svislého dopravního značení a příslušenství, obnova vodorovného dopravního značení | D27: 150 | E27: 150 | F27: 129927.95 | G27: 150
C28: údržba dlažby chodníků (přeskládání zámkové dlažby) | D28: 50 | E28: 50 | F28: 16698 | G28: 50
C29: 2021 oprava zábradlí v ul. K Verneráku na hrázi Hornomlýnského rybníka | D29: 200 | E29: 200 | F29: 254886.5 | G29: 0
C30: 2021 Opravy a udržování celkem: rozpočet 1 150,0, rozpočet upravený 1 550,0 tis. Kč, skutečnost 1 295 206,90 Kč
C31: 2022 Opravy a udržování celkem: rozpočet 1 000,0 tis. Kč
A32: 2212 | B32: 5365 | C32: Platby daní a poplatků krajům, obcím a st. fondům-správní poplatky | D32: 6 | E32: 6 | F32: 0 | G32: 6
C33: Budovy, haly, stavby
A34: 2212 | B34: 6121 | C34: Plošné rekonstrukce komunikací Kunratice
C35: III. etapa Rekonstrukce dalších ulic - dokumentace, poplatky, realizace vlastní zdroje (2021 doplatek AD II etapy) | D35: 10000 | E35: 10000 | F35: =11228.8+102850+1000+2478170.59 -> 2593249.4 | G35: 13500
C36: III. etapa Rekonstrukce dalších ulic - dotace HMP | D36: 0 | E36: 5000 | F36: =150744.51+2541156.4 -> 2691900.9 | G36: 0
C37: IV. etapa - cyklotrasa A 213 pořízení projektové dokumentace-vlastní zdroje | D37: 1650 | E37: 1650 | F37: 0 | G37: 1040
C38: IV. etapa - cyklotrasa A 213 Cyklotrasa Šeberov-Kunratický les-rekonstrukce, projektová dokumentace-ponechaná dotace HMP | D38: 0 | E38: 1650 | F38: 0 | G38: 0
C39: cyklotrasa A 213 Cyklotrasa Šeberov-Kunratický les-rekonstrukce komunikací, 2020 výkup pozemku při komunikaci Do Dubin, 2021 výkup pozemku …. | D39: 50 | E39: 50 | F39: 66800 | G39: 0
A40: 2212 | B40: 6121 | C40: Ostatní investiční výdaje silnice
C41: akce "Chodníkový program Kunratice 2019" dokumentace, poplatky, realizace | D41: 5000 | E41: 5000 | F41: 14470 | G41: 8000
A42: 2212 | C42: Silnice | D42: =SUM(D8:D41) -> 20661 | E42: =SUM(E8:E41) -> 27311 | F42: =SUM(F8:F41) -> 8547627.8 | G42: =SUM(G8:G41) -> 26338 | H42: =G42 -> 26338
A44: 2310 | B44: 5171 | C44: Opravy a udržování | D44: 50 | E44: 50 | F44: 0 | G44: 50
...
