Workbook

Sheet Návrh 2024 příjmy 
A1: Městská část Praha KUNRATICE
A2: NÁVRH ROZPOČTU 2024 a Plnění příjmů a čerpání výdajů rozpočtu 2023
A3: Příloha 1
A5: Položka | B5: Paragraf | C5: Rozpočtové příjmy | D5: RS 2023 | E5: RU 2023 | F5: Skutečnost Kč | G5: Návrh 2024 | H5: Návrh 2024
C6: Název | D6: tis. Kč | E6: tis. Kč | F6: 16.11.2023 | G6: tis. Kč | H6: tis. Kč
C7: Daňové příjmy:
A8: 1341 | C8: Příjem z poplatků ze psů | D8: 185 | E8: 185 | F8: 178515 | G8: 185
A9: 1342 | C9: Příjem z poplatků z pobytu | D9: 400 | E9: 400 | F9: 829123.25 | G9: 400
A10: 1343 | C10: Příjem z poplatku za užívání veřejného prostranství | D10: 450 | E10: =450+3000 -> 3450 | F10: 3454260 | G10: 450
A11: 1344 | C11: Příjem z poplatku ze vstupného | D11: 20 | E11: 20 | F11: 0 | G11: 0
A12: 1361 | C12: Příjem ze správních poplatků | D12: 100 | E12: 100 | F12: 67640 | G12: 100
A13: 1511 | C13: Příjem z daně z nemovitých věcí | D13: 16000 | E13: 16000 | F13: 13723928 | G13: 16000
C14: Daňové příjmy celkem | D14: =SUM(D8:D13) -> 17155 | E14: =SUM(E8:E13) -> 20155 | F14: =SUM(F8:F13) -> 18253467 | G14: =SUM(G8:G13) -> 17135 | H14: =G14 -> 17135
C16: Nedaňové příjmy:
A17: 2111 | B17: 3314 | C17: Příjmy z poskytování služeb a výrobků, prací, výkonů a práv - knihovna | D17: 12 | E17: 12 | F17: 15300 | G17: 14
A18: 2111 | B18: 3319 | C18: Příjmy z poskytování služeb a výrobků, prací, výkonů a práv - kultura | D18: 0 | E18: 41.6 | F18: 41600 | G18: 0
A19: 2111 | B19: 3632 | C19: Příjmy z poskytování služeb a výrobků, prací, výkonů a práv -pohřebnictví | D19: 18 | E19: 18 | F19: 12200 | G19: 16
A20: 2111 | B20: 6171 | C20: Příjmy z poskytování služeb a výrobků, prací, výkonů a práv - místní správa-úhrada za poskytování informací dle zákona 106/1999 Sb. | D20: 2 | E20: 2 | F20: 0 | G20: 2
A21: 2112 | B21: 3319 | C21: Příjmy z prodeje zboží-kultura-kniha Kunratice v běhu času | D21: 2 | E21: 2 | F21: 1197 | G21: 1.8
A22: 2139 | B22: 3632 | C22: Ostatní příjmy z pronájmu majetku-pronájem hrobů | D22: 450 | E22: 450 | F22: 553255 | G22: 490
A23: 2141 | B23: 6310 | C23: Příjmy z úroků | D23: 700 | E23: 700 | F23: 4413082 | G23: 700
A24: 2212 | B24: 6171 | C24: Příjem sankčních plateb přijatých od jiných osob - smluvní pokuty a pokuty z přestupků | D24: 50 | E24: 50 | F24: 16000 | G24: 50
A25: 2229 | C25: Ostatní přijaté vratky transferů-vratky dotací k finančnímu vypořádání:
A26: 2229 | B26: 3111 | C26: MŠ vratka dotace OP PPR Odlišný mat. jazyk II | D26: 0 | E26: 0 | F26: =1816+1816 -> 3632 | G26: 0
A27: 2229 | B27: 3111 | C27: MŠ vratka dotace OP PPR Odlišný mat. jazyk III | D27: 0 | E27: 0 | F27: =15895.5+15895.5 -> 31791 | G27: 0
A28: 2229 | B28: 3111 | C28: MŠ vratka dotace OP PPR Šablony III | D28: 0 | E28: 21.5 | F28: 21495 | G28: 0
A29: 2229 | B29: 3113 | C29: ZŠ vratka dotace ZŠ Adaptační skupiny pro děti migrující z Ukrajiny | D29: 0 | E29: 60 | F29: 60000 | G29: 0
A30: 2229 | B30: 3113 | C30: ZŠ vratka dotace OP PPR od Základní školy-podíl EU a HMP (2x OMJ II á 79 713,0, 2x Dem. kultura á 43 016,4, 2x OMJ III á 43 967,50) | D30: 0 | E30: 333.4 | F30: =245458.8+(43967.5*2) -> 333393.8 | G30: 0
A31: 2229 | B31: 3319 | C31: vratka od Jihoměstská sociální, a.s.- za nevyčerpané příspěvky na plavání seniorů v r. 2022 | D31: 0 | E31: 9.2 | F31: 9245 | G31: 0
A33: 2321 | B33: 3745 | C33: Nadační příspěvek ČEZ na projekt Stromy pro Kunratice 2023 | D33: 0 | E33: 58.5 | F33: 58500 | G33: 0
A34: 2321 | B34: 3745 | C34: Finanční příspěvek Nadačního fondu CEMEX na účely rozvoje a úpravy zeleně v obci | D34: 0 | E34: 55 | F34: 55000 | G34: 0
A35: 2321 | B35: 3113 | C35: Spolupráce v oblasti školství-dar na financování oprav v areálu školy | D35: 0 | E35: 100 | F35: 100000 | G35: 0
A36: 2322 | B36: 6171 | C36: Příjem z pojistných plnění (poškozená inf. tabule lok. Flora+oprava v MŠ) | D36: 0 | E36: 14.2 | F36: =14163+37034+7468 -> 58665 | G36: 0
A37: 2322 | B37: 5512 | C37: Příjem z pojistných plnění (plnění za zásah hasičského z. sboru) | D37: 0 | E37: 13 | F37: 12977 | G37: 0
A38: 2324 | B38: 6171 | C38: Přijaté neinvestiční příspěvky a náhrady- přeplatky záloh, vypořádání záloh (Česká pošta aj.), náklady v přestupkovém řízení | D38: 160 | E38: 160 | F38: 190280.4 | G38: 160
C39: Nedaňové příjmy celkem | D39: =SUM(D17:D38) -> 1394 | E39: =SUM(E17:E38) -> 2100.4 | F39: =SUM(F17:F38) -> 5987613.2 | G39: =SUM(G17:G38) -> 1433.8 | H39: =G39 -> 1433.8
A41: 3121 | B41: 2212 | C41: Přijaté dary na pořízení dlouhodobého majetku-výstavba dopravní infrastruktury-Chodníkový program 2019-Nový chodník v ul. U Rakovky a v ul. Vídeňská | D41: 0 | E41: 1000 | F41: 1000000 | G41: 0
C42: Kapitálové příjmy celkem | D42: =SUM(D41) -> 0 | E42: =SUM(E41) -> 1000 | F42: =SUM(F41) -> 1000000 | G42: =SUM(G41) -> 0 | H42: =G42 -> 0
C44: Přijaté transfery:
A45: 4131 | B45: 6330 | C45: Převody z vlastních fondů podnikatelské činnosti-část nerozděleného zisku VHČ - posílení rozpočtu | D45: 15000 | E45: 15000 | F45: 0 | G45: 45000
A46: 4131 | B46: 6330 | C46: Převody z vlastních fondů podnikatelské činnosti-převod do fondu Domu s chráněnými byty | D46: 0 | E46: 2500 | F46: 0 | G46: 0
A47: 4133 | B47: 6330 | C47: Převody z vlastních rezervních fondů-z fondu Domu s chráněnými byty na provoz a akce DCHB | D47: 9000 | E47: 9000 | F47: 4000000 | G47: ='Návrh 2024 výdaje'!G258 -> 3704
A48: 4133 | B48: 6330 | C48: Převody z vlastních rezervních fondů-z fondu rozvoje a rezerv | D48: 0 | E48: 383.3 | F48: 383559.94 | G48: 0
A49: 4134 | B49: 6330 | C49: Převody vlastním fondům, převody z rozpočtových účtů:
C50: Posílení rozpočtu sociálního fondu-příjem sociálního fondu | D50: 375 | E50: 375 | F50: 308238 | G50: 435
C51: Převod do fondu Domu s chráněnými byty | D51: 0 | E51: 2500 | F51: 0 | G51: 0
A52: 4139 | B52: 6330 | C52: Ostatní převody z vlastních fondů-ze sociálního fondu | D52: 387 | E52: 387 | F52: 168550 | G52: 455
A53: 4137 | B53: 6330 | C53: Neinvestiční převody mezi statutátními městy a jejich městskými obvody nebo částmi - transfer ze státního rozpočtu -souhrnný dotační vztah | D53: 315 | E53: 315 | F53: =26000+26000+26000+26000+26000+26000+26000+26000+26000+26000+26000 -> 286000 | G53: 339.2
A54: 4137 | B54: 6330 | C54: Neinvestiční převody mezi statutátními městy a jejich městskými obvody nebo částmi - transfer z HMP -souhrnný dotační vztah | D54: 55518 | E54: 55518 | F54: =13880000+13880000+13880000+13878000 -> 55518000 | G54: 61593
C55: Neinvestiční převody mezi statutátními městy a jejich MČ - neinvestiční dotace:
A56: 4137 | B56: 6330 | C56: Místní knihovna | D56: 0 | E56: 10.5 | F56: 10500 | G56: 0
A57: 4137 | B57: 6330 | C57: Podíl na prostředcích obdržených jako výnos z daně z hazardních her a jako odvod z loterií | D57: 0 | E57: 1642 | F57: 1642000 | G57: 0
A58: 4137 | B58: 6330 | C58: Neinvestiční dotace MF na úhradu výdajů spojených se zajištěním nouz. ubytování v souvislosti s migrační vlnou z konfliktu na Ukrajině | D58: 0 | E58: 15.6 | F58: 15600 | G58: 0
A59: 4137 | B59: 6330 | C59: Příjem 100% podílu MČ na celkové daňové povinnosti HMP na dani z příjmu práv. osob za rok 2022 | D59: 0 | E59: 2812.1 | F59: 2812106.9 | G59: 0
A60: 4137 | B60: 6330 | C60: Posílení mzdových prostředků zaměstnanců škol a školských zařízení vč. podpory pracovníků ve stravování ve školství | D60: 0 | E60: 2475.2 | F60: 2475200 | G60: 0
A61: 4137 | B61: 6330 | C61: Neinvestiční dotace HMP na projekt Otevírání hřišť pro veřejnost | D61: 0 | E61: 85 | F61: 85000 | G61: 0
A62: 4137 | B62: 6330 | C62: Neinvestiční dotace HMP na Zkvalitnění výuky tělesné výchovy ZŠ | D62: 0 | E62: 235 | F62: 235000 | G62: 0
A63: 4137 | B63: 6330 | C63: Dotace MF na úhradu výdajů na volbu prezidenta ČR+doplatek výdajů za přípravu volby prezidenta v rámci fin. vypořádání (5 816,53 Kč) | D63: 0 | E63: =246.6+5.8 -> 252.4 | F63: =246600+5816.53 -> 252416.53 | G63: 0
A64: 4137 | B64: 6330 | C64: Doplatek výdajů za přípravu volby do zastupitelstev obcí a Parlamentu v rámci fin. vypořádání za rok 2022 | D64: 0 | E64: 17.6 | F64: 17637 | G64: 0
A65: 4137 | B65: 6330 | C65: Neinvestiční náhrada Ministerstva pro místní rozvoj za vynaložené náklady na pohřbení zemřelého, jehož pohřbení zajistila městská část | D65: 0 | E65: 8.2 | F65: 8195 | G65: 0
A66: 4137 | B66: 6330 | C66: Neinvestiční dotace HMP na činnost jednotek Sboru dobr. hasičů | D66: 0 | E66: 383.5 | F66: 383500 | G66: 0
C68: Dotace z Operačního programu Praha-pól růstu OP PPR
A69: 4137 | B69: 6330 | C69: MŠ EU OP Jan Am. Komenský Šablony I podíl EU a MŠMT | D69: 0 | E69: 899.4 | F69: 899350 | G69: 0
A70: 4137 | B70: 6330 | C70: ZŠ OP PPR Rozvoj demokrat. kultury na ZŠ Kunratice II, podíl HMP | D70: 0 | E70: 1159.1 | F70: 1159081.2 | G70: 0
A71: 4137 | B71: 6330 | C71: ZŠ OP PPR Rozvoj demokrat. kultury na ZŠ Kunratice II, podíl EU | D71: 0 | E71: 1159.1 | F71: 1159081.2 | G71: 0
A72: 4137 | B72: 6330 | C72: ZŠ OP PPR Modernizace odb. učeben neinvestiční podíl HMP | D72: 0 | E72: 200 | F72: 176918.41 | G72: 0
A73: 4137 | B73: 6330 | C73: ZŠ OP PPR Modernizace odb. učeben neinvestiční podíl EU | D73: 0 | E73: 250 | F73: 221148.02 | G73: 0
A74: 4251 | B74: 6330 | C74: ZŠ OP PPR Modernizace odb. učeben investiční podíl HMP | D74: 0 | E74: 240 | F74: 223081.59 | G74: 0
A75: 4251 | B75: 6330 | C75: ZŠ OP PPR Modernizace odb. učeben investiční podíl EU | D75: 0 | E75: 300 | F75: 278851.98 | G75: 0
C77: Investiční převody mezi statutátními městy a jejich městskými obvody nebo částmi - investiční dotace HMP:
A78: 4251 | B78: 6330 | C78: Rekonstrukce Mateřské školy Kunratice | D78: 0 | E78: 10000 | F78: 10000000 | G78: 0
A79: 4251 | B79: 6330 | C79: Záležitosti dopravní infrastruktury-Nový přechod pro chodce | D79: 0 | E79: 980 | F79: 980000 | G79: 0
C80: Přijaté transfery celkem | D80: =SUM(D45:D79) -> 80595 | E80: =SUM(E45:E79) -> 109103 | F80: =SUM(F45:F79) -> 83699016 | G80: =SUM(G45:G79) -> 111526.2 | H80: =G80 -> 111526.2
C82: PŘÍJMY CELKEM vč. převodů z vlastních fondů a mezi HMP a MČ -dotační vztah | D82: =D14+D39+D42+D80 -> 99144 | E82: =E14+E39+E42+E80 -> 132358.4 | F82: =F14+F39+F42+F80 -> 1.089401e+08 | G82: =G14+G39+G42+G80 -> 130095 | H82: =SUM(H8:H80) -> 130095
C84: Konsolidace příjmů:
A85: 4133 | B85: 6330 | C85: Převody z vlastních rezervních fondů-z fondu Domu s chráněnými byty | D85: =D47 -> 9000 | E85: =E47 -> 9000 | F85: =F47 -> 4000000 | G85: =G47 -> 3704
A86: 4133 | B86: 6330 | C86: Převody z vlastních rezervních fondů-z fondu rozvoje a rezerv | D86: 0 | E86: =E48 -> 383.3 | F86: =F48 -> 383559.94 | G86: =G48 -> 0
A87: 4134 | B87: 6330 | C87: Převody z rozpočtových účtů:
C88: Posílení rozpočtu soc. fondu-příjem sociálního fondu | D88: =D50 -> 375 | E88: =E50 -> 375 | F88: =F50 -> 308238 | G88: =G50 -> 435
C89: Převod do fondu Domu s chráněnými byty | D89: =D51 -> 0 | E89: =E51 -> 2500 | F89: =F51 -> 0 | G89: =G51 -> 0
A90: 4139 | B90: 6330 | C90: Převody z vlastních fondů-ze sociálního fondu | D90: =D52 -> 387 | E90: =E52 -> 387 | F90: =F52 -> 168550 | G90: =G52 -> 455
A91: 4137 | B91: 6330 | C91: Neinvestiční převody mezi statutátními městy a jejich MČ-transfer ze SR a HMP souhrnný dotační vztah a přijaté neinvestiční dotace | D91: =SUM(D53:D75)-(D74+D75) -> 55833 | E91: =SUM(E53:E75)-(E74+E75) -> 67437.7 | F91: =SUM(F53:F75)-(F74+F75) -> 67356734 | G91: =SUM(G53:G75)-(G74+G75) -> 61932.2
A92: 4251 | B92: 6330 | C92: Investiční převody mezi statutátními městy a jejich MČ-investiční dotace | D92: =D78+D74+D75 -> 0 | E92: =E78+E79+E74+E75 -> 11520 | F92: =F78+F79+F74+F75 -> 11481934 | G92: 0
C93: Převody z vlastních fondů a mezi HMP a MČ- konsolidace příjmů celkem | D93: =SUM(D85:D92) -> 65595 | E93: =SUM(E85:E92) -> 91603 | F93: =SUM(F85:F92) -> 83699016 | G93: =SUM(G85:G92) -> 66526.2 | H93: =G93 -> 66526.2
C95: PŘÍJMY po konsolidaci-bez převodů z vlastních fondů a mezi HMP a MČ) | D95: =D82-D93 -> 33549 | E95: =E82-E93 -> 40755.4 | F95: =F82-F93 -> 25241080 | G95: =G82-G93 -> 63568.8 | H95: =H82-H93 -> 63568.8
C97: PŘÍJMY z dotačního vztahu (pol. 4137 a 4251 par. 6330) | D97: =D91+D92 -> 55833 | E97: =E91+E92 -> 78957.7 | F97: =F91+F92 -> 78838668 | G97: =G91+G92 -> 61932.2 | H97: =G97 -> 61932.2
C99: OBJEM PŘÍJMU - ZDROJE celkem | D99: =SUM(D95:D97) -> 89382 | E99: =SUM(E95:E97) -> 119713.1 | F99: =SUM(F95:F97) -> 1.0407975e+08 | G99: =SUM(G95:G97) -> 125501 | H99: =SUM(H95:H97) -> 125501
A100: Rozpočet MČ Praha Kunratice na rok 2024 zahrnuje vysoký podíl investičních výdajů zejména na výstavbu tělocvičny základní školy, sportovní areál a další projekty. Rozdíl mezi příjmy a výdaji je vyrovnán úsporami prostředků z hospodaření minulých let 26 218,0 tis. Kč. Do rozpočtu je zapojeno 3 704,0 tis. Kč z fondu Domu s chráněnými byty, který je vytvářen z hospodářského výsledku hospodářské činnosti MČ pro potřebu úprav objektu a akcí pro nájemníky. MČ nemá uzavřenu žádnou úvěrovou smlouvu ani do budoucna o úvěru neuvažuje.
A108: Rozpočet roku 2024 bude projednán Zastupitelstva MČ Praha Kunratice dne 18.12.2023
C110: Návrh vyvěšen na úřední desku dne 1.12.2023
C111: Návrh zveřejněn na elektronické úřední desce www. praha-kunratice.cz dne 1.12.2023
C113: Ing. Lenka Alinčová, starostka MČ Praha Kunratice

Sheet Návrh 2024 výdaje
A1: Městská část Praha KUNRATICE
B2: NÁVRH ROZPOČTU 2024 a Plnění příjmů a čerpání výdajů 2023
A3: Příloha 1
A5: Paragraf | B5: Položka | C5: Rozpočtové výdaje | D5: RS 2023 | E5: RU 2023 | F5: Skutečnost Kč | G5: Návrh 2024 | H5: Návrh 2024
C6: Název | D6: tis. Kč | E6: tis. Kč | F6: 16.11.2023 | G6: tis. Kč | H6: tis. Kč
A7: 2212 | B7: 5021 | C7: Ostatní osobní výdaje | D7: 230 | E7: 230 | F7: 186036 | G7: 230
A8: 2212 | B8: 5031 | C8: Povinné pojistné na sociální zabezpečení a politiku zaměstnanosti | D8: 48 | E8: 48 | F8: 36089 | G8: 48
A9: 2212 | B9: 5032 | C9: Povinné pojistné na zdravotní pojištění | D9: 18 | E9: 18 | F9: 13879 | G9: 18
A10: 2212 | B10: 5132 | C10: Ochranné pomůcky-respirátory | D10: 3 | E10: 3 | F10: 0 | G10: 3
A11: 2212 | B11: 5134 | C11: Prádlo, oděv a obuv s výjimkou ochranných pomůcek | D11: 5 | E11: 5 | F11: 3242 | G11: 5
A12: 2212 | B12: 5137 | C12: Drobný hmotný dlouhodobý majetek (..stojany na kola, nástroje) | D12: 30 | E12: 30 | F12: 5092 | G12: 30
A13: 2212 | B13: 5139 | C13: Nákup materiálu-spotřební materiál, náhradní díly, kusový nákup součástí dopravního značení (zrcadla, kužely, sloupky…) | D13: 100 | E13: 100 | F13: 15976 | G13: 100
A14: 2212 | B14: 5154 | C14: Elektrická energie - Napájení veřejného osvětlení v majetku MČ dle smlouvy s THMP do doby převodu na HMP | D14: 20 | E14: 20 | F14: 7102.97 | G14: 15
A15: 2212 | B15: 5156 | C15: Pohonné hmoty a maziva | D15: 12 | E15: 12 | F15: 4932.64 | G15: 12
A16: 2212 | B16: 5164 | C16: Nájemné (kupř. umístění výstražného zařízení na sloupech veř. osvětlení, nájem dopravního značení a j.) | D16: 11 | E16: 11 | F16: 0 | G16: 5
A17: 2212 | B17: 5169 | C17: Nákup ostatních služeb: zimní údržba komunikací vč. úklidu po zimní údržbě, strojní čištění | D17: 1500 | E17: 1500 | F17: =2323.2+302536+121033+56590+40940 -> 523422.2 | G17: 1100
A18: 2212 | B18: 5169 | C18: Nákup ostatních služeb: STK, projekty k opravám, výběrové řízení k opravám, autorský dozor k opravám a jiné dodávky prací (vyjádření k sítím, provizorní DZ k akcím,nové DZ, posudky a ostatní podklady ke stavu komunikací, projednávání..): | D18: 150 | E18: 150 | F18: =3630+5500+9559+14580.5+6171 -> 39440.5 | G18: 150
A19: 2212 | B19: 5169 | C19: Nákup ostatních služeb: Pořízení služeb k úklidu a drobné údržbě komunikací a přilehlých veřejných prostranství, odstraňování grafitti a následků vandalismu na majetku MČ a mobiliáři, šintování komunikací, podpora projektu Ukliďme Česko (2022 úklid a čištění komunikací, oblast: K Zel. domkům, Nad Akáty, K Verneráku, Betáň, umělecké ul., Na Lhotech, Volarská, Úhlavská, ZŠ Kunratice) | D19: 500 | E19: 500 | F19: =18912.3+2057+28846.4+76935.43+67534.94+84261.98+67902.78+68371.05+64461.54+84247.46+63832.34+81489.87+119487.5 -> 828340.59 | G19: 900
A20: 2212 | B20: 5169 | C20: Nákup ostatních služeb: Doprovodné úpravy značení na místních komunikacích, pořízení součástí dopravního příslušenství | D20: 200 | E20: 200 | F20: =8954+38432.02 -> 47386.02 | G20: 200
C21: 2023: Nákup ostatních služeb celkem rozpočet 2 350,0 tis. Kč, skutečnost 1 438 589,31 Kč
C22: 2024: Nákup ostatních služeb celkem rozpočet 2 350,0 tis. Kč
A23: 2212 | B23: 5171 | C23: Opravy a udržování: opravy výtluků | D23: 500 | E23: 500 | F23: =203726.19+227026.25 -> 430752.44 | G23: 500
C24: ostatní opravy komunikací | D24: 300 | E24: 300 | F24: =29645+(19239-17315)+181709.15+276538.46 -> 489816.61 | G24: 350
C25: ostatní opravy-techniky, výměna a opravy svislého dopravního značení a příslušenství, obnova vodorovného dopravního značení | D25: 200 | E25: 200 | F25: =31001.9+4417+28725.4+48248.75+101222.55+5178.8+49942.75 -> 268737.15 | G25: 200
C26: údržba dlažby chodníků, obruby | D26: 50 | E26: 50 | F26: =10769+3025 -> 13794 | G26: 50
C27: obnova chodníku od ul. Pod Javory po ul. K Betáni, oprava chodníku při ul. Za Parkem (obnova pěších cest a chodníků Vídeňská, Za parkem) | D27: 1000 | E27: =1000-166 -> 834 | F27: =712597.46+91273.78 -> 803871.24 | G27: 0
C28: 2023: Opravy a udržování celkem rozpočet 1 884,0 tis. Kč, skutečnost 2 006 971,44 Kč
C29: 2024: Opravy a udržování celkem rozpočet 1 100,0 tis. Kč
A30: 2212 | B30: 5365 | C30: Platby daní a poplatků krajům, obcím a st. fondům-správní poplatky | D30: 6 | E30: 6 | F30: 0 | G30: 0
C31: Stavby
A32: 2212 | B32: 6121 | C32: Plošné rekonstrukce komunikací Kunratice
C33: III. etapa Rekonstrukce dalších ulic - vlastní zdroje "umělecké ulice" | D33: 200 | E33: 200 | F33: =11495+101946.35+20115+31460 -> 165016.35 | G33: 0
C34: III. etapa Rekonstrukce dalších ulic - vlastní zdroje | D34: =302-27 -> 275 | E34: =302-27 -> 275 | F34: 0 | G34: 213
C35: III. etapa Rekonstrukce dalších ulic - ponechaná dotace HMP | D35: 0 | E35: 212.9 | F35: 0 | G35: 0
C36: IV. etapa - cyklotrasa A 213 pořízení projektové dokumentace-vlastní zdroje (r. 2023 žádost o ponechání dotace) | D36: 1035 | E36: =1035-1035 -> 0 | F36: 0 | G36: 1035
C37: IV. etapa - cyklotrasa A 213 Cyklotrasa Šeberov-Kunratický les-rekonstrukce, projektová dokumentace-ponechaná dotace HMP | D37: 0 | E37: 1035.1 | F37: 0 | G37: 0
A38: 2212 | B38: 6121 | C38: Ostatní investiční výdaje silnice
C39: akce Chodníkový program Kunratice 2019 -vlastní zdroje-doplatek pozastávky akce roku 2022 (Ještědská, Úhlavská.. | D39: 0 | E39: 166 | F39: =15730+111664.02+38402.98 -> 165797 | G39: 0
C40: Chodníkový program Kunratice-doplatek akce roku 2022 - ponechaná dotace HMP | D40: 0 | E40: 389.5 | F40: 389467.31 | G40: 0
C41: Záležitosti dopravní infrastruktury-Nový přechod pro chodce-dotace HMP-bude uhrazeno v prosinci 2023 | D41: 0 | E41: 980 | F41: 0 | G41: 0
C42: akce Chodníkový program Kunratice 2019 -vlastní zdroje-Nový chodník v ul. U Rakovky a v ul. Vídeňská | D42: 0 | E42: 1000 | F42: 796444.52 | G42: 0
A43: 2212 | C43: Silnice | D43: =SUM(D7:D42) -> 6393 | E43: =SUM(E7:E42) -> 8975.5 | F43: =SUM(F7:F42) -> 5234635.5 | G43: =SUM(G7:G42) -> 5164 | H43: =G43 -> 5164
A45: 2310 | B45: 5171 | C45: Opravy a udržování | D45: 50 | E45: 50 | F45: 0 | G45: 50
A46: 2310 | C46: Pitná voda | D46: =SUM(D45:D45) -> 50 | E46: =SUM(E45:E45) -> 50 | F46: =SUM(F45:F45) -> 0 | G46: =SUM(G45) -> 50 | H46: =G46 -> 50
A48: 2321 | B48: 5139 | C48: Nákup materiálu | D48: 2 | E48: 2 | F48: 0 | G48: 2
A49: 2321 | B49: 5169 | C49: Nákup ostatních služeb - čištění kanalizace | D49: 10 | E49: 10 | F49: 0 | G49: 10
A50: 2321 | B50: 5171 | C50: Opravy a udržování - opravy kanalizace | D50: 48 | E50: 48 | F50: 54203.16 | G50: 50
A51: 2321 | B51: 6121 | C51: Stavby-nová dešťová kanalizace ul. Lisztova | D51: 0 | E51: 470 | F51: 0 | G51: 470
A52: 2321 | C52: Odvádění a čištění odpadních vod | D52: =SUM(D48:D51) -> 60 | E52: =SUM(E48:E51) -> 530 | F52: =SUM(F48:F51) -> 54203.16 | G52: =SUM(G48:G51) -> 532 | H52: =G52 -> 532
A54: 2334 | B54: 5139 | C54: Nákup materiálu | D54: 5 | E54: 5 | F54: 0 | G54: 5
A55: 2334 | B55: 5154 | C55: Elektrická energie-napájení čerpadla ze studny | D55: 5 | E55: 5 | F55: 0 | G55: 0
A56: 2334 | B56: 5169 | C56: Nákup ostatních služeb | D56: 25 | E56: 25 | F56: 0 | G56: 25
A57: 2334 | B57: 5171 | C57: Opravy a udržování-běžné | D57: 15 | E57: 15 | F57: 0 | G57: 15
C58: Údržba vodního díla -rybník Ohrada (Kontrola stavu objektu rybníka Ohrada a odtokové části, čištění, opravy poškození po přívalovém dešti) | D58: 100 | E58: 100 | F58: 0 | G58: 100
A59: 2334 | B59: 6121 | C59: Stavby-vybudování studny při rybníku Ohrada k posílení přívodu vody do rybníka | D59: 200 | E59: =200-70-130 -> 0 | F59: 0 | G59: 0
A60: 2334 | C60: Revitalizace říčních systémů a vodních ploch - rybník Ohrada | D60: =SUM(D54:D59) -> 350 | E60: =SUM(E54:E59) -> 150 | F60: =SUM(F54:F59) -> 0 | G60: =SUM(G54:G59) -> 145 | H60: =G60 -> 145
A62: 3111 | C62: Mateřská škola
A63: 3111 | B63: 5194 | C63: Výdaje na věcné dary (dárky ke Dni učitelů) | D63: 8 | E63: 8 | F63: 4185 | G63: 8
A64: 3111 | B64: 5331 | C64: Neinvestiční příspěvky zřízeným příspěvkovým organizacím, příspěvek MČ | D64: 1768 | E64: 1768 | F64: 1473334 | G64: 1900
A65: 3111 | B65: 5336 | C65: Pomoc občanům Ukrajiny-stravné a školné dětí UA | D65: 0 | E65: 0 | F65: 0 | G65: 0
A66: 3111 | B66: 5336 | C66: Pomoc pražským domácnostem ohroženým inflací -realizace opatření pro pražské domácnosti-schválené stravné, školné, fond solidarity - ponechaná dotace HMP | D66: 0 | E66: =565.3-300 -> 265.3 | F66: 79631 | G66: 0
A67: 3111 | B67: 5336 | C67: Dotace Školství MČ HMP-neinv. výdaje oblasti školství (změněný účel části dotace na Pomoc domácnostem) | D67: 0 | E67: 300 | F67: 147333 | G67: 0
A68: 3111 | B68: 5336 | C68: Posílení mzdových prostředků zaměstnanců škol a školských zařízení vč. podpory pracovníků ve stravování -dotace HMP | D68: 0 | E68: 513.6 | F68: 513600 | G68: 0
A69: 3111 | B69: 5336 | C69: MŠ EU OP Jan Amos Komenský Šablony I podíl EU a MŠMT | D69: 0 | E69: 899.4 | F69: =209233.78+690116.22 -> 899350 | G69: 0
A70: 3111 | B70: 5901 | C70: Nespecifikované rezervy-Pomoc pražským domácnostem ohroženým inflací - vlastní zdroje | D70: 499 | E70: 499 | F70: 0 | G70: 165
C71: Stavby:
A72: 3111 | B72: 6121 | C72: 2023: Dokumentace na zateplení vnějšího pláště budovy MŠ, výměnu oken, kotlů (výstavbu FVE na střechu), realizace výměny kotlů - vlastní zdroje | D72: 5000 | E72: 5000 | F72: 0
A73: 3111 | B73: 6121 | C73: 2023: Rekonstrukce mateřské školy Kunratice-investiční dotace HMP | D73: 0 | E73: 10000 | F73: 3483103.6 | G73: 0
A74: 3111 | B74: 6121 | C74: 2024: Rekonstrukce mateřské školy Kunratice-výměna oken, zateplení budovy - vlastní zdroje (žádost o ponechání dotace HMP) | G74: 6517
A75: 3111 | C75: Mateřské školy | D75: =SUM(D63:D74) -> 7275 | E75: =SUM(E63:E74) -> 19253.3 | F75: =SUM(F63:F74) -> 6600536.6 | G75: =SUM(G63:G74) -> 8590 | H75: =G75 -> 8590
A77: 3113 | C77: Základní škola
A78: 3113 | B78: 5169 | C78: Nákup ostatních služeb | D78: 20 | E78: 20 | F78: 0 | G78: 0
A79: 3113 | B79: 5171 | C79: Opravy a udržování | D79: 10 | E79: 10 | F79: 0 | G79: 0
A80: 3113 | B80: 5171 | C80: Spolupráce v oblasti školství-dar na financování oprav v areálu školy-oprava oplocení a chodníku | D80: 0 | E80: 100 | F80: 100000 | G80: 0
A81: 3113 | B81: 5194 | C81: Výdaje na věcné dary - knihy pro prvňáčky (knihy pořízené v roce 2017, 300 ks, jsou spotřebovány, dárky ke Dni učitelů) | D81: 35 | E81: 35 | F81: 33455 | G81: 60
A82: 3113 | B82: 5331 | C82: Neinvestiční příspěvky zřízeným příspěvkovým organizacím: pravidelný roční příspěvek MČ | D82: 6260 | E82: 6260 | F82: 5216666 | G82: 6260
A83: 3113 | B83: 5336 | C83: ZŠ OP PPR Rozvoj demokrat. kultury na ZŠ Kunratice II, podíl HMP | D83: 0 | E83: 1159.1 | F83: 1159081.2 | G83: 0
A84: 3113 | B84: 5336 | C84: ZŠ OP PPR Rozvoj demokrat. kultury na ZŠ Kunratice II, podíl EU | D84: 0 | E84: 1159.1 | F84: 1159081.2 | G84: 0
A85: 3113 | B85: 5336 | C85: ZŠ OP PPR Modernizace odb. učeben neinvestiční podíl HMP | D85: 0 | E85: 200 | F85: 176918.41 | G85: 0
A86: 3113 | B86: 5336 | C86: ZŠ OP PPR Modernizace odb. učeben neinvestiční podíl EU | D86: 0 | E86: 250 | F86: 221148.02 | G86: 0
A87: 3113 | B87: 6356 | C87: ZŠ OP PPR Modernizace odb. učeben investiční podíl HMP | D87: 0 | E87: 240 | F87: 223081.59 | G87: 0
A88: 3113 | B88: 6356 | C88: ZŠ OP PPR Modernizace odb. učeben investiční podíl EU | D88: 0 | E88: 300 | F88: 278851.98 | G88: 0
A89: 3113 | B89: 5336 | C89: Pomoc občanům Ukrajiny-stravné žáků UA v ZŠ | D89: 0 | E89: 14.6 | F89: 14560 | G89: 0
A90: 3113 | B90: 5336 | C90: Pomoc pražským domácnostem ohroženým inflací -realizace opatření pro pražské domácnosti-schválené stravné, školné, fond solidarity -ponechaná dotace HMP | D90: 0 | E90: =1369.4-697.3 -> 672.1 | F90: 0 | G90: 0
A91: 3113 | B91: 5336 | C91: Dotace Školství MČ HMP-neinv. výdaje oblasti školství (změněný účel části dotace na Pomoc domácnostem) | D91: 0 | E91: 697.3 | F91: 521667 | G91: 0
A92: 3113 | B92: 5336 | C92: Posílení mzdových prostředků zaměstnanců škol a školských zařízení vč. podpory pracovníků ve stravování -dotace HMP | D92: 0 | E92: 1961.6 | F92: 1961600 | G92: 0
A93: 3113 | B93: 5336 | C93: Neinvestiční dotace HMP na projekt Otevírání hřišť pro veřejnost | D93: 0 | E93: 85 | F93: 85000 | G93: 0
A94: 3113 | B94: 5336 | C94: Neinvestiční dotace HMP na Zkvalitnění výuky tělesné výchovy | D94: 0 | E94: 235 | F94: 235000 | G94: 0
A95: 3113 | B95: 5901 | C95: Nespecifikované rezervy-Pomoc pražským domácnostem ohroženým inflací - vlastní zdroje | D95: 1110 | E95: 1110 | F95: 0 | G95: 550.6
A97: 3113 | B97: 6121 | C97: Stavby
A98: 3113 | B98: 6121 | C98: Výstavba tělocvičny ZŠ Kunratice:
C99: Vlastní zdroje - do doby schválení převodu dotace HMP | D99: 25000 | E99: =25000-24000 -> 1000 | F99: 0 | G99: =24831.8-320 -> 24511.8
C100: Ponechané prostředky dotace HMP z roku 2021 a 2022 | D100: 0 | E100: =10000+14831.8 -> 24831.8 | F100: 319440 | G100: 0
A101: 3113 | C101: Základní školy celkem vč. investic | D101: =SUM(D78:D100) -> 32435 | E101: =SUM(E78:E100) -> 40340.6 | F101: =SUM(F78:F100) -> 11705550 | G101: =SUM(G78:G100) -> 31382.4 | H101: =G101 -> 31382.4
A103: 3314 | B103: 5011 | C103: Platy zaměstnanců | D103: 510 | E103: 510 | F103: 424280 | G103: 510
A104: 3314 | B104: 5021 | C104: Ostatní osobní výdaje | D104: 30 | E104: 30 | F104: 10800 | G104: 30
A105: 3314 | B105: 5031 | C105: Povinné pojistné na sociální zabezpečení a politiku zaměstnanosti | D105: 127 | E105: 127 | F105: 105228 | G105: 127
A106: 3314 | B106: 5032 | C106: Povinné pojistné na zdravotní pojištění | D106: 47 | E106: 47 | F106: 38188 | G106: 47
A107: 3314 | B107: 5136 | C107: Knihy a obdobné listinné informační prostředky - vlastní zdroje | D107: 56 | E107: 56 | F107: 47075 | G107: 90
C108: - dotace HMP | D108: 0 | E108: 10.5 | F108: 6845.68 | G108: 0
...
