Workbook

Sheet Návrh 2024 příjmy 
A1: Městská část Praha KUNRATICE
A2: NÁVRH ROZPOČTU 2024 a Plnění příjmů a čerpání výdajů rozpočtu 2023
A3: Příloha 1
A5: Položka | B5: Paragraf | C5: Rozpočtové příjmy | D5: RS 2023 | E5: RU 2023 | F5: Skutečnost Kč | G5: Návrh 2024 | H5: Návrh 2024
C6: Název | D6: tis. Kč | E6: tis. Kč | F6: 16.11.2023 | G6: tis. Kč | H6: tis. Kč
C7: Daňové příjmy:
A8: 1341 | C8: Příjem z poplatků ze psů | D8: 185 | E8: 185 | F8: 178515 | G8: 185
A9: 1342 | C9: Příjem z poplatků z pobytu | D9: 400 | E9: 400 | F9: 829123.25 | G9: 400
A10: 1343 | C10: Příjem z poplatku za užívání veřejného prostranství | D10: 450 | E10: =450+3000 -> 3450 | F10: 3454260 | G10: 450
A11: 1344 | C11: Příjem z poplatku ze vstupného | D11: 20 | E11: 20 | F11: 0 | G11: 0
A12: 1361 | C12: Příjem ze správních poplatků | D12: 100 | E12: 100 | F12: 67640 | G12: 100
A13: 1511 | C13: Příjem z daně z nemovitých věcí | D13: 16000 | E13: 16000 | F13: 13723928 | G13: 16000
C14: Daňové příjmy celkem | D14: =SUM(D8:D13) -> 17155 | E14: =SUM(E8:E13) -> 20155 | F14: =SUM(F8:F13) -> 18253467 | G14: =SUM(G8:G13) -> 17135 | H14: =G14 -> 17135
C16: Nedaňové příjmy:
A17: 2111 | B17: 3314 | C17: Příjmy z poskytování služeb a výrobků, prací, výkonů a práv - knihovna | D17: 12 | E17: 12 | F17: 15300 | G17: 14
A18: 2111 | B18: 3319 | C18: Příjmy z poskytování služeb a výrobků, prací, výkonů a práv - kultura | D18: 0 | E18: 41.6 | F18: 41600 | G18: 0
A19: 2111 | B19: 3632 | C19: Příjmy z poskytování služeb a výrobků, prací, výkonů a práv -pohřebnictví | D19: 18 | E19: 18 | F19: 12200 | G19: 16
A20: 2111 | B20: 6171 | C20: Příjmy z poskytování služeb a výrobků, prací, výkonů a práv - místní správa-úhrada za poskytování informací dle zákona 106/1999 Sb. | D20: 2 | E20: 2 | F20: 0 | G20: 2
A21: 2112 | B21: 3319 | C21: Příjmy z prodeje zboží-kultura-kniha Kunratice v běhu času | D21: 2 | E21: 2 | F21: 1197 | G21: 1.8
A22: 2139 | B22: 3632 | C22: Ostatní příjmy z pronájmu majetku-pronájem hrobů | D22: 450 | E22: 450 | F22: 553255 | G22: 490
A23: 2141 | B23: 6310 | C23: Příjmy z úroků | D23: 700 | E23: 700 | F23: 4413082 | G23: 700
A24: 2212 | B24: 6171 | C24: Příjem sankčních plateb přijatých od jiných osob - smluvní pokuty a pokuty z přestupků | D24: 50 | E24: 50 | F24: 16000 | G24: 50
A25: 2229 | C25: Ostatní přijaté vratky transferů-vratky dotací k finančnímu vypořádání:
A26: 2229 | B26: 3111 | C26: MŠ vratka dotace OP PPR Odlišný mat. jazyk II | D26: 0 | E26: 0 | F26: =1816+1816 -> 3632 | G26: 0
A27: 2229 | B27: 3111 | C27: MŠ vratka dotace OP PPR Odlišný mat. jazyk III | D27: 0 | E27: 0 | F27: =15895.5+15895.5 -> 31791 | G27: 0
A28: 2229 | B28: 3111 | C28: MŠ vratka dotace OP PPR Šablony III | D28: 0 | E28: 21.5 | F28: 21495 | G28: 0
A29: 2229 | B29: 3113 | C29: ZŠ vratka dotace ZŠ Adaptační skupiny pro děti migrující z Ukrajiny | D29: 0 | E29: 60 | F29: 60000 | G29: 0
A30: 2229 | B30: 3113 | C30: ZŠ vratka dotace OP PPR od Základní školy-podíl EU a HMP (2x OMJ II á 79 713,0, 2x Dem. kultura á 43 016,4, 2x OMJ III á 43 967,50) | D30: 0 | E30: 333.4 | F30: =245458.8+(43967.5*2) -> 333393.8 | G30: 0
A31: 2229 | B31: 3319 | C31: vratka od Jihoměstská sociální, a.s.- za nevyčerpané příspěvky na plavání seniorů v r. 2022 | D31: 0 | E31: 9.2 | F31: 9245 | G31: 0
A33: 2321 | B33: 3745 | C33: Nadační příspěvek ČEZ na projekt Stromy pro Kunratice 2023 | D33: 0 | E33: 58.5 | F33: 58500 | G33: 0
A34: 2321 | B34: 3745 | C34: Finanční příspěvek Nadačního fondu CEMEX na účely rozvoje a úpravy zeleně v obci | D34: 0 | E34: 55 | F34: 55000 | G34: 0
A35: 2321 | B35: 3113 | C35: Spolupráce v oblasti školství-dar na financování oprav v areálu školy | D35: 0 | E35: 100 | F35: 100000 | G35: 0
A36: 2322 | B36: 6171 | C36: Příjem z pojistných plnění (poškozená inf. tabule lok. Flora+oprava v MŠ) | D36: 0 | E36: 14.2 | F36: =14163+37034+7468 -> 58665 | G36: 0
A37: 2322 | B37: 5512 | C37: Příjem z pojistných plnění (plnění za zásah hasičského z. sboru) | D37: 0 | E37: 13 | F37: 12977 | G37: 0
A38: 2324 | B38: 6171 | C38: Přijaté neinvestiční příspěvky a náhrady- přeplatky záloh, vypořádání záloh (Česká pošta aj.), náklady v přestupkovém řízení | D38: 160 | E38: 160 | F38: 190280.4 | G38: 160
C39: Nedaňové příjmy celkem | D39: =SUM(D17:D38) -> 1394 | E39: =SUM(E17:E38) -> 2100.4 | F39: =SUM(F17:F38) -> 5987613.2 | G39: =SUM(G17:G38) -> 1433.8 | H39: =G39 -> 1433.8
A41: 3121 | B41: 2212 | C41: Přijaté dary na pořízení dlouhodobého majetku-výstavba dopravní infrastruktury-Chodníkový program 2019-Nový chodník v ul. U Rakovky a v ul. Vídeňská | D41: 0 | E41: 1000 | F41: 1000000 | G41: 0
C42: Kapitálové příjmy celkem | D42: =SUM(D41) -> 0 | E42: =SUM(E41) -> 1000 | F42: =SUM(F41) -> 1000000 | G42: =SUM(G41) -> 0 | H42: =G42 -> 0
C44: Přijaté transfery:
A45: 4131 | B45: 6330 | C45: Převody z vlastních fondů podnikatelské činnosti-část nerozděleného zisku VHČ - posílení rozpočtu | D45: 15000 | E45: 15000 | F45: 0 | G45: 45000
...

Sheet Návrh 2024 výdaje
A1: Městská část Praha KUNRATICE
B2: NÁVRH ROZPOČTU 2024 a Plnění příjmů a čerpání výdajů 2023
A3: Příloha 1
A5: Paragraf | B5: Položka | C5: Rozpočtové výdaje | D5: RS 2023 | E5: RU 2023 | F5: Skutečnost Kč | G5: Návrh 2024 | H5: Návrh 2024
C6: Název | D6: tis. Kč | E6: tis. Kč | F6: 16.11.2023 | G6: tis. Kč | H6: tis. Kč
A7: 2212 | B7: 5021 | C7: Ostatní osobní výdaje | D7: 230 | E7: 230 | F7: 186036 | G7: 230
A8: 2212 | B8: 5031 | C8: Povinné pojistné na sociální zabezpečení a politiku zaměstnanosti | D8: 48 | E8: 48 | F8: 36089 | G8: 48
A9: 2212 | B9: 5032 | C9: Povinné pojistné na zdravotní pojištění | D9: 18 | E9: 18 | F9: 13879 | G9: 18
A10: 2212 | B10: 5132 | C10: Ochranné pomůcky-respirátory | D10: 3 | E10: 3 | F10: 0 | G10: 3
A11: 2212 | B11: 5134 | C11: Prádlo, oděv a obuv s výjimkou ochranných pomůcek | D11: 5 | E11: 5 | F11: 3242 | G11: 5
A12: 2212 | B12: 5137 | C12: Drobný hmotný dlouhodobý majetek (..stojany na kola, nástroje) | D12: 30 | E12: 30 | F12: 5092 | G12: 30
A13: 2212 | B13: 5139 | C13: Nákup materiálu-spotřební materiál, náhradní díly, kusový nákup součástí dopravního značení (zrcadla, kužely, sloupky…) | D13: 100 | E13: 100 | F13: 15976 | G13: 100
A14: 2212 | B14: 5154 | C14: Elektrická energie - Napájení veřejného osvětlení v majetku MČ dle smlouvy s THMP do doby převodu na HMP | D14: 20 | E14: 20 | F14: 7102.97 | G14: 15
A15: 2212 | B15: 5156 | C15: Pohonné hmoty a maziva | D15: 12 | E15: 12 | F15: 4932.64 | G15: 12
A16: 2212 | B16: 5164 | C16: Nájemné (kupř. umístění výstražného zařízení na sloupech veř. osvětlení, nájem dopravního značení a j.) | D16: 11 | E16: 11 | F16: 0 | G16: 5
A17: 2212 | B17: 5169 | C17: Nákup ostatních služeb: zimní údržba komunikací vč. úklidu po zimní údržbě, strojní čištění | D17: 1500 | E17: 1500 | F17: =2323.2+302536+121033+56590+40940 -> 523422.2 | G17: 1100
A18: 2212 | B18: 5169 | C18: Nákup ostatních služeb: STK, projekty k opravám, výběrové řízení k opravám, autorský dozor k opravám a jiné dodávky prací (vyjádření k sítím, provizorní DZ k akcím,nové DZ, posudky a ostatní podklady ke stavu komunikací, projednávání..): | D18: 150 | E18: 150 | F18: =3630+5500+9559+14580.5+6171 -> 39440.5 | G18: 150
A19: 2212 | B19: 5169 | C19: Nákup ostatních služeb: Pořízení služeb k úklidu a drobné údržbě komunikací a přilehlých veřejných prostranství, odstraňování grafitti a následků vandalismu na majetku MČ a mobiliáři, šintování komunikací, podpora projektu Ukliďme Česko (2022 úklid a čištění komunikací, oblast: K Zel. domkům, Nad Akáty, K Verneráku, Betáň, umělecké ul., Na Lhotech, Volarská, Úhlavská, ZŠ Kunratice) | D19: 500 | E19: 500 | F19: =18912.3+2057+28846.4+76935.43+67534.94+84261.98+67902.78+68371.05+64461.54+84247.46+63832.34+81489.87+119487.5 -> 828340.59 | G19: 900
A20: 2212 | B20: 5169 | C20: Nákup ostatních služeb: Doprovodné úpravy značení na místních komunikacích, pořízení součástí dopravního příslušenství | D20: 200 | E20: 200 | F20: =8954+38432.02 -> 47386.02 | G20: 200
C21: 2023: Nákup ostatních služeb celkem rozpočet 2 350,0 tis. Kč, skutečnost 1 438 589,31 Kč
C22: 2024: Nákup ostatních služeb celkem rozpočet 2 350,0 tis. Kč
A23: 2212 | B23: 5171 | C23: Opravy a udržování: opravy výtluků | D23: 500 | E23: 500 | F23: =203726.19+227026.25 -> 430752.44 | G23: 500
C24: ostatní opravy komunikací | D24: 300 | E24: 300 | F24: =29645+(19239-17315)+181709.15+276538.46 -> 489816.61 | G24: 350
C25: ostatní opravy-techniky, výměna a opravy svislého dopravního značení a příslušenství, obnova vodorovného dopravního značení | D25: 200 | E25: 200 | F25: =31001.9+4417+28725.4+48248.75+101222.55+5178.8+49942.75 -> 268737.15 | G25: 200
C26: údržba dlažby chodníků, obruby | D26: 50 | E26: 50 | F26: =10769+3025 -> 13794 | G26: 50
C27: obnova chodníku od ul. Pod Javory po ul. K Betáni, oprava chodníku při ul. Za Parkem (obnova pěších cest a chodníků Vídeňská, Za parkem) | D27: 1000 | E27: =1000-166 -> 834 | F27: =712597.46+91273.78 -> 803871.24 | G27: 0
C28: 2023: Opravy a udržování celkem rozpočet 1 884,0 tis. Kč, skutečnost 2 006 971,44 Kč
C29: 2024: Opravy a udržování celkem rozpočet 1 100,0 tis. Kč
A30: 2212 | B30: 5365 | C30: Platby daní a poplatků krajům, obcím a st. fondům-správní poplatky | D30: 6 | E30: 6 | F30: 0 | G30: 0
C31: Stavby
A32: 2212 | B32: 6121 | C32: Plošné rekonstrukce komunikací Kunratice
C33: III. etapa Rekonstrukce dalších ulic - vlastní zdroje "umělecké ulice" | D33: 200 | E33: 200 | F33: =11495+101946.35+20115+31460 -> 165016.35 | G33: 0
C34: III. etapa Rekonstrukce dalších ulic - vlastní zdroje | D34: =302-27 -> 275 | E34: =302-27 -> 275 | F34: 0 | G34: 213
C35: III. etapa Rekonstrukce dalších ulic - ponechaná dotace HMP | D35: 0 | E35: 212.9 | F35: 0 | G35: 0
C36: IV. etapa - cyklotrasa A 213 pořízení projektové dokumentace-vlastní zdroje (r. 2023 žádost o ponechání dotace) | D36: 1035 | E36: =1035-1035 -> 0 | F36: 0 | G36: 1035
C37: IV. etapa - cyklotrasa A 213 Cyklotrasa Šeberov-Kunratický les-rekonstrukce, projektová dokumentace-ponechaná dotace HMP | D37: 0 | E37: 1035.1 | F37: 0 | G37: 0
A38: 2212 | B38: 6121 | C38: Ostatní investiční výdaje silnice
C39: akce Chodníkový program Kunratice 2019 -vlastní zdroje-doplatek pozastávky akce roku 2022 (Ještědská, Úhlavská.. | D39: 0 | E39: 166 | F39: =15730+111664.02+38402.98 -> 165797 | G39: 0
C40: Chodníkový program Kunratice-doplatek akce roku 2022 - ponechaná dotace HMP | D40: 0 | E40: 389.5 | F40: 389467.31 | G40: 0
C41: Záležitosti dopravní infrastruktury-Nový přechod pro chodce-dotace HMP-bude uhrazeno v prosinci 2023 | D41: 0 | E41: 980 | F41: 0 | G41: 0
...
