Workbook

Sheet Rozpočet 2017 příjmy 
A1: Městská část Praha KUNRATICE
A2: NÁVRH ROZPOČTU ROKU 2017 a PLNĚNÍ PŘÍJMU A ČERPÁNÍ VÝDAJU 2016
F4: ``
D5: PLNĚNÍ PŘÍJMU 2016 | G5: NÁVRH PŘÍJMU 2017
A7: Položka | B7: Paragraf | C7: Rozpočtové příjmy | D7: RS | E7: RU | F7: Skutečnost vč. | G7: Návrh 2017 | H7: 2017 celkem
C8: Název | D8: tis. Kč | E8: tis. Kč | F8: predikce 12/2016 | G8: tis. Kč | H8: tis. Kč
C9: Daňové příjmy:
A10: 1341 | C10: Poplatek ze psů | D10: 220 | E10: 220 | F10: 178929.75 | G10: 200
A11: 1342 | C11: Poplatek za lázeňský nebo rekreační pobyt | D11: 110 | E11: 110 | F11: 146332.5 | G11: 150
A12: 1343 | C12: Poplatek za užívání veřejného prostranství | D12: 200 | E12: 200 | F12: 346110 | G12: 200
A13: 1345 | C13: Poplatek z ubytovací kapacity | D13: 40 | E13: 40 | F13: 2064 | G13: 20
A14: 1361 | C14: Správní poplatky | D14: 130 | E14: 130 | F14: 115790 | G14: 130
A15: 1511 | C15: Daň z nemovitých věcí | D15: 8000 | E15: 8000 | F15: 7020446 | G15: 8000
C16: Daňové příjmy celkem | D16: =SUM(D10:D15) -> 8700 | E16: =SUM(E10:E15) -> 8700 | F16: =SUM(F10:F15) -> 7809672.2 | G16: =SUM(G10:G15) -> 8700 | H16: =G16 -> 8700
C18: Nedaňové příjmy:
A19: 2111 | B19: 3314 | C19: Příjmy z poskytování služeb a výrobků - knihovna | D19: 10 | E19: 10 | F19: 8500 | G19: 10
A20: 2111 | B20: 3319 | C20: Příjmy z poskytování služeb a výrobků - záležitosti kultury | D20: 0 | E20: 0 | F20: 14400 | G20: 18
A21: 2111 | B21: 3632 | C21: Příjmy z poskytování služeb a výrobků - pohřebnictví | D21: 10 | E21: 10 | F21: 6850 | G21: 10
A22: 2111 | B22: 6112 | C22: Příjmy z poskytování služeb a výrobků - zastupitelstva obcí | D22: 37 | E22: 37 | F22: 0 | G22: 0
A23: 2111 | B23: 6171 | C23: Příjmy z poskytování služeb a výrobků - místní správa-úhrada za poskyt. informací dle 106/1999 Sb. | D23: 20 | E23: 20 | F23: 0 | G23: 5
A24: 2112 | B24: 3319 | C24: Příjmy z prodeje zboží-kultura-kniha Kunratice v běhu času | D24: 3 | E24: 3 | F24: 1794 | G24: 2
A25: 2141 | B25: 6310 | C25: Příjmy z úroků | D25: 38 | E25: 38 | F25: 5174.37 | G25: 6
A26: 2212 | B26: 6171 | C26: Sankční platby přijaté od jiných subjektů-pokuta přestupek | D26: 0 | E26: 0 | F26: 5500 | G26: 0
A27: 2324 | B27: 6112 | C27: Přijaté nekapitálové příspěvky a náhrady-vymožený úrok ve sporu FVE | D27: 0 | E27: 0 | F27: 36748.9 | G27: 0
A28: 2324 | B28: 6171 | C28: Přijaté nekapitálové příspěvky a náhrady vč.správních řízení | D28: 150 | E28: 150 | F28: 198905.16 | G28: 150
C29: Nedaňové příjmy celkem | D29: =SUM(D19:D28) -> 268 | E29: =SUM(E19:E28) -> 268 | F29: =SUM(F19:F28) -> 277872.43 | G29: =SUM(G19:G28) -> 201 | H29: =G29 -> 201
C31: Přijaté transfery:
A32: 4131 | B32: 6330 | C32: Převody z vlastních fondů hospodářské činnosti-nerozdělený zisk hospodářské činnosti předešlých let | D32: 0 | E32: 0 | F32: 0 | G32: =20000+4200+4500 -> 28700
A33: 4131 | B33: 6330 | C33: Převody z vlastních fondů hospodářské činnosti (převod na ZBÚ pro fond DCHB) | D33: 0 | E33: 1300 | F33: 1300000 | G33: 0
A34: 4133 | B34: 6330 | C34: Převody z vlastních rezervních fondů-z fondu Domu s chrán. byty | D34: 600 | E34: 600 | F34: 112319.1 | G34: 580
A35: 4134 | B35: 6330 | C35: Převody z rozpočtových účtů:
C36: Posílení rozpočtu soc. fondu-příjem soc. fondu | D36: 242 | E36: 242 | F36: 163656 | G36: 225
C37: Převod do fondu Domu s chráněnými byty | D37: 0 | E37: 1300 | F37: 1300000 | G37: 0
A38: 4139 | B38: 6330 | C38: Převody z vlastních fondů-ze soc. fondu | D38: 322 | E38: 322 | F38: 219593 | G38: 326
A39: 4137 | B39: 6330 | C39: Převody mezi statutátními městy a jejich MČ-transfer ze státního rozpočtu -souhrnný dotační vztah | D39: 231 | E39: 231 | F39: 231000 | G39: 249
A40: 4137 | B40: 6330 | C40: Převody mezi statutátními městy a jejich MČ-transfer z HMP -souhrnný dotační vztah | D40: 31084 | E40: 31084 | F40: 31084000 | G40: 34999
C41: Převody mezi statutátními městy a jejich MČ-transfer z HMP- neinvestiční dotace:
A42: 4137 | B42: 6330 | C42: pro knihovnu | D42: 0 | E42: 13 | F42: 13000 | G42: 0
A43: 4137 | B43: 6330 | C43: příjem odvodu z výh. automatů aj. her na sport a kulturu, školství, zdravotnictví, sociální oblast | D43: 0 | E43: =778+1420 -> 2198 | F43: 2198000 | G43: 0
A44: 4137 | B44: 6330 | C44: pro Základní školu, program primární prevence | D44: 0 | E44: 44 | F44: 44000 | G44: 0
...

Sheet Rozpočet 2017 výdaje 
A1: Městská část Praha KUNRATICE
A2: NÁVRH ROZPOČTU ROKU 2017 a PLNĚNÍ PŘÍJMU A ČERPÁNÍ VÝDAJU 2016
D4: ČERPÁNÍ VÝDAJU 2016 | G4: NÁVRH VÝDAJU 2017
A6: Paragraf | B6: Položka | C6: Rozpočtové výdaje | D6: RS | E6: RU | F6: Skutečnost vč. | G6: Návrh 2017 | H6: 2017 celkem
C7: Název | D7: tis. Kč | E7: tis. Kč | F7: predikce 12/2016 | G7: tis. Kč | H7: tis. Kč
A8: 2212 | B8: 5137 | C8: Drobný hmotný dlouhodobý majetek | D8: 10 | E8: 10 | F8: 0 | G8: 10
A9: 2212 | B9: 5139 | C9: Nákup materiálu | D9: 10 | E9: 10 | F9: 4579 | G9: 10
A10: 2212 | B10: 5156 | C10: Pohonné hmoty a maziva | D10: 7 | E10: 7 | F10: 2826.27 | G10: 7
A11: 2212 | B11: 5169 | C11: Nákup ostatních služeb: zimní údržba vč. úklidu po zimní údržbě | D11: 1000 | E11: 1000 | F11: 1000000 | G11: 1000
A12: 2212 | B12: 5169 | C12: Nákup ostatních služeb: STK, projekty k opravám, výběrové řízení k opravám, autorský dozor k opravám a jiné dodávky prací (vyjádření k sítím, provizorní DZ k akcím,nové DZ,dopravní zrcadla, posudky a ostatní podklady ke stavu komunikací, projednávání..): | D12: 550 | E12: 550 | F12: 330110.15 | G12: 550
C13: 2016 Nákup ostatních služeb celkem: rozpočet 1 550,00 tis., skutečnost 1 126 062,15 Kč
C14: 2017 Nákup ostatních služeb celkem: rozpočet 1 550,00 tis.
A15: 2212 | B15: 5171 | C15: Opravy a udržování:vysoutěžené opravy výtluků | D15: 1300 | E15: 1300 | F15: 1301460.3 | G15: 700
C16: ostatní opravy komunikací | D16: 300 | E16: 300 | F16: 176695.5 | G16: 300
C17: ostatní opravy-techniky, výměna a opravy DZ, | D17: 170 | E17: 170 | F17: 69480 | G17: 170
C18: 2016 Opravy a udržování celkem: rozpočet 1 770,00 tis., skutečnost 1 547 635,82 Kč
C19: 2017 Opravy a udržování celkem: rozpočet 1 170,00 tis.
A20: 2212 | B20: 5365 | C20: Platby daní a poplatků krajům, obcím (správní poplatek Praze 4) | D20: 0 | E20: 0 | F20: 242 | G20: 0 | I20: =SUM(G8:G22) -> 2747
A21: 2212 | B21: 5424 | C21: Náhrady mezd v době nemoci | D21: 10 | E21: 10 | F21: 0 | G21: 0
A22: 2212 | B22: 5499 | C22: Ostatní neinvestiční transfery obyvatelstvu | D22: 0 | E22: 0 | F22: 300 | G22: 0
A23: 2212 | B23: 6121 | C23: Budovy, haly, stavby-dokumentace plošné opravy komunikací | D23: 0 | E23: 2470.7 | F23: 0 | G23: 2200
C24: Budovy, haly, stavby-plošné opravy komunikací | D24: 0 | E24: 0 | F24: 0 | G24: 36400
A25: 2212 | B25: 6122 | C25: Stroje, přístroje, zařízení-světeln výstražný panel k přechodu pro chodce | D25: 0 | E25: 0 | F25: 0 | G25: 62 | I25: =SUM(G23:G25) -> 38662
A26: 2212 | C26: Silnice | D26: =SUM(D8:D25) -> 3357 | E26: =SUM(E8:E25) -> 5827.7 | F26: =SUM(F8:F25) -> 2885693.2 | G26: =SUM(G8:G25) -> 41409 | H26: =G26 -> 41409
A28: 2310 | B28: 5171 | C28: Opravy a udržování | D28: 50 | E28: 50 | F28: 0 | G28: 50
A29: 2310 | C29: Pitná voda | D29: =SUM(D28:D28) -> 50 | E29: =SUM(E28:E28) -> 50 | F29: =SUM(F28:F28) -> 0 | G29: =SUM(G28) -> 50 | H29: =G29 -> 50
A31: 2321 | B31: 5139 | C31: Nákup materiálu | D31: 10 | E31: 10 | F31: 0 | G31: 10
A32: 2321 | B32: 5169 | C32: Nákup ostatních služeb (projekty, vyjádření k sítím..) | D32: 5 | E32: 5 | F32: 165 | G32: 5
A33: 2321 | B33: 5169 | C33: Nákup ostatních služeb - pasporty meliorační sítě v lokalitě U Rakovky | D33: 150 | E33: 150 | F33: 0 | G33: 120
A34: 2321 | B34: 5169 | C34: Nákup ostatních služeb- oprava melioračního kanálu v ul. K Libuši vlastní zdroje-dar | D34: 0 | E34: 55.7 | F34: 55660 | G34: 0
A35: 2321 | B35: 5171 | C35: Opravy a udržování - opravy kanalizačních vpustí | D35: 70 | E35: 70 | F35: 0 | G35: 70
A36: 2321 | B36: 5171 | C36: Opravy a udržování-samostatné vedení vody ze studny do rybníka Ohrada-vlastní zdroje MČ | D36: 20 | E36: 20 | F36: 0 | G36: 0
A37: 2321 | B37: 5171 | C37: Opravy a udržování- oprava melioračního kanálu v ul. K Libuši vlastní zdroje | D37: 1415 | E37: 305 | F37: 0 | G37: 0
A38: 2321 | B38: 5171 | C38: Opravy a udržování- oprava melioračního kanálu v ul. K Libuši vlastní zdroje-dar | D38: 1400 | E38: 632.8 | F38: 632837.9 | G38: 0
C39: 2016 Oprava melioračního kanálu v ul. K Libuši neinvestiční část celkem rozpočet 688,5 tis., skutečnost 688 497,9 Kč
A40: 2321 | B40: 5365 | C40: Platby daní a poplatků krajům, obcím..(správní poplatek TSK) | D40: 0 | E40: 0 | F40: 61 | G40: 0
A41: 2321 | B41: 6121 | C41: Budovy, haly, stavby-rekonstrukce kanálu v ul. K Libuši-vlastní zdroje | D41: 0 | E41: 100 | F41: 16203.6 | G41: 0
A42: 2321 | B42: 6121 | C42: Budovy, haly, stavby-rekonstrukce kanálu v ul. K Libuši-vlastní zdroje-dar | D42: 0 | E42: 711.5 | F42: 711500 | G42: 0
A43: 2321 | B43: 6121 | C43: Budovy, haly, stavby-rekonstrukce kanálu v ul. K Libuši-dotace HMP | D43: 0 | E43: 2600 | F43: 2600000 | G43: 0
C44: 2016 Oprava melioračního kanálu v ul. K Libuši investiční část celkem rozpočet 3411,5 tis., skutečnost 3 327 705,7 Kč
...
