Workbook

Sheet Rozpočet 2017 příjmy 
A1: Městská část Praha KUNRATICE
A2: NÁVRH ROZPOČTU ROKU 2017 a PLNĚNÍ PŘÍJMU A ČERPÁNÍ VÝDAJU 2016
F4: ``
D5: PLNĚNÍ PŘÍJMU 2016 | G5: NÁVRH PŘÍJMU 2017
A7: Položka | B7: Paragraf | C7: Rozpočtové příjmy | D7: RS | E7: RU | F7: Skutečnost vč. | G7: Návrh 2017 | H7: 2017 celkem
C8: Název | D8: tis. Kč | E8: tis. Kč | F8: predikce 12/2016 | G8: tis. Kč | H8: tis. Kč
C9: Daňové příjmy:
A10: 1341 | C10: Poplatek ze psů | D10: 220 | E10: 220 | F10: 178929.75 | G10: 200
A11: 1342 | C11: Poplatek za lázeňský nebo rekreační pobyt | D11: 110 | E11: 110 | F11: 146332.5 | G11: 150
A12: 1343 | C12: Poplatek za užívání veřejného prostranství | D12: 200 | E12: 200 | F12: 346110 | G12: 200
A13: 1345 | C13: Poplatek z ubytovací kapacity | D13: 40 | E13: 40 | F13: 2064 | G13: 20
A14: 1361 | C14: Správní poplatky | D14: 130 | E14: 130 | F14: 115790 | G14: 130
A15: 1511 | C15: Daň z nemovitých věcí | D15: 8000 | E15: 8000 | F15: 7020446 | G15: 8000
C16: Daňové příjmy celkem | D16: =SUM(D10:D15) -> 8700 | E16: =SUM(E10:E15) -> 8700 | F16: =SUM(F10:F15) -> 7809672.2 | G16: =SUM(G10:G15) -> 8700 | H16: =G16 -> 8700
C18: Nedaňové příjmy:
A19: 2111 | B19: 3314 | C19: Příjmy z poskytování služeb a výrobků - knihovna | D19: 10 | E19: 10 | F19: 8500 | G19: 10
A20: 2111 | B20: 3319 | C20: Příjmy z poskytování služeb a výrobků - záležitosti kultury | D20: 0 | E20: 0 | F20: 14400 | G20: 18
A21: 2111 | B21: 3632 | C21: Příjmy z poskytování služeb a výrobků - pohřebnictví | D21: 10 | E21: 10 | F21: 6850 | G21: 10
A22: 2111 | B22: 6112 | C22: Příjmy z poskytování služeb a výrobků - zastupitelstva obcí | D22: 37 | E22: 37 | F22: 0 | G22: 0
A23: 2111 | B23: 6171 | C23: Příjmy z poskytování služeb a výrobků - místní správa-úhrada za poskyt. informací dle 106/1999 Sb. | D23: 20 | E23: 20 | F23: 0 | G23: 5
A24: 2112 | B24: 3319 | C24: Příjmy z prodeje zboží-kultura-kniha Kunratice v běhu času | D24: 3 | E24: 3 | F24: 1794 | G24: 2
A25: 2141 | B25: 6310 | C25: Příjmy z úroků | D25: 38 | E25: 38 | F25: 5174.37 | G25: 6
A26: 2212 | B26: 6171 | C26: Sankční platby přijaté od jiných subjektů-pokuta přestupek | D26: 0 | E26: 0 | F26: 5500 | G26: 0
A27: 2324 | B27: 6112 | C27: Přijaté nekapitálové příspěvky a náhrady-vymožený úrok ve sporu FVE | D27: 0 | E27: 0 | F27: 36748.9 | G27: 0
A28: 2324 | B28: 6171 | C28: Přijaté nekapitálové příspěvky a náhrady vč.správních řízení | D28: 150 | E28: 150 | F28: 198905.16 | G28: 150
C29: Nedaňové příjmy celkem | D29: =SUM(D19:D28) -> 268 | E29: =SUM(E19:E28) -> 268 | F29: =SUM(F19:F28) -> 277872.43 | G29: =SUM(G19:G28) -> 201 | H29: =G29 -> 201
C31: Přijaté transfery:
A32: 4131 | B32: 6330 | C32: Převody z vlastních fondů hospodářské činnosti-nerozdělený zisk hospodářské činnosti předešlých let | D32: 0 | E32: 0 | F32: 0 | G32: =20000+4200+4500 -> 28700
A33: 4131 | B33: 6330 | C33: Převody z vlastních fondů hospodářské činnosti (převod na ZBÚ pro fond DCHB) | D33: 0 | E33: 1300 | F33: 1300000 | G33: 0
A34: 4133 | B34: 6330 | C34: Převody z vlastních rezervních fondů-z fondu Domu s chrán. byty | D34: 600 | E34: 600 | F34: 112319.1 | G34: 580
A35: 4134 | B35: 6330 | C35: Převody z rozpočtových účtů:
C36: Posílení rozpočtu soc. fondu-příjem soc. fondu | D36: 242 | E36: 242 | F36: 163656 | G36: 225
C37: Převod do fondu Domu s chráněnými byty | D37: 0 | E37: 1300 | F37: 1300000 | G37: 0
A38: 4139 | B38: 6330 | C38: Převody z vlastních fondů-ze soc. fondu | D38: 322 | E38: 322 | F38: 219593 | G38: 326
A39: 4137 | B39: 6330 | C39: Převody mezi statutátními městy a jejich MČ-transfer ze státního rozpočtu -souhrnný dotační vztah | D39: 231 | E39: 231 | F39: 231000 | G39: 249
A40: 4137 | B40: 6330 | C40: Převody mezi statutátními městy a jejich MČ-transfer z HMP -souhrnný dotační vztah | D40: 31084 | E40: 31084 | F40: 31084000 | G40: 34999
C41: Převody mezi statutátními městy a jejich MČ-transfer z HMP- neinvestiční dotace:
A42: 4137 | B42: 6330 | C42: pro knihovnu | D42: 0 | E42: 13 | F42: 13000 | G42: 0
A43: 4137 | B43: 6330 | C43: příjem odvodu z výh. automatů aj. her na sport a kulturu, školství, zdravotnictví, sociální oblast | D43: 0 | E43: =778+1420 -> 2198 | F43: 2198000 | G43: 0
A44: 4137 | B44: 6330 | C44: pro Základní školu, program primární prevence | D44: 0 | E44: 44 | F44: 44000 | G44: 0
A45: 4137 | B45: 6330 | C45: pro Základní školu, asistenti pedagoga 1.-8/2016 a 9-12/2016 | D45: 0 | E45: =357.7+43.8 -> 401.5 | F45: 401500 | G45: 0
A46: 4137 | B46: 6330 | C46: mapování přístupnosti objektů sloužících veřejnosti | D46: 0 | E46: 37 | F46: 37000 | G46: 0
A47: 4137 | B47: 6330 | C47: pro JSDH na provoz a opravy techniky | D47: 0 | E47: 370 | F47: 370000 | G47: 0
A48: 4137 | B48: 6330 | C48: posílení mzdových prostředků pracovníků školství ZŠ, MŠ | D48: 0 | E48: =499.4+20.3 -> 519.7 | F48: 519700 | G48: 0
A49: 4137 | B49: 6330 | C49: Agenda 21-projekt zaměřený na zdraví-Babí léto v pohybu | D49: 0 | E49: 60 | F49: 60000 | G49: 0
A50: 4137 | B50: 6330 | C50: vrácený podíl na dani z příjmu za rok 2015 | D50: 0 | E50: 1460.7 | F50: 1460695 | G50: 0
A51: 4137 | B51: 6330 | C51: transfer z HMP (Ministerstvo pro místní rozvoj)- náhrada nákladů na sociální pohřby | D51: 0 | E51: 9.4 | F51: 9434.7 | G51: 0
A52: 4137 | B52: 6330 | C52: neinvestiční dotace ZŠ-Operační program Praha-pól růstu (HMP+EU) | D52: 0 | E52: 1389 | F52: 1389000 | G52: 0
A53: 4137 | B53: 6330 | C53: neinvestiční dotace HMP- spolufinancování k dotaci MŠMT-ZŠ Kunratice-rozšíření kapacity-Přístavba a nástavba učeben v objektu ZŠ Kunratice -vybavení tříd | D53: 0 | E53: 180 | F53: 180000
A54: 4137 | B54: 6330 | C54: neinvestiční dotace MŠMT- ZŠ Kunratice-rozšíření kapacity-Přístavba a nástavba učeben v objektu ZŠ Kunratice-vybavení tříd | D54: 0 | E54: 1020 | F54: 0
C55: Převody mezi statutátními městy a jejich MČ-transfer z HMP- investiční dotace:
A56: 4137 | B56: 6330 | C56: investiční dotace na ZŠ Kunratice-rozšíření kapacity III. etapa-přístavba tříd 16 500,0 tis.-změna účelu na 2 akce v ZŠ | D56: 0 | E56: =16500-16500 -> 0 | F56: 0 | G56: 0
A57: 4137 | B57: 6330 | C57: investiční dotace na ZŠ Kunratice-rozšíření školní jídelny | D57: 0 | E57: 5700 | F57: 5700000 | G57: 0
A58: 4137 | B58: 6330 | C58: investiční dotace na Rekonstrukce ZŠ Kunratice stará budova-zateplení, výměna oken a kotlů | D58: 0 | E58: 10800 | F58: 10800000 | G58: 0
A59: 4137 | B59: 6330 | C59: investiční dotace-Rekonstrukce hasičské zbrojnice, dostavba HZ-stav. úpravy podkroví a stávajícího objektu hasičské zbrojnice | D59: 0 | E59: 250 | F59: 250000 | G59: 0
A60: 4137 | B60: 6330 | C60: investiční dotace Dokončení revitalizace Zelené cesty | D60: 0 | E60: 1500 | F60: 1500000 | G60: 0
A61: 4137 | B61: 6330 | C61: investiční dotace Rekonstrukce kanálu ulice K Libuši | D61: 0 | E61: 2600 | F61: 2600000 | G61: 0
A62: 4137 | B62: 6330 | C62: investiční dotace HMP- spolufinancování k dotaci MŠMT-ZŠ Kunratice-rozšíření kapacity-Přístavba a nástavba učeben v objektu ZŠ Kunratice 180 000,0 Kč | D62: 0 | E62: 2423.8 | F62: 2423878 | G62: 0
A63: 4137 | B63: 6330 | C63: investiční dotace MŠMT-ZŠ Kunratice-rozšíření kapacity-Přístavba a nástavba učeben v objektu ZŠ Kunratice | D63: 0 | E63: 13735.3 | F63: 4459074 | G63: 0
C64: Přijaté transfery celkem | D64: =SUM(D32:D63) -> 32479 | E64: =SUM(E32:E63) -> 79790.4 | F64: =SUM(F32:F63) -> 68825850 | G64: =SUM(G32:G63) -> 65079 | H64: =G64 -> 65079
C66: PŘÍJMY CELKEM vč. převodů z vlastních fondů a mezi HMP a MČ -dotační vztah | D66: =D16+D29+D64 -> 41447 | E66: =E16+E29+E64 -> 88758.4 | F66: =F16+F29+F64 -> 76913394 | G66: =G16+G29+G64 -> 73980 | H66: =SUM(H9:H64) -> 73980
C68: Konsolidace příjmů:
A69: 4133 | B69: 6330 | C69: Převody z vlastních rezervních fondů-z fondu Domu s chrán. byty | D69: =D34 -> 600 | E69: =E34 -> 600 | F69: =F34 -> 112319.1 | G69: =G34 -> 580
A70: 4134 | B70: 6330 | C70: Převody z rozpočtových účtů:
C71: Posílení rozpočtu soc. fondu-příjem soc. fondu | D71: =D36 -> 242 | E71: =E36 -> 242 | F71: =F36 -> 163656 | G71: =G36 -> 225
C72: Převod do fondu Domu s chráněnými byty | D72: =D37 -> 0 | E72: =E37 -> 1300 | F72: =F37 -> 1300000 | G72: =G37 -> 0
A73: 4139 | B73: 6330 | C73: Převody z vlastních fondů-ze soc. fondu | D73: =D38 -> 322 | E73: =E38 -> 322 | F73: 218593 | G73: =G38 -> 326
A74: 4137 | B74: 6330 | C74: Převody mezi statutátními městy a jejich MČ-transfer ze SR a HMP dotační vztah | D74: =SUM(D39:D63) -> 31315 | E74: =SUM(E39:E63) -> 76026.4 | F74: =SUM(F39:F63) -> 65730282 | G74: =SUM(G39:G61) -> 35248
C75: Převody z vlastních fondů a mezi HMP a MČ- konsolidace příjmů celkem | D75: =SUM(D69:D74) -> 32479 | E75: =SUM(E69:E74) -> 78490.4 | F75: =SUM(F69:F74) -> 67524850 | G75: =SUM(G69:G74) -> 36379 | H75: =G75 -> 36379
C77: PŘÍJMY po konsolidaci-bez převodů z vlastních fondů a mezi HMP a MČ) | D77: =D66-D75 -> 8968 | E77: =E66-E75 -> 10268 | F77: =F66-F75 -> 9388544.6 | G77: =G66-G75 -> 37601 | H77: =G77 -> 37601
C79: PŘÍJMY z dotačního vztahu (pol. 4137 par. 6330) | D79: =D74 -> 31315 | E79: =E74 -> 76026.4 | F79: =F74 -> 65730282 | G79: =G74 -> 35248 | H79: =G79 -> 35248
C81: OBJEM PŘÍJMU - ZDROJE celkem | D81: =SUM(D77:D79) -> 40283 | E81: =SUM(E77:E79) -> 86294.4 | F81: =SUM(F77:F79) -> 75118826 | G81: =SUM(G77:G79) -> 72849 | H81: =SUM(H77:H79) -> 72849
A84: Návrh rozpočtu MČ Praha Kunratice na rok 2017 zahrnuje vysoký podíl investičních výdajů zejména na komunikace a dokončení rekonstrukce objektů. Rozdíl mezi příjmy a výdaji je vyrovnán úsporami prostředků z hospodaření minulých let 25 167,0 tis. Kč. Do rozpočtu je zapojeno 580,00 tis. Kč z fondu Domu s chráněnými byty, který je vytvářen z hospodářského výsledku hospodářské činnosti MČ pro potřebu oprav objektu a akcí pro nájemníky a nedočerpaný podíl 399,00 tis. Kč odvodu z provozu výherních hracích automatů a jiných her, který je určen na podporu sportu. Je zažádáno o několik dotací. MČ nemá uzavřenu žádnou úvěrovou smlouvu ani do budoucna o úvěru neuvažuje.
C94: Vyvěšeno na úřední desku dne 22. listopadu 2016
C95: Návrh bude projednán Zastupitelstvem MČ Praha Kunratice dne 7. prosince 2016
C96: Návrh je zveřejněn na elektronické úřední desce www. praha-kunratice.cz dne 22. listopadu 2016
C98: Ing. Lenka Alinčová, starostka MČ Praha Kunratice

Sheet Rozpočet 2017 výdaje 
A1: Městská část Praha KUNRATICE
A2: NÁVRH ROZPOČTU ROKU 2017 a PLNĚNÍ PŘÍJMU A ČERPÁNÍ VÝDAJU 2016
D4: ČERPÁNÍ VÝDAJU 2016 | G4: NÁVRH VÝDAJU 2017
A6: Paragraf | B6: Položka | C6: Rozpočtové výdaje | D6: RS | E6: RU | F6: Skutečnost vč. | G6: Návrh 2017 | H6: 2017 celkem
C7: Název | D7: tis. Kč | E7: tis. Kč | F7: predikce 12/2016 | G7: tis. Kč | H7: tis. Kč
A8: 2212 | B8: 5137 | C8: Drobný hmotný dlouhodobý majetek | D8: 10 | E8: 10 | F8: 0 | G8: 10
A9: 2212 | B9: 5139 | C9: Nákup materiálu | D9: 10 | E9: 10 | F9: 4579 | G9: 10
A10: 2212 | B10: 5156 | C10: Pohonné hmoty a maziva | D10: 7 | E10: 7 | F10: 2826.27 | G10: 7
A11: 2212 | B11: 5169 | C11: Nákup ostatních služeb: zimní údržba vč. úklidu po zimní údržbě | D11: 1000 | E11: 1000 | F11: 1000000 | G11: 1000
A12: 2212 | B12: 5169 | C12: Nákup ostatních služeb: STK, projekty k opravám, výběrové řízení k opravám, autorský dozor k opravám a jiné dodávky prací (vyjádření k sítím, provizorní DZ k akcím,nové DZ,dopravní zrcadla, posudky a ostatní podklady ke stavu komunikací, projednávání..): | D12: 550 | E12: 550 | F12: 330110.15 | G12: 550
C13: 2016 Nákup ostatních služeb celkem: rozpočet 1 550,00 tis., skutečnost 1 126 062,15 Kč
C14: 2017 Nákup ostatních služeb celkem: rozpočet 1 550,00 tis.
A15: 2212 | B15: 5171 | C15: Opravy a udržování:vysoutěžené opravy výtluků | D15: 1300 | E15: 1300 | F15: 1301460.3 | G15: 700
C16: ostatní opravy komunikací | D16: 300 | E16: 300 | F16: 176695.5 | G16: 300
C17: ostatní opravy-techniky, výměna a opravy DZ, | D17: 170 | E17: 170 | F17: 69480 | G17: 170
C18: 2016 Opravy a udržování celkem: rozpočet 1 770,00 tis., skutečnost 1 547 635,82 Kč
C19: 2017 Opravy a udržování celkem: rozpočet 1 170,00 tis.
A20: 2212 | B20: 5365 | C20: Platby daní a poplatků krajům, obcím (správní poplatek Praze 4) | D20: 0 | E20: 0 | F20: 242 | G20: 0 | I20: =SUM(G8:G22) -> 2747
A21: 2212 | B21: 5424 | C21: Náhrady mezd v době nemoci | D21: 10 | E21: 10 | F21: 0 | G21: 0
A22: 2212 | B22: 5499 | C22: Ostatní neinvestiční transfery obyvatelstvu | D22: 0 | E22: 0 | F22: 300 | G22: 0
A23: 2212 | B23: 6121 | C23: Budovy, haly, stavby-dokumentace plošné opravy komunikací | D23: 0 | E23: 2470.7 | F23: 0 | G23: 2200
C24: Budovy, haly, stavby-plošné opravy komunikací | D24: 0 | E24: 0 | F24: 0 | G24: 36400
A25: 2212 | B25: 6122 | C25: Stroje, přístroje, zařízení-světeln výstražný panel k přechodu pro chodce | D25: 0 | E25: 0 | F25: 0 | G25: 62 | I25: =SUM(G23:G25) -> 38662
A26: 2212 | C26: Silnice | D26: =SUM(D8:D25) -> 3357 | E26: =SUM(E8:E25) -> 5827.7 | F26: =SUM(F8:F25) -> 2885693.2 | G26: =SUM(G8:G25) -> 41409 | H26: =G26 -> 41409
A28: 2310 | B28: 5171 | C28: Opravy a udržování | D28: 50 | E28: 50 | F28: 0 | G28: 50
A29: 2310 | C29: Pitná voda | D29: =SUM(D28:D28) -> 50 | E29: =SUM(E28:E28) -> 50 | F29: =SUM(F28:F28) -> 0 | G29: =SUM(G28) -> 50 | H29: =G29 -> 50
A31: 2321 | B31: 5139 | C31: Nákup materiálu | D31: 10 | E31: 10 | F31: 0 | G31: 10
A32: 2321 | B32: 5169 | C32: Nákup ostatních služeb (projekty, vyjádření k sítím..) | D32: 5 | E32: 5 | F32: 165 | G32: 5
A33: 2321 | B33: 5169 | C33: Nákup ostatních služeb - pasporty meliorační sítě v lokalitě U Rakovky | D33: 150 | E33: 150 | F33: 0 | G33: 120
A34: 2321 | B34: 5169 | C34: Nákup ostatních služeb- oprava melioračního kanálu v ul. K Libuši vlastní zdroje-dar | D34: 0 | E34: 55.7 | F34: 55660 | G34: 0
A35: 2321 | B35: 5171 | C35: Opravy a udržování - opravy kanalizačních vpustí | D35: 70 | E35: 70 | F35: 0 | G35: 70
A36: 2321 | B36: 5171 | C36: Opravy a udržování-samostatné vedení vody ze studny do rybníka Ohrada-vlastní zdroje MČ | D36: 20 | E36: 20 | F36: 0 | G36: 0
A37: 2321 | B37: 5171 | C37: Opravy a udržování- oprava melioračního kanálu v ul. K Libuši vlastní zdroje | D37: 1415 | E37: 305 | F37: 0 | G37: 0
A38: 2321 | B38: 5171 | C38: Opravy a udržování- oprava melioračního kanálu v ul. K Libuši vlastní zdroje-dar | D38: 1400 | E38: 632.8 | F38: 632837.9 | G38: 0
C39: 2016 Oprava melioračního kanálu v ul. K Libuši neinvestiční část celkem rozpočet 688,5 tis., skutečnost 688 497,9 Kč
A40: 2321 | B40: 5365 | C40: Platby daní a poplatků krajům, obcím..(správní poplatek TSK) | D40: 0 | E40: 0 | F40: 61 | G40: 0
A41: 2321 | B41: 6121 | C41: Budovy, haly, stavby-rekonstrukce kanálu v ul. K Libuši-vlastní zdroje | D41: 0 | E41: 100 | F41: 16203.6 | G41: 0
A42: 2321 | B42: 6121 | C42: Budovy, haly, stavby-rekonstrukce kanálu v ul. K Libuši-vlastní zdroje-dar | D42: 0 | E42: 711.5 | F42: 711500 | G42: 0
A43: 2321 | B43: 6121 | C43: Budovy, haly, stavby-rekonstrukce kanálu v ul. K Libuši-dotace HMP | D43: 0 | E43: 2600 | F43: 2600000 | G43: 0
C44: 2016 Oprava melioračního kanálu v ul. K Libuši investiční část celkem rozpočet 3411,5 tis., skutečnost 3 327 705,7 Kč
A45: 2321 | C45: Odvádění a čištění odpadních vod | D45: =SUM(D31:D44) -> 3070 | E45: =SUM(E31:E44) -> 4660 | F45: =SUM(F31:F44) -> 4016427.5 | G45: =SUM(G31:G44) -> 205 | H45: =G45 -> 205
A47: 2334 | B47: 5139 | C47: Nákup materiálu | D47: 2 | E47: 2 | F47: 0 | G47: 5
A48: 2334 | B48: 5154 | C48: Elektrická energie-napájení čerpadla ze studny k přívodu vody do rybníka Ohrada | D48: 0 | E48: 0 | F48: 0 | G48: 5
A49: 2334 | B49: 5169 | C49: Nákup ostatních služeb | D49: 0 | E49: 0 | F49: 0 | G49: 5
A50: 2334 | B50: 5171 | C50: Opravy a udržování-běžné | D50: 15 | E50: 15 | F50: 1211 | G50: 15
A51: 2334 | B51: 5171 | C51: Opravy a udržování-samostatné vedení vody ze studny do rybníka Ohrada vč. úpravy elektroinstalace | D51: 0 | E51: 0 | F51: 0 | G51: 50
A52: 2334 | C52: Revitalizace říčních systémů a vodních ploch | D52: =SUM(D47:D51) -> 17 | E52: =SUM(E47:E51) -> 17 | F52: =SUM(F47:F51) -> 1211 | G52: =SUM(G47:G51) -> 80 | H52: =G52 -> 80
A54: 3111 | B54: 5169 | C54: Nákup ostatních služeb-přezkoumání hospodaření | D54: 25 | E54: 25 | F54: 24200 | G54: 25
A55: 3111 | B55: 5169 | C55: Nákup ostatních služeb-dokumentace k opravám povrchů na zahradě MŠ | D55: 0 | E55: 0 | F55: 0 | G55: 60
A56: 3111 | B56: 5194 | C56: Věcné dary | D56: 5 | E56: 5 | F56: 3900 | G56: 5
A57: 3111 | B57: 5331 | C57: Neinvestiční příspěvky zřízeným příspěvkovým organizacím: příspěvek MČ | D57: 1484 | E57: 1484 | F57: 1484000 | G57: 1484
A58: 3111 | B58: 5336 | C58: Neinvestiční transfery zřízeným přísp.organizacím -dotace HMP-mzdové prostředky pracovníků školství | D58: 0 | E58: =125.3+20.3 -> 145.6 | F58: =125300+20300 -> 145600 | G58: 0
A59: 3111 | B59: 5171 | C59: 2017 Oprava a udržování-oprava povrchu chodníků a výměna obrubníků na zahradě MŠ | D59: 0 | E59: 0 | F59: 0 | G59: 1050
A60: 3111 | C60: Mateřské školy | D60: =SUM(D54:D59) -> 1514 | E60: =SUM(E54:E59) -> 1659.6 | F60: =SUM(F54:F59) -> 1657700 | G60: =SUM(G54:G59) -> 2624 | H60: =G60 -> 2624
C62: Základní škola:
A63: 3113 | B63: 5137 | C63: 2016 Drobný hmotný dlouhodobý majetek-vybavení nových tříd, dotace HMP, spoluúčast k neinvestiční dotaci MŠMT - ZŠ Kunratice-rozšíření kapacity-Přístavba a nástavba učeben v objektu ZŠ Kunratice | D63: 0 | E63: 180 | F63: 0
A64: 3113 | B64: 5137 | C64: 2016 Drobný hmotný dlouhodobý majetek-vybavení nových tříd, dotace MŠMT - ZŠ Kunratice-rozšíření kapacity-přístavba a nástavba učeben v objektu ZŠ Kunratice | D64: 0 | E64: 1020 | F64: 0
A65: 3113 | B65: 5137 | C65: 2017 Drobný hmotný dlouhodobý majetek-vybavení nových tříd, vlastní zdroje (žádost o ponechání dotace HMP-spoluúčast k neinvestiční dotaci MŠMT -ZŠ Kunratice-rozšíření kapacity-přístavba a nástavba učeben v objektu ZŠ Kunratice) | G65: 180
A66: 3113 | B66: 5137 | C66: 2017 Drobný hmotný dlouhodobý majetek-vybavení nových tříd, vlastní zdroje (žádost o uvolnění neinvestiční dotace MŠMT -ZŠ Kunratice-rozšíření kapacity-přístavba a nástavba učeben v objektu ZŠ Kunratice) | G66: 0
A67: 3113 | B67: 5169 | C67: Nákup ostatních služeb-přezkoumání hospodaření a ost. služby | D67: 30 | E67: 30 | F67: 29040 | G67: 30
A68: 3113 | B68: 5194 | C68: Věcné dary | D68: 30 | E68: 30 | F68: 18937 | G68: 30
A69: 3113 | B69: 5331 | C69: Neinvestiční příspěvky zřízeným příspěvkovým organizacím: příspěvek MČ | D69: 4420 | E69: 4420 | F69: 4400000 | G69: 4400
A70: 3113 | B70: 5331 | C70: 2017 Neinvestiční příspěvky zřízeným příspěvkovým organizacím: příspěvek MČ-spolufinancování projektu Modernizace zařízení a vybavení pražských škol v případě získání dotace MŠMT | G70: 150
A71: 3113 | B71: 5336 | C71: Neinvestiční transfery zřízeným přísp.organizacím -dotace HMP:
C72: Neinvestiční dotace Grantový program primární prevence | D72: 0 | E72: 44 | F72: 44000 | G72: 0
C73: Neinvestiční dotace Asistenti pedagoga 1. a 2. pololetí | D73: 0 | E73: =357.7+43.8 -> 401.5 | F73: =357700+43800 -> 401500 | G73: 0
C74: Neinvestiční dotace-mzdové prostředky pracovníků školství | D74: 0 | E74: 374.1 | F74: 374100 | G74: 0
C75: Neinvestiční dotace-Operační program Praha-pól růstu (HMP+EU) | D75: 0 | E75: 1389 | F75: 1389000 | G75: 0
A76: 3113 | B76: 6121 | C76: Budovy, haly, stavby - Základní škola:
C77: Rok 2016: | I77: =SUM(G65:G70) -> 4790
C78: Vlastní zdroje:
C79: Rozšíření kapacity ZŠ-III. etapa-přístavba učeben | D79: 3000 | E79: =5000-4600 -> 400 | F79: =21780+24200 -> 45980
C80: Základní škola-příprava a dokumentace mimo akce Rozšíření kapacity (zateplení staré budovy) | D80: 3000 | E80: =1000-900 -> 100 | F80: 0
C81: Dotace HMP:
C82: Rozšíření kapacity ZŠ-III. etapa-přístavba učeben-ponechaná dotace HMP 2015 | D82: 0 | E82: 83.8 | F82: 83778.12
C83: Rozšíření kapacity ZŠ-III. etapa-přístavba učeben-dotace HMP 2016 16 500,0 tis. - změna účelu na 2 akce: | D83: 0 | E83: =16500-16500 -> 0 | F83: 0
C84: ZŠ Kunratice-rozšíření školní jídelny | D84: 0 | E84: 5700 | F84: =46101+60500+221430+198+199+302.5 -> 328730.5
C85: Rekonstrukce ZŠ Kunratice stará budova-zateplení, výměna oken a kotlů | D85: 0 | E85: 10800 | F85: 5000
C86: Investiční dotace HMP- spolufinancování k dotaci MŠMT-ZŠ Kunratice-rozšíření kapacity-Přístavba a nástavba učeben v objektu ZŠ Kunratice | D86: 0 | E86: 2423.8 | F86: 0
C87: Dotace MŠMT:
C88: Investiční dotace MŠMT-ZŠ Kunratice-rozšíření kapacity-Přístavba a nástavba učeben v objektu ZŠ Kunratice | D88: 0 | E88: 13735.3 | F88: =9680+15000+89056+80539.88+13310+1567586.68+1267346.1+8470 -> 3050988.7
A89: 3113 | B89: 6121 | C89: Budovy, haly, stavby - Základní škola:
C90: Rok 2017:
C91: Vlastní zdroje:
C92: ZŠ Kunratice-stavební úpravy -úprava sportovišť | G92: 1000
C93: ZŠ Kunratice-rozšíření školní jídelny | G93: 5700
C94: Rekonstrukce ZŠ Kunratice stará budova-zateplení, výměna oken a kotlů | G94: 10800
C95: Spolufinancování k dotaci MŠMT-ZŠ Kunratice-rozšíření kapacity-Přístavba a nástavba učeben v objektu ZŠ Kunratice (žádost o ponechání dotace HMP-spoluúčast k investiční dotaci MŠMT 2 423,8 tis.) | G95: 2423.8
C96: ZŠ Kunratice-rozšíření kapacity-Přístavba a nástavba učeben v objektu ZŠ Kunratice - platby za 12/2016 a 1-3/2017 (žádost o uvolnění doplatku dotace MŠMT 9 276 235,0 Kč | G96: 6576.2
C97: Dotace HMP:
C98: Žádost o ponechání dotace HMP 2 423,8 tis. Kč-spoluúčast k investiční dotaci MŠMT -ZŠ Kunratice-rozšíření kapacity-Přístavba a nástavba učeben v objektu ZŠ Kunratice | G98: 0
C99: Dotace MŠMT:
C100: Žádost o uvolnění dotace MŠMT 9 276,2 tis. Kč -ZŠ Kunratice-rozšíření kapacity-Přístavba a nástavba učeben v objektu ZŠ Kunratice | G100: 0 | I100: =SUM(G92:G98) -> 26500
A101: 3113 | C101: Základní školy celkem vč. investic | D101: =SUM(D63:D100) -> 10480 | E101: =SUM(E63:E100) -> 41131.5 | F101: =SUM(F63:F100) -> 10171054 | G101: =SUM(G63:G100) -> 31290 | H101: =G101 -> 31290
A103: 3314 | B103: 5021 | C103: Ostatní osobní výdaje | D103: 260 | E103: 260 | F103: 260000 | G103: 260
A104: 3314 | B104: 5031 | C104: Povinné pojistné na sociální zabezpečení a pol. zaměstn. | D104: 65 | E104: 65 | F104: 65000 | G104: 65
A105: 3314 | B105: 5032 | C105: Povinné pojistné na zdravotní pojištění | D105: 24 | E105: 24 | F105: 24000 | G105: 24
A106: 3314 | B106: 5136 | C106: Knihy, učební pomůcky, tisk - vlastní zdroje | D106: 35 | E106: 35 | F106: 17627 | G106: 35
C107: - dotace HMP | D107: 0 | E107: 13 | F107: 13000 | G107: 0
A108: 3314 | B108: 5137 | C108: Drobný hmotný dlouhodobý majetek | D108: 6 | E108: 6 | F108: 0 | G108: 6
...
